Uber Exif Photo
Caption-Abstract : SONY DSC
Copyright Flag : False
Image Description : SONY DSC
Make : SONY
Camera Model Name : DSLR-A700
Orientation : Horizontal (normal)
Software : Adobe Photoshop CS2 Windows
Modify Date : 2010:06:10 02:46:59
Exposure Time : 1/80
F Number : 4.5
Exposure Program : Aperture-priority AE
ISO : 100
Date/Time Original : 2009:08:20 19:10:45
Create Date : 2009:08:20 19:10:45
Shutter Speed Value : 1/80
Aperture Value : 4.5
Brightness Value : 5.75
Exposure Compensation : 0
Max Aperture Value : 4.5
Metering Mode : Spot
Light Source : Unknown
Focal Length : 60.0 mm
Color Space : sRGB
Exif Image Width : 900
Exif Image Height : 793
Scene Type : Directly photographed
Custom Rendered : Normal
Exposure Mode : Auto
White Balance : Auto
Digital Zoom Ratio : 0
Focal Length In 35mm Format : 90 mm
Scene Capture Type : Standard
Contrast : High
Saturation : Low
Sharpness : Hard
Profile Description : sRGB IEC61966-2.1
Date/Time Digitized : 2009:08:20 19:10:45-07:00
Flash Fired : False
Flash Return : No return detection
Flash Mode : Off
Flash Function : False
Flash Red Eye Mode : False
Creator Tool : Adobe Photoshop CS2 Windows
Version : 4.5
Incremental Temperature : -14
Incremental Tint : -82
Exposure : +0.38
Shadows : 25
Brightness : +21
Luminance Smoothing : 0
Color Noise Reduction : 25
Chromatic Aberration R : 0
Chromatic Aberration B : 0
Vignette Amount : -45
Vignette Midpoint : 20
Shadow Tint : 0
Red Hue : 0
Red Saturation : 0
Green Hue : 0
Green Saturation : 0
Blue Hue : 0
Blue Saturation : 0
Fill Light : 10
Vibrance : -69
Highlight Recovery : 100
Clarity : -7
Defringe : 0
Hue Adjustment Red : 0
Hue Adjustment Orange : 0
Hue Adjustment Yellow : 0
Hue Adjustment Green : 0
Hue Adjustment Aqua : 0
Hue Adjustment Blue : 0
Hue Adjustment Purple : 0
Hue Adjustment Magenta : 0
Saturation Adjustment Red : 0
Saturation Adjustment Orange : -5
Saturation Adjustment Yellow : -7
Saturation Adjustment Green : 0
Saturation Adjustment Aqua : 0
Saturation Adjustment Blue : 0
Saturation Adjustment Purple : 0
Saturation Adjustment Magenta : 0
Luminance Adjustment Red : 0
Luminance Adjustment Orange : 0
Luminance Adjustment Yellow : 0
Luminance Adjustment Green : 0
Luminance Adjustment Aqua : 0
Luminance Adjustment Blue : 0
Luminance Adjustment Purple : 0
Luminance Adjustment Magenta : 0
Split Toning Shadow Hue : 120
Split Toning Shadow Saturation : 13
Split Toning Highlight Hue : 43
Split Toning Highlight Saturation : 7
Split Toning Balance : +55
Parametric Shadows : +21
Parametric Darks : +31
Parametric Lights : +45
Parametric Highlights : +19
Parametric Shadow Split : 25
Parametric Midtone Split : 50
Parametric Highlight Split : 75
Sharpen Radius : +1.0
Sharpen Detail : 25
Sharpen Edge Masking : 0
Post Crop Vignette Amount : 0
Convert To Grayscale : False
Tone Curve Name : Medium Contrast
Camera Profile : Adobe Standard
Has Settings : True
Crop Top : 0
Crop Left : 0.05132
Crop Bottom : 1
Crop Right : 0.807918
Crop Angle : 0
Crop Width : 3232
Crop Height : 2848
Crop Unit : pixels
Has Crop : True
Already Applied : True
Tone Curve : 0, 0, 32, 22, 64, 56, 128, 128, 192, 196, 255, 255
Paint Correction What : Correction
Paint Correction Amount : 1.000000
Paint Correction Active : true
Paint Correction Exposure : 0.050000
Paint Correction Saturation : 0.000000
Paint Correction Contrast : 1.000000
Paint Correction Clarity : 1.000000
Paint Correction Sharpness : 0.000000
Paint Correction Brightness : 0.000000
Paint Correction Toning Hue : 106.000000
Paint Correction Toning Saturation : 0.000000
Paint Correction Mask What : Mask/Paint
Paint Correction Mask Value : 1.000000
Paint Correction Mask Radius : 0.054650
Paint Correction Mask Flow : 0.542000
Paint Correction Mask Center Weight : 0.138457
Gradient Based Corr What : Correction
Gradient Based Corr Amount : 1.000000
Gradient Based Corr Active : true
Gradient Based Corr Exposure : -0.100000
Gradient Based Corr Saturation : 0.000000
Gradient Based Corr Contrast : 0.000000
Gradient Based Corr Clarity : 0.000000
Gradient Based Corr Sharpness : 0.000000
Gradient Based Corr Brightness : -0.100000
Gradient Based Corr Toning Hue : 106.000000
Gradient Based Corr Toning Saturation : 0.000000
Gradient Based Corr Mask What : Mask/Gradient
Gradient Based Corr Mask Value : 1.000000
Gradient Based Corr Mask Zero X : 0.539589
Gradient Based Corr Mask Zero Y : 0.483516
Gradient Based Corr Mask Full X : 0.170088
Gradient Based Corr Mask Full Y : 0.483516
Color Mode : RGB
ICC Profile Name : sRGB IEC61966-2.1
Description : SONY DSC
Format : image/jpeg
Image Width : 300
Image Height : 264
Bits Per Sample : 8
Color Components : 3
Aperture : 4.5
Image Size : 300x264
Megapixels : 0.079
Scale Factor To 35 mm Equivalent : 1.5
Shutter Speed : 1/80
Flash : Off, Did not fire
Circle Of Confusion : 0.020 mm
Field Of View : 22.6 deg
Focal Length : 60.0 mm (35 mm equivalent: 90.0 mm)
Hyperfocal Distance : 39.94 m
Light Value : 10.7