Uber Exif Photo
Caption-Abstract : Henry's 1st Birthday
By-line : B.J. Kirkendoll
Object Name : Henry's 1st Birthday
Keywords : BJ Family
Copyright Flag : True
Image Description : Henry's 1st Birthday
Make : SONY
Camera Model Name : DSLR-A350
Orientation : Horizontal (normal)
Software : Adobe Photoshop Elements 6.0 Windows
Modify Date : 2010:06:13 16:33:12
Artist : B.J. Kirkendoll
Exposure Time : 1/60
F Number : 4.5
Exposure Program : Program AE
ISO : 400
Date/Time Original : 2010:04:03 15:13:17
Create Date : 2010:04:03 15:13:17
Shutter Speed Value : 1/60
Aperture Value : 4.5
Brightness Value : 3.37
Exposure Compensation : 0
Max Aperture Value : 4.0
Metering Mode : Multi-segment
Light Source : Unknown
Focal Length : 30.0 mm
Color Space : sRGB
Exif Image Width : 857
Exif Image Height : 1200
Scene Type : Directly photographed
Custom Rendered : Normal
Exposure Mode : Auto
White Balance : Auto
Focal Length In 35mm Format : 45 mm
Scene Capture Type : Standard
Contrast : Normal
Saturation : Normal
Sharpness : Normal
Profile Description : sRGB IEC61966-2.1
Date/Time Digitized : 2010:04:03 15:13:17-05:00
Creator Tool : Adobe Photoshop Elements 6.0 Windows
Rating : 0
Format : image/jpeg
Lens Info : 16-80mm f/3.5-4.5
Lens : DT 16-80mm F3.5-4.5 ZA
Raw File Name : DSC04295.ARW
Version : 5.6
Color Temperature : 4950
Tint : +11
Exposure : +0.15
Shadows : 0
Brightness : +66
Luminance Smoothing : 0
Color Noise Reduction : 18
Chromatic Aberration R : 0
Chromatic Aberration B : 0
Vignette Amount : 0
Shadow Tint : 0
Red Hue : 0
Red Saturation : 0
Green Hue : 0
Green Saturation : 0
Blue Hue : 0
Blue Saturation : 0
Fill Light : 35
Vibrance : +8
Highlight Recovery : 0
Clarity : +8
Defringe : 0
Hue Adjustment Red : 0
Hue Adjustment Orange : 0
Hue Adjustment Yellow : 0
Hue Adjustment Green : 0
Hue Adjustment Aqua : 0
Hue Adjustment Blue : 0
Hue Adjustment Purple : 0
Hue Adjustment Magenta : 0
Saturation Adjustment Red : 0
Saturation Adjustment Orange : 0
Saturation Adjustment Yellow : 0
Saturation Adjustment Green : 0
Saturation Adjustment Aqua : 0
Saturation Adjustment Blue : 0
Saturation Adjustment Purple : 0
Saturation Adjustment Magenta : 0
Luminance Adjustment Red : 0
Luminance Adjustment Orange : 0
Luminance Adjustment Yellow : 0
Luminance Adjustment Green : 0
Luminance Adjustment Aqua : 0
Luminance Adjustment Blue : 0
Luminance Adjustment Purple : 0
Luminance Adjustment Magenta : 0
Split Toning Shadow Hue : 0
Split Toning Shadow Saturation : 0
Split Toning Highlight Hue : 0
Split Toning Highlight Saturation : 0
Split Toning Balance : 0
Parametric Shadows : 0
Parametric Darks : 0
Parametric Lights : 0
Parametric Highlights : 0
Parametric Shadow Split : 25
Parametric Midtone Split : 50
Parametric Highlight Split : 75
Sharpen Radius : +1.0
Sharpen Detail : 25
Sharpen Edge Masking : 0
Post Crop Vignette Amount : 0
Convert To Grayscale : False
Tone Curve Name : Medium Contrast
Camera Profile : ACR 4.4
Has Settings : True
Crop Top : 0.017713
Crop Left : 0.234024
Crop Bottom : 0.950396
Crop Right : 0.677385
Crop Angle : 0
Crop Width : 5
Crop Height : 7
Crop Unit : Unknown (3)
Has Crop : True
Already Applied : True
Sidecar For Extension : ARW
Color Mode : RGB
ICC Profile Name : sRGB IEC61966-2.1
Marked : True
Flash Fired : True
Flash Return : No return detection
Flash Mode : Auto
Flash Function : False
Flash Red Eye Mode : False
Description : Henry's 1st Birthday
Subject : BJ Family
Title : Henry's 1st Birthday
Creator : B.J. Kirkendoll
Tone Curve : 0, 0, 32, 22, 64, 56, 128, 128, 192, 196, 255, 255
Image Width : 214
Image Height : 300
Bits Per Sample : 8
Color Components : 3
Aperture : 4.5
Image Size : 214x300
Megapixels : 0.064
Scale Factor To 35 mm Equivalent : 1.5
Shutter Speed : 1/60
Flash : Auto, Fired
Circle Of Confusion : 0.020 mm
Field Of View : 43.6 deg
Focal Length : 30.0 mm (35 mm equivalent: 45.0 mm)
Hyperfocal Distance : 9.98 m
Light Value : 8.2
Lens ID : Carl Zeiss Vario-Sonnar T* DT 16-80mm F3.5-4.5 ZA (SAL1680Z)