Uber Exif Photo
Caption-Abstract : SONY DSC
Image Description : SONY DSC
Make : SONY
Camera Model Name : DSLR-A200
Orientation : Horizontal (normal)
Software : ACD Systems Digital Imaging
Modify Date : 2010:06:18 17:31:15
Exposure Time : 1/80
F Number : 8.0
Exposure Program : Manual
ISO : 100
Date/Time Original : 2010:06:18 14:41:56
Create Date : 2010:06:18 14:41:56
Shutter Speed Value : 1/80
Aperture Value : 8.0
Brightness Value : 8.75
Exposure Compensation : 0
Max Aperture Value : 2.8
Metering Mode : Center-weighted average
Light Source : Unknown
Focal Length : 28.0 mm
Exif Image Width : 595
Exif Image Height : 850
Scene Type : Directly photographed
Custom Rendered : Normal
Exposure Mode : Manual
White Balance : Manual
Focal Length In 35mm Format : 42 mm
Scene Capture Type : Standard
Contrast : High
Saturation : Normal
Sharpness : Hard
Date/Time Digitized : 2010:06:18 14:41:56.0+1:00
Flash Fired : False
Flash Return : No return detection
Flash Mode : Off
Flash Function : False
Flash Red Eye Mode : False
Creator Tool : Adobe Photoshop Lightroom
Lens Info : 16-35mm f/28
Lens : 16-35mm F2.8 ZA SSM
Version : 5.5
Color Temperature : 2000
Tint : -73
Exposure : 0.00
Shadows : 5
Brightness : +50
Luminance Smoothing : 0
Color Noise Reduction : 25
Chromatic Aberration R : 0
Chromatic Aberration B : 0
Vignette Amount : 0
Shadow Tint : 0
Red Hue : 0
Red Saturation : 0
Green Hue : 0
Green Saturation : 0
Blue Hue : 0
Blue Saturation : 0
Fill Light : 0
Highlight Recovery : 0
Clarity : +100
Defringe : 0
Gray Mixer Red : -2
Gray Mixer Orange : -10
Gray Mixer Yellow : -13
Gray Mixer Green : -21
Gray Mixer Aqua : -20
Gray Mixer Blue : +2
Gray Mixer Purple : +11
Gray Mixer Magenta : +6
Split Toning Shadow Hue : 0
Split Toning Shadow Saturation : 0
Split Toning Highlight Hue : 0
Split Toning Highlight Saturation : 0
Split Toning Balance : 0
Parametric Shadows : 0
Parametric Darks : -62
Parametric Lights : +62
Parametric Highlights : 0
Parametric Shadow Split : 25
Parametric Midtone Split : 50
Parametric Highlight Split : 75
Sharpen Radius : +1.0
Sharpen Detail : 25
Sharpen Edge Masking : 0
Post Crop Vignette Amount : 0
Convert To Grayscale : True
Tone Curve Name : Medium Contrast
Camera Profile : Adobe Standard
Has Settings : True
Crop Top : 0
Crop Left : 0.043684
Crop Bottom : 1
Crop Right : 1
Crop Angle : 0
Crop Width : 3703
Crop Height : 2592
Crop Unit : pixels
Has Crop : True
Already Applied : True
Tone Curve : 0, 0, 32, 22, 64, 56, 128, 128, 192, 196, 255, 255
Gradient Based Corr What : Correction
Gradient Based Corr Amount : 1.000000
Gradient Based Corr Active : true
Gradient Based Corr Exposure : -0.075000
Gradient Based Corr Saturation : 0.000000
Gradient Based Corr Contrast : 0.000000
Gradient Based Corr Clarity : 1.000000
Gradient Based Corr Sharpness : 0.000000
Gradient Based Corr Brightness : -0.150000
Gradient Based Corr Toning Hue : 0.000000
Gradient Based Corr Toning Saturation : 0.000000
Gradient Based Corr Mask What : Mask/Gradient
Gradient Based Corr Mask Value : 1.000000
Gradient Based Corr Mask Zero X : 0.235956
Gradient Based Corr Mask Zero Y : 0.557192
Gradient Based Corr Mask Full X : 0.566278
Gradient Based Corr Mask Full Y : 0.556754
Description : SONY DSC
Image Width : 210
Image Height : 300
Bits Per Sample : 8
Color Components : 1
Aperture : 8.0
Image Size : 210x300
Megapixels : 0.063
Scale Factor To 35 mm Equivalent : 1.5
Shutter Speed : 1/80
Create Date : 2010:06:18 14:41:56.0
Date/Time Original : 2010:06:18 14:41:56.0
Modify Date : 2010:06:18 17:31:15.234
Flash : Off, Did not fire
Circle Of Confusion : 0.020 mm
Field Of View : 46.4 deg
Focal Length : 28.0 mm (35 mm equivalent: 42.0 mm)
Hyperfocal Distance : 4.89 m
Light Value : 12.3
Lens ID : 16-35mm F2.8 ZA SSM