Uber Exif Photo
Object Name : Masque
Keywords : Carl Zeiss Planar T 85mm 1.4, Carnival, Children, Longwy, Mask, Venitian Dress, nikon D90
Copyright Flag : False
Make : NIKON CORPORATION
Camera Model Name : NIKON D90
Orientation : Horizontal (normal)
Software : Adobe Photoshop Elements 7.0 Windows
Modify Date : 2010:06:27 11:38:10
Exposure Time : 1/100
Exposure Program : Manual
ISO : 200
Date/Time Original : 2009:03:01 13:44:52
Create Date : 2009:03:01 13:44:52
Shutter Speed Value : 1/100
Exposure Compensation : -11/3
Max Aperture Value : 1.0
Metering Mode : Center-weighted average
Light Source : Unknown
Color Space : Uncalibrated
Exif Image Width : 1024
Exif Image Height : 680
Sensing Method : One-chip color area
Scene Type : Directly photographed
CFA Pattern : [Green,Blue][Red,Green]
Custom Rendered : Normal
Exposure Mode : Manual
White Balance : Auto
Digital Zoom Ratio : 1
Scene Capture Type : Standard
Gain Control : None
Contrast : Normal
Saturation : Normal
Sharpness : Normal
Subject Distance Range : Unknown
Profile Description : Adobe RGB (1998)
Rating Percent : 0
Date/Time Digitized : 2009:03:01 13:44:52.00+01:00
Creator Tool : Adobe Photoshop Elements 7.0 Windows
Rating : 5
Serial Number : 6022910
Image Number : 20577
Format : image/jpeg
Raw File Name : Masque.dng
Version : 5.0
Color Temperature : 4200
Tint : -11
Exposure : +2.00
Shadows : 38
Brightness : +100
Luminance Smoothing : 0
Color Noise Reduction : 25
Chromatic Aberration R : 0
Chromatic Aberration B : 0
Vignette Amount : -94
Vignette Midpoint : 25
Shadow Tint : 0
Red Hue : 0
Red Saturation : 0
Green Hue : 0
Green Saturation : 0
Blue Hue : 0
Blue Saturation : 0
Fill Light : 100
Vibrance : +100
Highlight Recovery : 50
Clarity : +100
Defringe : 0
Hue Adjustment Red : 0
Hue Adjustment Orange : 0
Hue Adjustment Yellow : 0
Hue Adjustment Green : 0
Hue Adjustment Aqua : 0
Hue Adjustment Blue : 0
Hue Adjustment Purple : 0
Hue Adjustment Magenta : 0
Saturation Adjustment Red : 0
Saturation Adjustment Orange : 0
Saturation Adjustment Yellow : 0
Saturation Adjustment Green : 0
Saturation Adjustment Aqua : 0
Saturation Adjustment Blue : 0
Saturation Adjustment Purple : 0
Saturation Adjustment Magenta : 0
Luminance Adjustment Red : 0
Luminance Adjustment Orange : 0
Luminance Adjustment Yellow : 0
Luminance Adjustment Green : 0
Luminance Adjustment Aqua : 0
Luminance Adjustment Blue : 0
Luminance Adjustment Purple : 0
Luminance Adjustment Magenta : 0
Split Toning Shadow Hue : 48
Split Toning Shadow Saturation : 58
Split Toning Highlight Hue : 0
Split Toning Highlight Saturation : 0
Split Toning Balance : +61
Parametric Shadows : 0
Parametric Darks : 0
Parametric Lights : 0
Parametric Highlights : 0
Parametric Shadow Split : 25
Parametric Midtone Split : 50
Parametric Highlight Split : 75
Sharpen Radius : +1.0
Sharpen Detail : 25
Sharpen Edge Masking : 0
Post Crop Vignette Amount : -13
Post Crop Vignette Midpoint : 50
Post Crop Vignette Feather : 50
Post Crop Vignette Roundness : 0
Convert To Grayscale : False
Tone Curve Name : Strong Contrast
Camera Profile : ACR 4.6
Has Settings : True
Has Crop : False
Already Applied : True
Color Mode : RGB
ICC Profile Name : Adobe RGB (1998)
Flash Fired : False
Flash Return : No return detection
Flash Mode : Unknown
Flash Function : False
Flash Red Eye Mode : False
Subject : Carl Zeiss Planar T 85mm 1.4, Carnival, Children, Longwy, Mask, Venitian Dress, nikon D90
Title : Masque
Tone Curve : 0, 0, 32, 16, 64, 50, 128, 128, 192, 202, 255, 255
Gradient Based Corr What : Correction
Gradient Based Corr Amount : 1.000000
Gradient Based Corr Active : true
Gradient Based Corr Exposure : 0.000000
Gradient Based Corr Saturation : 0.000000
Gradient Based Corr Contrast : 0.000000
Gradient Based Corr Clarity : 0.000000
Gradient Based Corr Sharpness : 0.000000
Gradient Based Corr Brightness : 0.000000
Gradient Based Corr Toning Hue : 54.000000
Gradient Based Corr Toning Saturation : 0.270000
Gradient Based Corr Mask What : Mask/Gradient
Gradient Based Corr Mask Value : 1.000000
Gradient Based Corr Mask Zero X : 0.508918
Gradient Based Corr Mask Zero Y : -0.079929
Gradient Based Corr Mask Full X : 0.508918
Gradient Based Corr Mask Full Y : 1.030190
Image Width : 300
Image Height : 199
Bits Per Sample : 8
Color Components : 3
Image Size : 300x199
Megapixels : 0.060
Shutter Speed : 1/100
Create Date : 2009:03:01 13:44:52.00
Date/Time Original : 2009:03:01 13:44:52.00
Modify Date : 2010:06:27 11:38:10.734
Flash : No Flash