Uber Exif Photo
Keywords : mici
Make : Canon
Camera Model Name : Canon EOS 5D
Modify Date : 2010:07:04 01:14:51
Exposure Time : 1/180
Exposure Program : Aperture-priority AE
ISO : 400
Date/Time Original : 2009:07:02 16:29:33
Create Date : 2009:07:02 16:29:33
Shutter Speed Value : 1/180
Exposure Compensation : -1/2
Metering Mode : Unknown
Custom Rendered : Normal
Exposure Mode : Auto
White Balance : Auto
Scene Capture Type : Standard
Profile Description : sRGB IEC61966-2.1
Date/Time Digitized : 2009:07:02 16:29:33+02:00
Exif Image Width : 1800
Exif Image Height : 1200
Label : Green
Creator Tool : Adobe Photoshop Lightroom
Serial Number : 2831206167
Image Number : 17
Flash Compensation : 0
Firmware : 1.1.0
Version : 6.1
Process Version : 5.7
Color Temperature : 4150
Tint : +7
Exposure : 0.00
Shadows : 0
Brightness : 0
Contrast : +100
Saturation : 0
Sharpness : 90
Luminance Smoothing : 0
Color Noise Reduction : 25
Chromatic Aberration R : 0
Chromatic Aberration B : 0
Vignette Amount : 0
Shadow Tint : 0
Red Hue : -10
Red Saturation : +27
Green Hue : -12
Green Saturation : 0
Blue Hue : +16
Blue Saturation : +6
Fill Light : 0
Vibrance : 0
Highlight Recovery : 100
Clarity : +57
Defringe : 0
Hue Adjustment Red : 0
Hue Adjustment Orange : 0
Hue Adjustment Yellow : 0
Hue Adjustment Green : 0
Hue Adjustment Aqua : 0
Hue Adjustment Blue : 0
Hue Adjustment Purple : 0
Hue Adjustment Magenta : 0
Saturation Adjustment Red : 0
Saturation Adjustment Orange : 0
Saturation Adjustment Yellow : 0
Saturation Adjustment Green : 0
Saturation Adjustment Aqua : 0
Saturation Adjustment Blue : 0
Saturation Adjustment Purple : 0
Saturation Adjustment Magenta : 0
Luminance Adjustment Red : 0
Luminance Adjustment Orange : 0
Luminance Adjustment Yellow : 0
Luminance Adjustment Green : 0
Luminance Adjustment Aqua : 0
Luminance Adjustment Blue : 0
Luminance Adjustment Purple : 0
Luminance Adjustment Magenta : 0
Split Toning Shadow Hue : 0
Split Toning Shadow Saturation : 0
Split Toning Highlight Hue : 0
Split Toning Highlight Saturation : 0
Split Toning Balance : 0
Parametric Shadows : -57
Parametric Darks : 0
Parametric Lights : +12
Parametric Highlights : +12
Parametric Shadow Split : 10
Parametric Midtone Split : 50
Parametric Highlight Split : 75
Sharpen Radius : +0.5
Sharpen Detail : 12
Sharpen Edge Masking : 20
Post Crop Vignette Amount : 0
Grain Amount : 0
Color Noise Reduction Detail : 50
Lens Profile Enable : 0
Lens Manual Distortion Amount : 0
Perspective Vertical : 0
Perspective Horizontal : 0
Perspective Rotate : 0.0
Perspective Scale : 100
Convert To Grayscale : False
Tone Curve Name : Linear
Camera Profile : Adobe Standard
Lens Profile Setup : LensDefaults
Has Settings : True
Has Crop : False
Already Applied : True
Flash Fired : False
Flash Return : No return detection
Flash Mode : Off
Flash Function : False
Flash Red Eye Mode : False
Subject : mici
Tone Curve : 0, 0, 255, 255
Paint Correction What : Correction
Paint Correction Amount : 1.000000
Paint Correction Active : true
Paint Correction Exposure : 0.000000
Paint Correction Saturation : 0.000000
Paint Correction Contrast : 0.000000
Paint Correction Clarity : 0.707000
Paint Correction Sharpness : 0.665000
Paint Correction Brightness : 0.000000
Paint Correction Toning Hue : 0.000000
Paint Correction Toning Saturation : 0.000000
Paint Correction Mask What : Mask/Paint
Paint Correction Mask Value : 1.000000
Paint Correction Mask Radius : 0.046436
Paint Correction Mask Flow : 0.600000
Paint Correction Mask Center Weight : 0.000000
Image Width : 300
Image Height : 200
Bits Per Sample : 8
Color Components : 3
Image Size : 300x200
Megapixels : 0.060
Scale Factor To 35 mm Equivalent : 1.0
Shutter Speed : 1/180
Flash : Off, Did not fire
Circle Of Confusion : 0.030 mm