Uber Exif Photo
Keywords : mici
Make : Canon
Camera Model Name : Canon EOS 5D
Modify Date : 2010:07:04 01:04:43
Exposure Time : 1/90
Exposure Program : Aperture-priority AE
ISO : 800
Date/Time Original : 2010:07:02 15:01:44
Create Date : 2010:07:02 15:01:44
Shutter Speed Value : 1/90
Exposure Compensation : 0
Metering Mode : Unknown
Custom Rendered : Normal
Exposure Mode : Auto
White Balance : Auto
Scene Capture Type : Standard
Profile Description : sRGB IEC61966-2.1
Date/Time Digitized : 2010:07:02 15:01:44+02:00
Exif Image Width : 1700
Exif Image Height : 726
Creator Tool : Adobe Photoshop Lightroom
Serial Number : 2831206167
Image Number : 10
Flash Compensation : 0
Firmware : 1.1.0
Version : 6.1
Process Version : 5.7
Color Temperature : 5150
Tint : +11
Exposure : -0.30
Shadows : 0
Brightness : +55
Contrast : +10
Saturation : -5
Sharpness : 90
Luminance Smoothing : 0
Color Noise Reduction : 25
Chromatic Aberration R : 0
Chromatic Aberration B : 0
Vignette Amount : 0
Shadow Tint : 0
Red Hue : 0
Red Saturation : 0
Green Hue : 0
Green Saturation : 0
Blue Hue : 0
Blue Saturation : 0
Fill Light : 0
Vibrance : 0
Highlight Recovery : 0
Clarity : +15
Defringe : 0
Hue Adjustment Red : 0
Hue Adjustment Orange : 0
Hue Adjustment Yellow : 0
Hue Adjustment Green : 0
Hue Adjustment Aqua : 0
Hue Adjustment Blue : 0
Hue Adjustment Purple : 0
Hue Adjustment Magenta : 0
Saturation Adjustment Red : 0
Saturation Adjustment Orange : 0
Saturation Adjustment Yellow : 0
Saturation Adjustment Green : 0
Saturation Adjustment Aqua : 0
Saturation Adjustment Blue : 0
Saturation Adjustment Purple : 0
Saturation Adjustment Magenta : 0
Luminance Adjustment Red : 0
Luminance Adjustment Orange : 0
Luminance Adjustment Yellow : 0
Luminance Adjustment Green : 0
Luminance Adjustment Aqua : 0
Luminance Adjustment Blue : 0
Luminance Adjustment Purple : 0
Luminance Adjustment Magenta : 0
Split Toning Shadow Hue : 0
Split Toning Shadow Saturation : 0
Split Toning Highlight Hue : 0
Split Toning Highlight Saturation : 0
Split Toning Balance : 0
Parametric Shadows : -18
Parametric Darks : +40
Parametric Lights : +25
Parametric Highlights : 0
Parametric Shadow Split : 16
Parametric Midtone Split : 50
Parametric Highlight Split : 75
Sharpen Radius : +0.5
Sharpen Detail : 7
Sharpen Edge Masking : 2
Post Crop Vignette Amount : 0
Grain Amount : 0
Color Noise Reduction Detail : 50
Lens Profile Enable : 0
Lens Manual Distortion Amount : 0
Perspective Vertical : 0
Perspective Horizontal : 0
Perspective Rotate : 0.0
Perspective Scale : 100
Convert To Grayscale : False
Tone Curve Name : Linear
Camera Profile : 5d_outside_xrite_passport
Lens Profile Setup : LensDefaults
Has Settings : True
Crop Top : 0.128763
Crop Left : 0.02907
Crop Bottom : 0.847648
Crop Right : 0.972336
Crop Angle : 3.81874
Crop Constrain To Warp : 0
Crop Width : 1700
Crop Height : 726
Crop Unit : pixels
Has Crop : True
Already Applied : True
Flash Fired : False
Flash Return : No return detection
Flash Mode : Off
Flash Function : False
Flash Red Eye Mode : False
Subject : mici
Tone Curve : 0, 0, 255, 255
Image Width : 300
Image Height : 128
Bits Per Sample : 8
Color Components : 3
Image Size : 300x128
Megapixels : 0.038
Scale Factor To 35 mm Equivalent : 1.0
Shutter Speed : 1/90
Flash : Off, Did not fire
Circle Of Confusion : 0.030 mm