Uber Exif Photo
Caption-Abstract : SONY DSC
Copyright Flag : False
Image Description : SONY DSC
Make : SONY
Camera Model Name : DSLR-A900
Orientation : Horizontal (normal)
Software : Adobe Photoshop CS3 Windows
Modify Date : 2010:07:05 22:48:05
Exposure Time : 1/80
F Number : 10.0
Exposure Program : Aperture-priority AE
ISO : 100
Date/Time Original : 2008:12:29 13:09:14
Create Date : 2008:12:29 13:09:14
Shutter Speed Value : 1/80
Aperture Value : 10.0
Brightness Value : 7.5
Exposure Compensation : -0.7
Max Aperture Value : 2.8
Metering Mode : Multi-segment
Light Source : Unknown
Focal Length : 45.0 mm
Color Space : Uncalibrated
Exif Image Width : 750
Exif Image Height : 563
Scene Type : Directly photographed
Custom Rendered : Normal
Exposure Mode : Auto
White Balance : Auto
Focal Length In 35mm Format : 45 mm
Scene Capture Type : Standard
Contrast : Normal
Saturation : Normal
Sharpness : Normal
Profile Description : Adobe RGB (1998)
Date/Time Digitized : 2008:12:29 13:09:14Z
Creator Tool : Adobe Photoshop CS3 Windows
Rating : 0
Format : image/jpeg
Raw File Name : DSC09210.ARW
Version : 4.6
Color Temperature : 5800
Tint : +3
Exposure : +0.10
Shadows : 0
Brightness : +56
Luminance Smoothing : 0
Color Noise Reduction : 25
Chromatic Aberration R : 0
Chromatic Aberration B : 0
Vignette Amount : 0
Shadow Tint : 0
Red Hue : 0
Red Saturation : 0
Green Hue : 0
Green Saturation : 0
Blue Hue : 0
Blue Saturation : 0
Fill Light : 16
Vibrance : +21
Highlight Recovery : 9
Clarity : +26
Defringe : 0
Hue Adjustment Red : +37
Hue Adjustment Orange : -38
Hue Adjustment Yellow : +44
Hue Adjustment Green : +36
Hue Adjustment Aqua : -51
Hue Adjustment Blue : +24
Hue Adjustment Purple : +32
Hue Adjustment Magenta : 0
Saturation Adjustment Red : +35
Saturation Adjustment Orange : +47
Saturation Adjustment Yellow : +50
Saturation Adjustment Green : -53
Saturation Adjustment Aqua : 0
Saturation Adjustment Blue : +26
Saturation Adjustment Purple : 0
Saturation Adjustment Magenta : 0
Luminance Adjustment Red : +2
Luminance Adjustment Orange : +38
Luminance Adjustment Yellow : +39
Luminance Adjustment Green : +38
Luminance Adjustment Aqua : -35
Luminance Adjustment Blue : -21
Luminance Adjustment Purple : 0
Luminance Adjustment Magenta : 0
Split Toning Shadow Hue : 0
Split Toning Shadow Saturation : 0
Split Toning Highlight Hue : 0
Split Toning Highlight Saturation : 0
Split Toning Balance : 0
Parametric Shadows : 0
Parametric Darks : 0
Parametric Lights : 0
Parametric Highlights : 0
Parametric Shadow Split : 25
Parametric Midtone Split : 50
Parametric Highlight Split : 75
Sharpen Radius : +1.0
Sharpen Detail : 25
Sharpen Edge Masking : 0
Post Crop Vignette Amount : 0
Convert To Grayscale : False
Tone Curve Name : Medium Contrast
Camera Profile : ACR 4.6
Has Settings : True
Has Crop : False
Already Applied : True
Sidecar For Extension : ARW
Color Mode : RGB
ICC Profile Name : Adobe RGB (1998)
Flash Fired : False
Flash Return : No return detection
Flash Mode : Off
Flash Function : False
Flash Red Eye Mode : False
Description : SONY DSC
Tone Curve : 0, 0, 32, 22, 64, 56, 128, 128, 192, 196, 255, 255
Image Width : 300
Image Height : 225
Bits Per Sample : 8
Color Components : 3
Aperture : 10.0
Image Size : 300x225
Megapixels : 0.068
Scale Factor To 35 mm Equivalent : 1.0
Shutter Speed : 1/80
Flash : Off, Did not fire
Circle Of Confusion : 0.030 mm
Field Of View : 43.6 deg
Focal Length : 45.0 mm (35 mm equivalent: 45.0 mm)
Hyperfocal Distance : 6.74 m
Light Value : 13.0