Uber Exif Photo
Keywords : Contax G2, Ijmuiden, Kodak 160VC
Make : FUJI PHOTO FILM CO., LTD.
Camera Model Name : SP-3000
Software : FDi V4.5 / FRONTIER355/375-1.8-0E-007
Modify Date : 2010:07:10 14:13:30
Create Date : 2009:09:01 13:25:36
Scene Type : Directly photographed
Profile Description : sRGB IEC61966-2.1
Date/Time Digitized : 2009:09:01 13:25:36+02:00
Exif Image Width : 1000
Exif Image Height : 733
Creator Tool : Adobe Photoshop Lightroom
Version : 6.1
Process Version : 5.0
White Balance : As Shot
Incremental Temperature : 0
Incremental Tint : 0
Exposure : 0.00
Shadows : 6
Brightness : 0
Contrast : +29
Saturation : 0
Sharpness : 43
Luminance Smoothing : 83
Color Noise Reduction : 0
Chromatic Aberration R : 0
Chromatic Aberration B : 0
Vignette Amount : 0
Shadow Tint : 0
Red Hue : 0
Red Saturation : 0
Green Hue : 0
Green Saturation : 0
Blue Hue : 0
Blue Saturation : 0
Fill Light : 0
Vibrance : 0
Highlight Recovery : 15
Clarity : +45
Defringe : 0
Hue Adjustment Red : 0
Hue Adjustment Orange : 0
Hue Adjustment Yellow : 0
Hue Adjustment Green : 0
Hue Adjustment Aqua : 0
Hue Adjustment Blue : 0
Hue Adjustment Purple : 0
Hue Adjustment Magenta : 0
Saturation Adjustment Red : 0
Saturation Adjustment Orange : 0
Saturation Adjustment Yellow : 0
Saturation Adjustment Green : 0
Saturation Adjustment Aqua : 0
Saturation Adjustment Blue : 0
Saturation Adjustment Purple : 0
Saturation Adjustment Magenta : 0
Luminance Adjustment Red : 0
Luminance Adjustment Orange : 0
Luminance Adjustment Yellow : 0
Luminance Adjustment Green : 0
Luminance Adjustment Aqua : 0
Luminance Adjustment Blue : 0
Luminance Adjustment Purple : 0
Luminance Adjustment Magenta : 0
Split Toning Shadow Hue : 0
Split Toning Shadow Saturation : 0
Split Toning Highlight Hue : 0
Split Toning Highlight Saturation : 0
Split Toning Balance : 0
Parametric Shadows : 0
Parametric Darks : 0
Parametric Lights : 0
Parametric Highlights : 0
Parametric Shadow Split : 25
Parametric Midtone Split : 50
Parametric Highlight Split : 75
Sharpen Radius : +1.0
Sharpen Detail : 25
Sharpen Edge Masking : 0
Post Crop Vignette Amount : 0
Grain Amount : 0
Lens Profile Enable : 0
Lens Manual Distortion Amount : 0
Perspective Vertical : 0
Perspective Horizontal : 0
Perspective Rotate : 0.0
Perspective Scale : 100
Convert To Grayscale : False
Tone Curve Name : Linear
Camera Profile : Embedded
Lens Profile Setup : LensDefaults
Has Settings : True
Crop Top : 0
Crop Left : 0.003754
Crop Bottom : 0.999556
Crop Right : 0.911045
Crop Angle : 0.2
Crop Constrain To Warp : 0
Crop Width : 1000
Crop Height : 733
Crop Unit : pixels
Has Crop : True
Already Applied : True
Subject : Contax G2, Ijmuiden, Kodak 160VC
Tone Curve : 0, 0, 255, 255
Image Width : 300
Image Height : 220
Bits Per Sample : 8
Color Components : 3
Image Size : 300x220
Megapixels : 0.066