Uber Exif Photo
By-line : Photographer: Cain Pascoe
Copyright Notice : Copyright: (c) Cain Pascoe 2009
Make : Canon
Camera Model Name : Canon EOS 5D Mark II
Orientation : Horizontal (normal)
Software : Adobe Photoshop CS4 Windows
Modify Date : 2010:06:27 20:00:40
Artist : Photographer: Cain Pascoe
Copyright : Copyright: (c) Cain Pascoe 2009
Exposure Time : 1/1600
Exposure Program : Aperture-priority AE
ISO : 50
Date/Time Original : 2009:11:12 11:41:19
Create Date : 2009:11:12 11:41:19
Shutter Speed Value : 1/1600
Exposure Compensation : -2/3
Metering Mode : Multi-segment
Focal Length : 50.0 mm
Color Space : sRGB
Exif Image Width : 800
Exif Image Height : 534
Custom Rendered : Normal
Exposure Mode : Auto
White Balance : Auto
Scene Capture Type : Standard
GPS Version ID : 2.2.0.0
Creator Tool : Adobe Photoshop CS4 Windows
Rating : 0
Format : image/jpeg
Date/Time Digitized : 2009:11:12 11:41:19+11:00
F Number : 0
Aperture Value : Inf
Color Mode : RGB
ICC Profile Name : sRGB IEC61966-2.1
Raw File Name : IMG_3933.JPG
Version : 5.4
Incremental Temperature : -100
Incremental Tint : -100
Exposure : +0.19
Shadows : 25
Brightness : +77
Contrast : +25
Saturation : -16
Sharpness : 0
Luminance Smoothing : 0
Color Noise Reduction : 0
Chromatic Aberration R : 0
Chromatic Aberration B : 0
Vignette Amount : 0
Shadow Tint : 0
Red Hue : -100
Red Saturation : -2
Green Hue : +100
Green Saturation : -21
Blue Hue : +93
Blue Saturation : +39
Fill Light : 0
Vibrance : -97
Highlight Recovery : 100
Clarity : 0
Defringe : 0
Hue Adjustment Red : 0
Hue Adjustment Orange : 0
Hue Adjustment Yellow : 0
Hue Adjustment Green : 0
Hue Adjustment Aqua : 0
Hue Adjustment Blue : 0
Hue Adjustment Purple : 0
Hue Adjustment Magenta : 0
Saturation Adjustment Red : -100
Saturation Adjustment Orange : -100
Saturation Adjustment Yellow : -100
Saturation Adjustment Green : -100
Saturation Adjustment Aqua : -100
Saturation Adjustment Blue : -100
Saturation Adjustment Purple : -100
Saturation Adjustment Magenta : -99
Luminance Adjustment Red : 0
Luminance Adjustment Orange : 0
Luminance Adjustment Yellow : 0
Luminance Adjustment Green : 0
Luminance Adjustment Aqua : 0
Luminance Adjustment Blue : 0
Luminance Adjustment Purple : 0
Luminance Adjustment Magenta : 0
Split Toning Shadow Hue : 230
Split Toning Shadow Saturation : 0
Split Toning Highlight Hue : 210
Split Toning Highlight Saturation : 0
Split Toning Balance : 0
Parametric Shadows : -43
Parametric Darks : -39
Parametric Lights : -7
Parametric Highlights : +20
Parametric Shadow Split : 25
Parametric Midtone Split : 50
Parametric Highlight Split : 75
Sharpen Radius : +1.0
Sharpen Detail : 25
Sharpen Edge Masking : 0
Post Crop Vignette Amount : 0
Convert To Grayscale : False
Tone Curve Name : Medium Contrast
Camera Profile : Embedded
Has Settings : True
Crop Top : 0
Crop Left : 0
Crop Bottom : 1
Crop Right : 1
Crop Angle : 0
Has Crop : True
Already Applied : True
Creator : Photographer: Cain Pascoe
Rights : Copyright: (c) Cain Pascoe 2009
Flash Fired : False
Flash Return : No return detection
Flash Mode : Off
Flash Function : False
Flash Red Eye Mode : False
Tone Curve : 0, 0, 32, 22, 64, 56, 128, 128, 192, 196, 255, 255
Image Width : 300
Image Height : 200
Bits Per Sample : 8
Color Components : 1
Aperture : Inf
Image Size : 300x200
Megapixels : 0.060
Scale Factor To 35 mm Equivalent : 1.0
Shutter Speed : 1/1600
Flash : Off, Did not fire
Circle Of Confusion : 0.031 mm
Field Of View : 40.5 deg
Focal Length : 50.0 mm (35 mm equivalent: 48.8 mm)
Hyperfocal Distance : Inf m