Uber Exif Photo
Photometric Interpretation : RGB
Make : Canon
Camera Model Name : Canon EOS 5D Mark II
Orientation : Horizontal (normal)
Samples Per Pixel : 3
Planar Configuration : Chunky
Software : Adobe Photoshop CS4 Windows
Modify Date : 2010:07:13 13:25:11
Exposure Time : 1/4
F Number : 16.0
Exposure Program : Aperture-priority AE
ISO : 100
Date/Time Original : 2010:04:17 05:04:51
Create Date : 2010:04:17 05:04:51
Shutter Speed Value : 1/4
Aperture Value : 16.0
Exposure Compensation : +1
Max Aperture Value : 2.8
Metering Mode : Multi-segment
Focal Length : 21.0 mm
Color Space : sRGB
Exif Image Width : 1890
Exif Image Height : 1259
Custom Rendered : Normal
Exposure Mode : Auto
White Balance : Manual
Scene Capture Type : Standard
Profile Description : sRGB IEC61966-2.1
Date/Time Digitized : 2010:04:17 05:04:51.90+01:00
Creator Tool : Adobe Photoshop Lightroom
Label :
Rating : 0
Serial Number : 330221719
Lens Info : 21mm f/?
Lens : Zeiss Distagon T* 2.8/21 ZE
Image Number : 0
Flash Compensation : 0
Firmware : 1.0.6
Raw File Name : Alnwick Sharpened (1 of 1)-Edit.tif
Version : 5.0
Incremental Temperature : 0
Incremental Tint : 0
Exposure : 0.00
Shadows : 0
Brightness : 0
Contrast : +8
Sharpness : 25
Luminance Smoothing : 0
Color Noise Reduction : 25
Chromatic Aberration R : 0
Chromatic Aberration B : 0
Vignette Amount : -100
Vignette Midpoint : 40
Shadow Tint : +4
Red Hue : +23
Red Saturation : +10
Green Hue : +16
Green Saturation : +51
Blue Hue : +11
Blue Saturation : -21
Fill Light : 0
Highlight Recovery : 0
Clarity : 0
Defringe : 0
Gray Mixer Red : +34
Gray Mixer Orange : +8
Gray Mixer Yellow : -12
Gray Mixer Green : 0
Gray Mixer Aqua : +2
Gray Mixer Blue : +19
Gray Mixer Purple : +25
Gray Mixer Magenta : +30
Split Toning Shadow Hue : 240
Split Toning Shadow Saturation : 29
Split Toning Highlight Hue : 215
Split Toning Highlight Saturation : 32
Split Toning Balance : 0
Parametric Shadows : 0
Parametric Darks : 0
Parametric Lights : -2
Parametric Highlights : 0
Parametric Shadow Split : 25
Parametric Midtone Split : 50
Parametric Highlight Split : 75
Sharpen Radius : +1.0
Sharpen Detail : 25
Sharpen Edge Masking : 0
Post Crop Vignette Amount : 0
Convert To Grayscale : True
Tone Curve Name : Linear
Camera Profile : Embedded
Has Settings : True
Crop Top : 0
Crop Left : 0.014801
Crop Bottom : 1
Crop Right : 0.985199
Crop Angle : 0.799138
Has Crop : True
Already Applied : True
Format : image/jpeg
Color Mode : RGB
ICC Profile Name : sRGB IEC61966-2.1
Flash Fired : False
Flash Return : No return detection
Flash Mode : Off
Flash Function : False
Flash Red Eye Mode : False
Tone Curve : 0, 0, 255, 255
Image Width : 300
Image Height : 200
Bits Per Sample : 8
Color Components : 3
Aperture : 16.0
Image Size : 300x200
Megapixels : 0.060
Scale Factor To 35 mm Equivalent : 1.0
Shutter Speed : 1/4
Create Date : 2010:04:17 05:04:51.90
Date/Time Original : 2010:04:17 05:04:51.90
Flash : Off, Did not fire
Circle Of Confusion : 0.031 mm
Field Of View : 82.6 deg
Focal Length : 21.0 mm (35 mm equivalent: 20.5 mm)
Hyperfocal Distance : 0.90 m
Light Value : 10.0
Lens ID : Carl Zeiss Distagon T* 21mm f/2.8 ZE