Uber Exif Photo
Copyright Flag : False
Photometric Interpretation : RGB
Make : Canon
Camera Model Name : Canon EOS 7D
Orientation : Horizontal (normal)
Samples Per Pixel : 3
Planar Configuration : Chunky
Software : Adobe Photoshop CS3 Macintosh
Modify Date : 2010:07:19 09:41:47
Exposure Time : 1/125
Exposure Program : Manual
ISO : 200
Date/Time Original : 2010:07:08 17:14:58
Create Date : 2010:07:08 17:14:58
Shutter Speed Value : 1/125
Exposure Compensation : 0
Metering Mode : Multi-segment
Focal Length : 50.0 mm
Color Space : Uncalibrated
Exif Image Width : 797
Exif Image Height : 1200
Custom Rendered : Normal
Exposure Mode : Manual
White Balance : Manual
Scene Capture Type : Standard
Profile Description : Adobe RGB (1998)
Date/Time Digitized : 2010:07:08 17:14:58.18+12:00
Creator Tool : Adobe Photoshop CS3 Macintosh
Rating : 0
Serial Number : 280106558
Image Number : 0
Flash Compensation : 0
Firmware : 1.2.1
Raw File Name : IMG_7747.dng
Version : 4.6
Color Temperature : 6200
Tint : +12
Exposure : -0.25
Shadows : 5
Brightness : +72
Contrast : +25
Saturation : 0
Sharpness : 53
Luminance Smoothing : 60
Color Noise Reduction : 42
Chromatic Aberration R : 0
Chromatic Aberration B : 0
Vignette Amount : 0
Shadow Tint : 0
Red Hue : 0
Red Saturation : 0
Green Hue : 0
Green Saturation : 0
Blue Hue : 0
Blue Saturation : 0
Fill Light : 9
Vibrance : +20
Highlight Recovery : 33
Clarity : +75
Defringe : 0
Hue Adjustment Red : 0
Hue Adjustment Orange : 0
Hue Adjustment Yellow : 0
Hue Adjustment Green : 0
Hue Adjustment Aqua : 0
Hue Adjustment Blue : 0
Hue Adjustment Purple : 0
Hue Adjustment Magenta : 0
Saturation Adjustment Red : 0
Saturation Adjustment Orange : 0
Saturation Adjustment Yellow : 0
Saturation Adjustment Green : 0
Saturation Adjustment Aqua : 0
Saturation Adjustment Blue : 0
Saturation Adjustment Purple : 0
Saturation Adjustment Magenta : 0
Luminance Adjustment Red : 0
Luminance Adjustment Orange : 0
Luminance Adjustment Yellow : 0
Luminance Adjustment Green : 0
Luminance Adjustment Aqua : 0
Luminance Adjustment Blue : 0
Luminance Adjustment Purple : 0
Luminance Adjustment Magenta : 0
Split Toning Shadow Hue : 0
Split Toning Shadow Saturation : 0
Split Toning Highlight Hue : 0
Split Toning Highlight Saturation : 0
Split Toning Balance : 0
Parametric Shadows : 0
Parametric Darks : 0
Parametric Lights : 0
Parametric Highlights : 0
Parametric Shadow Split : 25
Parametric Midtone Split : 50
Parametric Highlight Split : 75
Sharpen Radius : +1.2
Sharpen Detail : 25
Sharpen Edge Masking : 24
Post Crop Vignette Amount : 0
Convert To Grayscale : False
Tone Curve Name : Medium Contrast
Camera Profile : Camera Portrait
Has Settings : True
Has Crop : False
Already Applied : True
Format : image/jpeg
Color Mode : RGB
ICC Profile Name : Adobe RGB (1998)
Flash Fired : False
Flash Return : No return detection
Flash Mode : Off
Flash Function : False
Flash Red Eye Mode : False
Tone Curve : 0, 0, 32, 22, 64, 56, 128, 128, 192, 196, 255, 255
Image Width : 199
Image Height : 300
Bits Per Sample : 8
Color Components : 3
Image Size : 199x300
Megapixels : 0.060
Scale Factor To 35 mm Equivalent : 1.6
Shutter Speed : 1/125
Create Date : 2010:07:08 17:14:58.18
Date/Time Original : 2010:07:08 17:14:58.18
Modify Date : 2010:07:19 09:41:47.18
Flash : Off, Did not fire
Circle Of Confusion : 0.019 mm
Field Of View : 25.8 deg
Focal Length : 50.0 mm (35 mm equivalent: 78.5 mm)