Uber Exif Photo
By-line : Bev Ward
By-line Title : photographer
Copyright Notice : Bev Ward
Copyright Flag : True
Make : SONY
Camera Model Name : DSLR-A900
Software : DSLR-A900 v1.00
Modify Date : 2010:07:22 18:49:59
Artist : Bev Ward
Copyright : Bev Ward
Exposure Time : 0.6
F Number : 13.0
Exposure Program : Manual
ISO : 200
Date/Time Original : 2010:03:04 07:46:35
Create Date : 2010:03:04 07:46:35
Shutter Speed Value : 0.6
Aperture Value : 13.0
Brightness Value : 0.62
Exposure Compensation : 0
Max Aperture Value : 2.8
Metering Mode : Multi-segment
Light Source : Unknown
Focal Length : 70.0 mm
Scene Type : Directly photographed
Custom Rendered : Normal
Exposure Mode : Manual
White Balance : Auto
Focal Length In 35mm Format : 70 mm
Scene Capture Type : Standard
Contrast : Normal
Saturation : Normal
Sharpness : Normal
Profile Description : sRGB IEC61966-2.1
Date/Time Digitized : 2010:03:04 07:46:35Z
Exif Image Width : 1500
Exif Image Height : 1445
Creator Tool : Adobe Photoshop Lightroom
Lens Info : 24-70mm f/28
Lens : 24-70mm F2.8 ZA SSM
Marked : True
Authors Position : photographer
Version : 5.7
Color Temperature : 4700
Tint : +2
Exposure : +0.49
Shadows : 5
Brightness : +50
Luminance Smoothing : 0
Color Noise Reduction : 46
Chromatic Aberration R : 0
Chromatic Aberration B : 0
Vignette Amount : 0
Shadow Tint : 0
Red Hue : 0
Red Saturation : 0
Green Hue : 0
Green Saturation : 0
Blue Hue : 0
Blue Saturation : 0
Fill Light : 79
Vibrance : +8
Highlight Recovery : 12
Clarity : +38
Defringe : 0
Hue Adjustment Red : 0
Hue Adjustment Orange : 0
Hue Adjustment Yellow : 0
Hue Adjustment Green : 0
Hue Adjustment Aqua : 0
Hue Adjustment Blue : 0
Hue Adjustment Purple : 0
Hue Adjustment Magenta : 0
Saturation Adjustment Red : 0
Saturation Adjustment Orange : 0
Saturation Adjustment Yellow : 0
Saturation Adjustment Green : 0
Saturation Adjustment Aqua : 0
Saturation Adjustment Blue : 0
Saturation Adjustment Purple : 0
Saturation Adjustment Magenta : 0
Luminance Adjustment Red : 0
Luminance Adjustment Orange : 0
Luminance Adjustment Yellow : 0
Luminance Adjustment Green : 0
Luminance Adjustment Aqua : 0
Luminance Adjustment Blue : 0
Luminance Adjustment Purple : 0
Luminance Adjustment Magenta : 0
Split Toning Shadow Hue : 0
Split Toning Shadow Saturation : 0
Split Toning Highlight Hue : 0
Split Toning Highlight Saturation : 0
Split Toning Balance : 0
Parametric Shadows : 0
Parametric Darks : 0
Parametric Lights : 0
Parametric Highlights : 0
Parametric Shadow Split : 25
Parametric Midtone Split : 50
Parametric Highlight Split : 75
Sharpen Radius : +1.0
Sharpen Detail : 25
Sharpen Edge Masking : 0
Post Crop Vignette Amount : 0
Convert To Grayscale : False
Tone Curve Name : Medium Contrast
Camera Profile : Adobe Standard
Has Settings : True
Crop Top : 0
Crop Left : 0.086207
Crop Bottom : 0.827586
Crop Right : 0.659004
Crop Angle : 0
Crop Width : 1500
Crop Height : 1445
Crop Unit : pixels
Has Crop : True
Already Applied : True
Flash Fired : False
Flash Return : No return detection
Flash Mode : Off
Flash Function : False
Flash Red Eye Mode : False
Description :
Creator : Bev Ward
Rights : Bev Ward
Creator Postal Code : ng51hd
Creator Work Email : beverley.ward47@ntlworld.com
Creator Address : 65 wynndale drive
Creator City : nottingham
Creator Work URL : formatphotography.co.uk
Tone Curve : 0, 0, 32, 22, 64, 56, 128, 128, 192, 196, 255, 255
Image Width : 300
Image Height : 289
Bits Per Sample : 8
Color Components : 3
Aperture : 13.0
Image Size : 300x289
Megapixels : 0.087
Scale Factor To 35 mm Equivalent : 1.0
Shutter Speed : 0.6
Flash : Off, Did not fire
Circle Of Confusion : 0.030 mm
Field Of View : 28.8 deg
Focal Length : 70.0 mm (35 mm equivalent: 70.0 mm)
Hyperfocal Distance : 12.54 m
Light Value : 7.1
Lens ID : Carl Zeiss Vario-Sonnar T* 24-70mm F2.8 ZA SSM (SAL2470Z) or Carl Zeiss Vario-Sonnar T* 24-70mm F2.8 ZA SSM II (SAL2470Z2) or Tamron SP 24-70mm F2.8 Di USD