Uber Exif Photo
Caption-Abstract : KONICA MINOLTA DIGITAL CAMERA
By-line : £ukasz Cyrus
Province-State : Œlask
Country-Primary Location Name : Poland
Copyright Notice : £ukasz Cyrus
Copyright Flag : True
URL : www.shutter12.blogspot.com
Image Description : KONICA MINOLTA DIGITAL CAMERA
Make : KONICA MINOLTA
Camera Model Name : DYNAX 7D
Orientation : Horizontal (normal)
Software : Adobe Photoshop 7.0
Modify Date : 2010:07:23 23:34:02
Artist : ukasz Cyrus
Copyright : ukasz Cyrus
Exposure Time : 1/250
F Number : 1.7
Exposure Program : Aperture-priority AE
ISO : 100
Date/Time Original : 2010:07:23 20:49:26
Create Date : 2010:07:23 20:49:26
Shutter Speed Value : 1/250
Aperture Value : 1.7
Brightness Value : 4.75
Exposure Compensation : +0.3
Max Aperture Value : 1.7
Metering Mode : Center-weighted average
Light Source : Unknown
Focal Length : 50.0 mm
Subject Area : 1504 1000 3008 2000
Color Space : Uncalibrated
Exif Image Width : 1000
Exif Image Height : 665
Custom Rendered : Normal
Exposure Mode : Auto
White Balance : Auto
Digital Zoom Ratio : 0
Focal Length In 35mm Format : 75 mm
Scene Capture Type : Standard
Gain Control : None
Contrast : Normal
Saturation : Normal
Sharpness : Normal
Creator Postal Code : 41-705
Creator Work Email : bestway1@neostrada.pl
Creator Work Telephone : +48506818872
Creator Region : Ślask
Creator Country : Poland
Creator City : Ruda Ślaska
Creator Address : Słowików 16
Creator Work URL : www.shutter12.blogspot.com
Version : 5.7
Color Temperature : 4000
Tint : +3
Exposure : 0.00
Shadows : 5
Brightness : +50
Luminance Smoothing : 0
Color Noise Reduction : 25
Chromatic Aberration R : 0
Chromatic Aberration B : 0
Vignette Amount : 0
Shadow Tint : 0
Red Hue : 0
Red Saturation : 0
Green Hue : 0
Green Saturation : 0
Blue Hue : 0
Blue Saturation : 0
Fill Light : 0
Vibrance : -21
Highlight Recovery : 0
Clarity : 0
Defringe : 0
Hue Adjustment Red : 0
Hue Adjustment Orange : 0
Hue Adjustment Yellow : 0
Hue Adjustment Green : 0
Hue Adjustment Aqua : 0
Hue Adjustment Blue : 0
Hue Adjustment Purple : 0
Hue Adjustment Magenta : 0
Saturation Adjustment Red : 0
Saturation Adjustment Orange : 0
Saturation Adjustment Yellow : 0
Saturation Adjustment Green : 0
Saturation Adjustment Aqua : 0
Saturation Adjustment Blue : 0
Saturation Adjustment Purple : 0
Saturation Adjustment Magenta : 0
Luminance Adjustment Red : 0
Luminance Adjustment Orange : 0
Luminance Adjustment Yellow : 0
Luminance Adjustment Green : 0
Luminance Adjustment Aqua : 0
Luminance Adjustment Blue : 0
Luminance Adjustment Purple : 0
Luminance Adjustment Magenta : 0
Split Toning Shadow Hue : 237
Split Toning Shadow Saturation : 37
Split Toning Highlight Hue : 200
Split Toning Highlight Saturation : 16
Split Toning Balance : +88
Parametric Shadows : 0
Parametric Darks : 0
Parametric Lights : +50
Parametric Highlights : 0
Parametric Shadow Split : 25
Parametric Midtone Split : 50
Parametric Highlight Split : 75
Sharpen Radius : +1.0
Sharpen Detail : 25
Sharpen Edge Masking : 0
Post Crop Vignette Amount : 0
Convert To Grayscale : False
Tone Curve Name : Medium Contrast
Tone Curve : 0, 0, 32, 22, 64, 56, 128, 128, 192, 196, 255, 255
Camera Profile : ACR 2.4
Gradient Based Corr What : Correction
Gradient Based Corr Amount : 1.000000
Gradient Based Corr Active : true
Gradient Based Corr Exposure : 0.075000
Gradient Based Corr Saturation : 0.000000
Gradient Based Corr Contrast : 0.000000
Gradient Based Corr Clarity : 0.000000
Gradient Based Corr Sharpness : 0.000000
Gradient Based Corr Brightness : 0.000000
Gradient Based Corr Toning Hue : 60.000000
Gradient Based Corr Toning Saturation : 0.000000
Gradient Based Corr Mask What : Mask/Gradient
Gradient Based Corr Mask Value : 1.000000
Gradient Based Corr Mask Zero X : 0.380020
Gradient Based Corr Mask Zero Y : 0.556701
Gradient Based Corr Mask Full X : 0.299706
Gradient Based Corr Mask Full Y : 0.169367
Has Settings : True
Has Crop : False
Already Applied : True
Date/Time Digitized : 2010:07:23 20:49:26+02:00
Flash Fired : False
Flash Return : No return detection
Flash Mode : Off
Flash Function : False
Flash Red Eye Mode : False
Flash Compensation : 0
Date Created : 2009:12:29
City : Ruda Ślaska
Country : Poland
State : Ślask
Samples Per Pixel : 3
Photometric Interpretation : RGB
Creator Tool : Adobe Photoshop Lightroom
Marked : True
Web Statement : www.shutter12.blogspot.com
Description : KONICA MINOLTA DIGITAL CAMERA
Creator : Łukasz Cyrus
Rights : Łukasz Cyrus
Image Width : 300
Image Height : 200
Bits Per Sample : 8
Color Components : 3
Aperture : 1.7
Image Size : 300x200
Megapixels : 0.060
Scale Factor To 35 mm Equivalent : 1.5
Shutter Speed : 1/250
Flash : Off, Did not fire
Circle Of Confusion : 0.020 mm
Field Of View : 27.0 deg
Focal Length : 50.0 mm (35 mm equivalent: 75.0 mm)
Hyperfocal Distance : 73.42 m
Light Value : 9.5