Uber Exif Photo
Orientation : Horizontal (normal)
Software : Adobe Photoshop CS4 Macintosh
Modify Date : 2010:07:23 18:42:04
Color Space : sRGB
Exif Image Width : 748
Exif Image Height : 750
Profile Description : sRGB IEC61966-2.1
Create Date : 2009:06:15 17:49:19-04:00
Label : Second
Already Applied : True
Has Crop : True
Crop Angle : -0.149078
Crop Right : 0.994279
Crop Bottom : 0.991726
Crop Left : 0.013589
Crop Top : 0.016083
Has Settings : True
Camera Profile : Embedded
Tone Curve Name : Linear
Convert To Grayscale : False
Post Crop Vignette Amount : 0
Sharpen Edge Masking : 0
Sharpen Detail : 40
Sharpen Radius : +0.5
Parametric Highlight Split : 75
Parametric Midtone Split : 50
Parametric Shadow Split : 25
Parametric Highlights : 0
Parametric Lights : 0
Parametric Darks : 0
Parametric Shadows : 0
Split Toning Balance : 0
Split Toning Highlight Saturation : 0
Split Toning Highlight Hue : 0
Split Toning Shadow Saturation : 0
Split Toning Shadow Hue : 0
Luminance Adjustment Magenta : 0
Luminance Adjustment Purple : 0
Luminance Adjustment Blue : 0
Luminance Adjustment Aqua : 0
Luminance Adjustment Green : 0
Luminance Adjustment Yellow : 0
Luminance Adjustment Orange : 0
Luminance Adjustment Red : 0
Saturation Adjustment Magenta : 0
Saturation Adjustment Purple : 0
Saturation Adjustment Blue : 0
Saturation Adjustment Aqua : 0
Saturation Adjustment Green : -15
Saturation Adjustment Yellow : 0
Saturation Adjustment Orange : 0
Saturation Adjustment Red : -10
Hue Adjustment Magenta : 0
Hue Adjustment Purple : 0
Hue Adjustment Blue : 0
Hue Adjustment Aqua : 0
Hue Adjustment Green : 0
Hue Adjustment Yellow : 0
Hue Adjustment Orange : 0
Hue Adjustment Red : 0
Defringe : 0
Clarity : +30
Highlight Recovery : 0
Vibrance : 0
Fill Light : 0
Blue Saturation : 0
Blue Hue : 0
Green Saturation : 0
Green Hue : 0
Red Saturation : 0
Red Hue : 0
Shadow Tint : 0
Vignette Amount : 0
Chromatic Aberration B : 0
Chromatic Aberration R : 0
Color Noise Reduction : 100
Luminance Smoothing : 0
Sharpness : 30
Saturation : 0
Contrast : 0
Brightness : +20
Shadows : 4
Exposure : +0.30
Incremental Tint : +4
Incremental Temperature : -8
White Balance : Custom
Version : 5.3
Raw File Name : 031509r01f08_kearnyR.tif
Format : image/jpeg
ICC Profile Name : sRGB IEC61966-2.1
Color Mode : RGB
Preserved File Name : 031509r01f08_kearny_.jpg
Gradient Based Corr What : Correction
Gradient Based Corr Amount : 1.000000
Gradient Based Corr Active : true
Gradient Based Corr Exposure : -0.075000
Gradient Based Corr Saturation : 0.000000
Gradient Based Corr Contrast : 0.300000
Gradient Based Corr Clarity : 0.000000
Gradient Based Corr Sharpness : 0.000000
Gradient Based Corr Brightness : 0.000000
Gradient Based Corr Toning Hue : 0.000000
Gradient Based Corr Toning Saturation : 0.000000
Gradient Based Corr Mask What : Mask/Gradient
Gradient Based Corr Mask Value : 1.000000
Gradient Based Corr Mask Zero X : 0.520342
Gradient Based Corr Mask Zero Y : 0.409054
Gradient Based Corr Mask Full X : 0.545650
Gradient Based Corr Mask Full Y : 0.618257
Tone Curve : 0, 0, 255, 255
Image Width : 299
Image Height : 300
Bits Per Sample : 8
Color Components : 3
Image Size : 299x300
Megapixels : 0.090