Uber Exif Photo
Copyright Notice : © 2009 Mike Peters 973 809 4762
Copyright Flag : True
Orientation : Horizontal (normal)
Software : Adobe Photoshop CS4 Macintosh
Modify Date : 2010:07:23 18:41:34
Copyright : © 2009 Mike Peters 973 809 4762
Color Space : sRGB
Exif Image Width : 739
Exif Image Height : 750
Profile Description : sRGB IEC61966-2.1
Format : image/jpeg
Label : Select
Create Date : 2006:07:30 19:07:17-04:00
Creator Tool : Adobe Photoshop CS2 Macintosh
Preserved File Name : 062306r5f4 nyc.jpg
Already Applied : True
Has Crop : False
Has Settings : True
Camera Profile : Embedded
Tone Curve Name : Linear
Convert To Grayscale : False
Post Crop Vignette Amount : 0
Sharpen Edge Masking : 0
Sharpen Detail : 0
Sharpen Radius : +0.5
Parametric Highlight Split : 75
Parametric Midtone Split : 50
Parametric Shadow Split : 25
Parametric Highlights : 0
Parametric Lights : 0
Parametric Darks : 0
Parametric Shadows : 0
Split Toning Balance : 0
Split Toning Highlight Saturation : 0
Split Toning Highlight Hue : 0
Split Toning Shadow Saturation : 0
Split Toning Shadow Hue : 0
Luminance Adjustment Magenta : 0
Luminance Adjustment Purple : 0
Luminance Adjustment Blue : 0
Luminance Adjustment Aqua : 0
Luminance Adjustment Green : 0
Luminance Adjustment Yellow : 0
Luminance Adjustment Orange : 0
Luminance Adjustment Red : 0
Saturation Adjustment Magenta : 0
Saturation Adjustment Purple : 0
Saturation Adjustment Blue : -20
Saturation Adjustment Aqua : 0
Saturation Adjustment Green : 0
Saturation Adjustment Yellow : 0
Saturation Adjustment Orange : -20
Saturation Adjustment Red : -20
Hue Adjustment Magenta : 0
Hue Adjustment Purple : 0
Hue Adjustment Blue : 0
Hue Adjustment Aqua : 0
Hue Adjustment Green : 0
Hue Adjustment Yellow : 0
Hue Adjustment Orange : 0
Hue Adjustment Red : +9
Defringe : 0
Clarity : 0
Highlight Recovery : 0
Vibrance : 0
Fill Light : 10
Blue Saturation : 0
Blue Hue : 0
Green Saturation : 0
Green Hue : 0
Red Saturation : 0
Red Hue : 0
Shadow Tint : 0
Vignette Amount : 0
Chromatic Aberration B : 0
Chromatic Aberration R : 0
Color Noise Reduction : 100
Luminance Smoothing : 0
Sharpness : 0
Saturation : 0
Contrast : 0
Brightness : +20
Shadows : 5
Exposure : 0.00
Incremental Tint : -17
Incremental Temperature : -2
White Balance : Custom
Version : 5.3
Raw File Name : 062306r5f4 nyc.tif
ICC Profile Name : sRGB IEC61966-2.1
Color Mode : RGB
Marked : True
Rights : © 2009 Mike Peters 973 809 4762
Gradient Based Corr What : Correction
Gradient Based Corr Amount : 1.000000
Gradient Based Corr Active : true
Gradient Based Corr Exposure : -0.050000
Gradient Based Corr Saturation : 0.000000
Gradient Based Corr Contrast : 0.050000
Gradient Based Corr Clarity : 0.000000
Gradient Based Corr Sharpness : 0.000000
Gradient Based Corr Brightness : -0.100000
Gradient Based Corr Toning Hue : 0.000000
Gradient Based Corr Toning Saturation : 0.000000
Gradient Based Corr Mask What : Mask/Gradient
Gradient Based Corr Mask Value : 1.000000
Gradient Based Corr Mask Zero X : 0.501832
Gradient Based Corr Mask Zero Y : 0.408311
Gradient Based Corr Mask Full X : 0.442740
Gradient Based Corr Mask Full Y : 0.999546
Tone Curve : 0, 0, 255, 255
Usage Terms :
Image Width : 296
Image Height : 300
Bits Per Sample : 8
Color Components : 3
Image Size : 296x300
Megapixels : 0.089