Uber Exif Photo
Caption-Abstract : KONICA MINOLTA DIGITAL CAMERA
Copyright Flag : False
Image Description : KONICA MINOLTA DIGITAL CAMERA
Make : KONICA MINOLTA
Camera Model Name : MAXXUM 7D
Orientation : Horizontal (normal)
Software : Adobe Photoshop CS2 Windows
Modify Date : 2010:07:27 16:09:12
Exposure Time : 1/125
F Number : 2.0
Exposure Program : Aperture-priority AE
ISO : 100
Date/Time Original : 2010:07:27 14:55:44
Create Date : 2010:07:27 14:55:44
Shutter Speed Value : 1/125
Aperture Value : 2.0
Brightness Value : 3.87
Exposure Compensation : 0
Max Aperture Value : 1.4
Metering Mode : Multi-segment
Light Source : Unknown
Focal Length : 85.0 mm
Subject Area : 752 500 1504 1000
Color Space : sRGB
Exif Image Width : 1200
Exif Image Height : 798
Custom Rendered : Normal
Exposure Mode : Auto
White Balance : Manual
Digital Zoom Ratio : 0
Focal Length In 35mm Format : 127 mm
Scene Capture Type : Standard
Gain Control : None
Contrast : Normal
Saturation : Normal
Sharpness : Normal
Profile Description : sRGB IEC61966-2.1
Date/Time Digitized : 2010:07:27 14:55:44-07:00
Flash Fired : False
Flash Return : No return detection
Flash Mode : Off
Flash Function : False
Flash Red Eye Mode : False
Creator Tool : Adobe Photoshop CS2 Windows
Flash Compensation : 0
Version : 5.5
Color Temperature : 5400
Tint : 0
Exposure : 0.00
Shadows : 14
Brightness : +50
Luminance Smoothing : 0
Color Noise Reduction : 25
Chromatic Aberration R : 0
Chromatic Aberration B : 0
Vignette Amount : 0
Shadow Tint : 0
Red Hue : 0
Red Saturation : 0
Green Hue : 0
Green Saturation : 0
Blue Hue : 0
Blue Saturation : 0
Fill Light : 0
Vibrance : +5
Highlight Recovery : 13
Clarity : +5
Defringe : 0
Hue Adjustment Red : 0
Hue Adjustment Orange : 0
Hue Adjustment Yellow : 0
Hue Adjustment Green : 0
Hue Adjustment Aqua : 0
Hue Adjustment Blue : 0
Hue Adjustment Purple : 0
Hue Adjustment Magenta : 0
Saturation Adjustment Red : 0
Saturation Adjustment Orange : 0
Saturation Adjustment Yellow : 0
Saturation Adjustment Green : 0
Saturation Adjustment Aqua : 0
Saturation Adjustment Blue : 0
Saturation Adjustment Purple : 0
Saturation Adjustment Magenta : 0
Luminance Adjustment Red : 0
Luminance Adjustment Orange : 0
Luminance Adjustment Yellow : 0
Luminance Adjustment Green : 0
Luminance Adjustment Aqua : 0
Luminance Adjustment Blue : 0
Luminance Adjustment Purple : 0
Luminance Adjustment Magenta : 0
Split Toning Shadow Hue : 0
Split Toning Shadow Saturation : 0
Split Toning Highlight Hue : 0
Split Toning Highlight Saturation : 0
Split Toning Balance : 0
Parametric Shadows : 0
Parametric Darks : 0
Parametric Lights : 0
Parametric Highlights : 0
Parametric Shadow Split : 25
Parametric Midtone Split : 50
Parametric Highlight Split : 75
Sharpen Radius : +1.0
Sharpen Detail : 25
Sharpen Edge Masking : 0
Post Crop Vignette Amount : 0
Convert To Grayscale : False
Tone Curve Name : Medium Contrast
Camera Profile : Adobe Standard
Has Settings : True
Has Crop : False
Already Applied : True
Tone Curve : 0, 0, 32, 22, 64, 56, 128, 128, 192, 196, 255, 255
Color Mode : RGB
ICC Profile Name : sRGB IEC61966-2.1
Description : KONICA MINOLTA DIGITAL CAMERA
Format : image/jpeg
Image Width : 300
Image Height : 200
Bits Per Sample : 8
Color Components : 3
Aperture : 2.0
Image Size : 300x200
Megapixels : 0.060
Scale Factor To 35 mm Equivalent : 1.5
Shutter Speed : 1/125
Flash : Off, Did not fire
Circle Of Confusion : 0.020 mm
Field Of View : 16.1 deg
Focal Length : 85.0 mm (35 mm equivalent: 127.0 mm)
Hyperfocal Distance : 179.64 m
Light Value : 9.0