Uber Exif Photo
Copyright Flag : False
Make : Canon
Camera Model Name : Canon EOS 450D
Orientation : Horizontal (normal)
Software : Adobe Photoshop CS3 Windows
Modify Date : 2010:07:30 17:18:31
Exposure Time : 8
F Number : 11.0
Exposure Program : Aperture-priority AE
ISO : 100
Date/Time Original : 2008:11:07 01:35:20
Create Date : 2008:11:07 01:35:20
Shutter Speed Value : 8
Aperture Value : 11.0
Exposure Compensation : -2
Max Aperture Value : 3.5
Metering Mode : Center-weighted average
Focal Length : 18.0 mm
Color Space : sRGB
Exif Image Width : 710
Exif Image Height : 1000
Custom Rendered : Normal
Exposure Mode : Auto
White Balance : Auto
Scene Capture Type : Standard
Profile Description : sRGB IEC61966-2.1
Date/Time Digitized : 2008:11:07 01:35:20.02+01:00
Creator Tool : Adobe Photoshop CS3 Windows
Serial Number : 730229297
Lens Info : 18-55mm f/?
Lens : EF-S18-55mm f/3.5-5.6 IS
Image Number : 0
Flash Compensation : 0
Firmware : 1.0.4
Version : 4.5
Color Temperature : 3500
Tint : -4
Exposure : +0.38
Shadows : 5
Brightness : +75
Contrast : +25
Saturation : 0
Sharpness : 25
Luminance Smoothing : 0
Color Noise Reduction : 25
Chromatic Aberration R : 0
Chromatic Aberration B : 0
Vignette Amount : 0
Shadow Tint : 0
Red Hue : 0
Red Saturation : 0
Green Hue : 0
Green Saturation : 0
Blue Hue : 0
Blue Saturation : 0
Fill Light : 0
Vibrance : 0
Highlight Recovery : 0
Clarity : +64
Defringe : 0
Hue Adjustment Red : 0
Hue Adjustment Orange : 0
Hue Adjustment Yellow : 0
Hue Adjustment Green : 0
Hue Adjustment Aqua : 0
Hue Adjustment Blue : 0
Hue Adjustment Purple : 0
Hue Adjustment Magenta : 0
Saturation Adjustment Red : 0
Saturation Adjustment Orange : 0
Saturation Adjustment Yellow : 0
Saturation Adjustment Green : 0
Saturation Adjustment Aqua : 0
Saturation Adjustment Blue : 0
Saturation Adjustment Purple : 0
Saturation Adjustment Magenta : 0
Luminance Adjustment Red : 0
Luminance Adjustment Orange : 0
Luminance Adjustment Yellow : 0
Luminance Adjustment Green : 0
Luminance Adjustment Aqua : 0
Luminance Adjustment Blue : 0
Luminance Adjustment Purple : 0
Luminance Adjustment Magenta : 0
Split Toning Shadow Hue : 0
Split Toning Shadow Saturation : 0
Split Toning Highlight Hue : 0
Split Toning Highlight Saturation : 0
Split Toning Balance : 0
Parametric Shadows : 0
Parametric Darks : 0
Parametric Lights : -48
Parametric Highlights : 0
Parametric Shadow Split : 25
Parametric Midtone Split : 50
Parametric Highlight Split : 75
Sharpen Radius : +1.0
Sharpen Detail : 25
Sharpen Edge Masking : 0
Post Crop Vignette Amount : 0
Convert To Grayscale : False
Tone Curve Name : Medium Contrast
Camera Profile : ACR 4.4
Has Settings : True
Has Crop : False
Already Applied : True
Format : image/jpeg
Color Mode : RGB
ICC Profile Name : sRGB IEC61966-2.1
Flash Fired : False
Flash Return : No return detection
Flash Mode : Off
Flash Function : False
Flash Red Eye Mode : False
Tone Curve : 0, 0, 32, 22, 64, 56, 128, 128, 192, 196, 255, 255
Derived From :
Image Width : 213
Image Height : 300
Bits Per Sample : 8
Color Components : 3
Aperture : 11.0
Image Size : 213x300
Megapixels : 0.064
Scale Factor To 35 mm Equivalent : 1.6
Shutter Speed : 8
Create Date : 2008:11:07 01:35:20.02
Date/Time Original : 2008:11:07 01:35:20.02
Flash : Off, Did not fire
Circle Of Confusion : 0.019 mm
Field Of View : 63.5 deg
Focal Length : 18.0 mm (35 mm equivalent: 29.1 mm)
Hyperfocal Distance : 1.58 m
Light Value : 3.9
Lens ID : EF-S18-55mm f/3.5-5.6 IS