Uber Exif Photo
Copyright Flag : False
Make : Canon
Camera Model Name : Canon EOS 450D
Orientation : Horizontal (normal)
Software : Adobe Photoshop CS3 Windows
Modify Date : 2010:07:30 17:05:15
Exposure Time : 1/30
F Number : 2.8
Exposure Program : Aperture-priority AE
ISO : 100
Date/Time Original : 2008:11:15 19:41:14
Create Date : 2008:11:15 19:41:14
Shutter Speed Value : 1/30
Aperture Value : 2.8
Exposure Compensation : -2/3
Max Aperture Value : 2.8
Metering Mode : Center-weighted average
Focal Length : 90.0 mm
Color Space : sRGB
Exif Image Width : 1000
Exif Image Height : 667
Custom Rendered : Normal
Exposure Mode : Auto
White Balance : Auto
Scene Capture Type : Standard
Profile Description : sRGB IEC61966-2.1
Date/Time Digitized : 2008:11:15 19:41:14.03+01:00
Creator Tool : Adobe Photoshop CS3 Windows
Serial Number : 730229297
Lens Info : 90mm f/?
Lens : 90mm
Image Number : 0
Flash Compensation : 0
Firmware : 1.0.4
Version : 4.5
Color Temperature : 3191
Tint : -3
Exposure : 0.00
Shadows : 10
Brightness : +50
Contrast : +25
Saturation : +5
Sharpness : 95
Luminance Smoothing : 92
Color Noise Reduction : 58
Chromatic Aberration R : 0
Chromatic Aberration B : 0
Vignette Amount : 0
Shadow Tint : 0
Red Hue : 0
Red Saturation : 0
Green Hue : 0
Green Saturation : 0
Blue Hue : 0
Blue Saturation : 0
Fill Light : 0
Vibrance : 0
Highlight Recovery : 0
Clarity : +100
Defringe : 0
Hue Adjustment Red : 0
Hue Adjustment Orange : 0
Hue Adjustment Yellow : 0
Hue Adjustment Green : 0
Hue Adjustment Aqua : 0
Hue Adjustment Blue : 0
Hue Adjustment Purple : 0
Hue Adjustment Magenta : 0
Saturation Adjustment Red : 0
Saturation Adjustment Orange : -100
Saturation Adjustment Yellow : -98
Saturation Adjustment Green : 0
Saturation Adjustment Aqua : 0
Saturation Adjustment Blue : 0
Saturation Adjustment Purple : 0
Saturation Adjustment Magenta : 0
Luminance Adjustment Red : 0
Luminance Adjustment Orange : 0
Luminance Adjustment Yellow : 0
Luminance Adjustment Green : 0
Luminance Adjustment Aqua : 0
Luminance Adjustment Blue : 0
Luminance Adjustment Purple : 0
Luminance Adjustment Magenta : 0
Split Toning Shadow Hue : 0
Split Toning Shadow Saturation : 0
Split Toning Highlight Hue : 0
Split Toning Highlight Saturation : 0
Split Toning Balance : 0
Parametric Shadows : 0
Parametric Darks : 0
Parametric Lights : 0
Parametric Highlights : +33
Parametric Shadow Split : 25
Parametric Midtone Split : 50
Parametric Highlight Split : 75
Sharpen Radius : +1.0
Sharpen Detail : 42
Sharpen Edge Masking : 0
Post Crop Vignette Amount : 0
Convert To Grayscale : False
Tone Curve Name : Medium Contrast
Camera Profile : ACR 4.4
Has Settings : True
Has Crop : False
Already Applied : True
Format : image/jpeg
Color Mode : RGB
ICC Profile Name : sRGB IEC61966-2.1
Flash Fired : False
Flash Return : No return detection
Flash Mode : Off
Flash Function : False
Flash Red Eye Mode : False
Tone Curve : 0, 0, 32, 22, 64, 56, 128, 128, 192, 196, 255, 255
Derived From :
Image Width : 300
Image Height : 200
Bits Per Sample : 8
Color Components : 3
Aperture : 2.8
Image Size : 300x200
Megapixels : 0.060
Scale Factor To 35 mm Equivalent : 1.6
Shutter Speed : 1/30
Create Date : 2008:11:15 19:41:14.03
Date/Time Original : 2008:11:15 19:41:14.03
Flash : Off, Did not fire
Circle Of Confusion : 0.019 mm
Field Of View : 14.1 deg
Focal Length : 90.0 mm (35 mm equivalent: 145.4 mm)
Hyperfocal Distance : 155.53 m
Light Value : 7.9
Lens ID : 90mm