Uber Exif Photo
Copyright Flag : False
Make : Canon
Camera Model Name : Canon EOS 450D
Orientation : Horizontal (normal)
Software : Adobe Photoshop CS3 Windows
Modify Date : 2010:07:30 17:26:35
Exposure Time : 1/200
F Number : 8.0
Exposure Program : Not Defined
ISO : 200
Date/Time Original : 2009:05:15 14:57:04
Create Date : 2009:05:15 14:57:04
Shutter Speed Value : 1/200
Aperture Value : 8.0
Exposure Compensation : -2/3
Max Aperture Value : 3.5
Metering Mode : Multi-segment
Focal Length : 18.0 mm
Color Space : sRGB
Exif Image Width : 667
Exif Image Height : 1000
Custom Rendered : Normal
Exposure Mode : Auto
White Balance : Auto
Scene Capture Type : Standard
Profile Description : sRGB IEC61966-2.1
Date/Time Digitized : 2009:05:15 14:57:04.03+02:00
Creator Tool : Adobe Photoshop CS3 Windows
Serial Number : 730229297
Lens Info : 18-55mm f/?
Lens : EF-S18-55mm f/3.5-5.6 IS
Image Number : 0
Flash Compensation : 0
Firmware : 1.0.4
Version : 4.5
Color Temperature : 6286
Tint : +3
Exposure : 0.00
Shadows : 5
Brightness : +68
Contrast : +71
Saturation : 0
Sharpness : 91
Luminance Smoothing : 0
Color Noise Reduction : 25
Chromatic Aberration R : 0
Chromatic Aberration B : 0
Vignette Amount : 0
Shadow Tint : 0
Red Hue : 0
Red Saturation : 0
Green Hue : 0
Green Saturation : 0
Blue Hue : 0
Blue Saturation : 0
Fill Light : 0
Vibrance : 0
Highlight Recovery : 0
Clarity : +90
Defringe : 0
Hue Adjustment Red : 0
Hue Adjustment Orange : 0
Hue Adjustment Yellow : 0
Hue Adjustment Green : 0
Hue Adjustment Aqua : 0
Hue Adjustment Blue : 0
Hue Adjustment Purple : 0
Hue Adjustment Magenta : 0
Saturation Adjustment Red : 0
Saturation Adjustment Orange : 0
Saturation Adjustment Yellow : 0
Saturation Adjustment Green : 0
Saturation Adjustment Aqua : 0
Saturation Adjustment Blue : +64
Saturation Adjustment Purple : 0
Saturation Adjustment Magenta : 0
Luminance Adjustment Red : 0
Luminance Adjustment Orange : 0
Luminance Adjustment Yellow : 0
Luminance Adjustment Green : 0
Luminance Adjustment Aqua : 0
Luminance Adjustment Blue : 0
Luminance Adjustment Purple : 0
Luminance Adjustment Magenta : 0
Split Toning Shadow Hue : 0
Split Toning Shadow Saturation : 0
Split Toning Highlight Hue : 0
Split Toning Highlight Saturation : 0
Split Toning Balance : 0
Parametric Shadows : 0
Parametric Darks : 0
Parametric Lights : 0
Parametric Highlights : +55
Parametric Shadow Split : 25
Parametric Midtone Split : 50
Parametric Highlight Split : 75
Sharpen Radius : +1.0
Sharpen Detail : 42
Sharpen Edge Masking : 0
Post Crop Vignette Amount : 0
Convert To Grayscale : False
Tone Curve Name : Medium Contrast
Camera Profile : ACR 4.4
Has Settings : True
Has Crop : False
Already Applied : True
Format : image/jpeg
Color Mode : RGB
ICC Profile Name : sRGB IEC61966-2.1
Flash Fired : False
Flash Return : No return detection
Flash Mode : Off
Flash Function : False
Flash Red Eye Mode : False
Tone Curve : 0, 0, 32, 22, 64, 56, 128, 128, 192, 196, 255, 255
Paint Correction What : Correction
Paint Correction Amount : 1.000000
Paint Correction Active : true
Paint Correction Exposure : -0.675000
Paint Correction Saturation : 0.000000
Paint Correction Contrast : 0.000000
Paint Correction Clarity : 1.000000
Paint Correction Sharpness : 0.000000
Paint Correction Brightness : 0.000000
Paint Correction Toning Hue : 6.000000
Paint Correction Toning Saturation : 0.000000
Paint Correction Mask What : Mask/Paint
Paint Correction Mask Value : 0.925000
Paint Correction Mask Radius : 0.496969
Paint Correction Mask Flow : 0.406000
Paint Correction Mask Center Weight : 0.000000
Derived From :
Image Width : 200
Image Height : 300
Bits Per Sample : 8
Color Components : 3
Aperture : 8.0
Image Size : 200x300
Megapixels : 0.060
Scale Factor To 35 mm Equivalent : 1.6
Shutter Speed : 1/200
Create Date : 2009:05:15 14:57:04.03
Date/Time Original : 2009:05:15 14:57:04.03
Flash : Off, Did not fire
Circle Of Confusion : 0.019 mm
Field Of View : 63.5 deg
Focal Length : 18.0 mm (35 mm equivalent: 29.1 mm)
Hyperfocal Distance : 2.18 m
Light Value : 12.6
Lens ID : EF-S18-55mm f/3.5-5.6 IS