Uber Exif Photo
Keywords : France 2010
By-line : Michael Feuerstein
Copyright Notice : Copyright @2008 Michael Feuerstein
Copyright Flag : True
Make : NORITSU KOKI
Camera Model Name : QSS-32_33
Software : QSS-32_33 8.02.005 2006.12.27
Modify Date : 2010:08:11 08:56:22
Copyright : Copyright @2008 Michael Feuerstein
Profile Description : sRGB IEC61966-2.1
Exif Image Width : 1000
Exif Image Height : 500
Creator Tool : Adobe Photoshop Lightroom
Marked : True
Version : 5.5
White Balance : As Shot
Incremental Temperature : 0
Incremental Tint : 0
Exposure : 0.00
Shadows : 0
Brightness : 0
Contrast : 0
Sharpness : 0
Luminance Smoothing : 0
Color Noise Reduction : 0
Chromatic Aberration R : 0
Chromatic Aberration B : 0
Vignette Amount : 0
Shadow Tint : 0
Red Hue : 0
Red Saturation : 0
Green Hue : 0
Green Saturation : 0
Blue Hue : 0
Blue Saturation : 0
Fill Light : 26
Highlight Recovery : 0
Clarity : +90
Defringe : 0
Gray Mixer Red : -10
Gray Mixer Orange : -19
Gray Mixer Yellow : -23
Gray Mixer Green : -27
Gray Mixer Aqua : -18
Gray Mixer Blue : +9
Gray Mixer Purple : +15
Gray Mixer Magenta : +4
Split Toning Shadow Hue : 0
Split Toning Shadow Saturation : 0
Split Toning Highlight Hue : 0
Split Toning Highlight Saturation : 0
Split Toning Balance : 0
Parametric Shadows : 0
Parametric Darks : 0
Parametric Lights : 0
Parametric Highlights : 0
Parametric Shadow Split : 25
Parametric Midtone Split : 50
Parametric Highlight Split : 75
Sharpen Radius : +1.0
Sharpen Detail : 25
Sharpen Edge Masking : 0
Post Crop Vignette Amount : 0
Convert To Grayscale : True
Tone Curve Name : Linear
Camera Profile : Embedded
Has Settings : True
Crop Top : 0.098679
Crop Left : 0
Crop Bottom : 0.852647
Crop Right : 1
Crop Angle : 0
Crop Width : 1000
Crop Height : 500
Crop Unit : pixels
Has Crop : True
Already Applied : True
Creator Postal Code : 07670
Creator Region : New Jersey
Creator Country : USA
Creator City : Tenafly
Creator Address : 18 Oak Street
Usage Terms : No reporductions of any kind may be made without prior written permission
Creator : Michael Feuerstein
Rights : Copyright @2008 Michael Feuerstein
Subject : France 2010
Tone Curve : 0, 0, 255, 255
Gradient Based Corr What : Correction
Gradient Based Corr Amount : 1.000000
Gradient Based Corr Active : true
Gradient Based Corr Exposure : -0.275000
Gradient Based Corr Saturation : 0.000000
Gradient Based Corr Contrast : 0.000000
Gradient Based Corr Clarity : 0.000000
Gradient Based Corr Sharpness : 0.000000
Gradient Based Corr Brightness : 0.000000
Gradient Based Corr Toning Hue : 234.000000
Gradient Based Corr Toning Saturation : 0.270000
Gradient Based Corr Mask What : Mask/Gradient
Gradient Based Corr Mask Value : 1.000000
Gradient Based Corr Mask Zero X : 0.543988
Gradient Based Corr Mask Zero Y : 0.191543
Gradient Based Corr Mask Full X : 0.543988
Gradient Based Corr Mask Full Y : 0.105312
Image Width : 300
Image Height : 150
Bits Per Sample : 8
Color Components : 3
Image Size : 300x150
Megapixels : 0.045