Uber Exif Photo
Caption-Abstract : SONY DSC
Copyright Flag : False
Image Description : SONY DSC
Make : SONY
Camera Model Name : NEX-5
Orientation : Horizontal (normal)
Software : Adobe Photoshop CS3 Macintosh
Modify Date : 2010:08:01 20:39:11
Exposure Time : 1/160
F Number : 1.0
Exposure Program : Aperture-priority AE
ISO : 200
Date/Time Original : 2010:08:01 17:27:35
Create Date : 2010:08:01 17:27:35
Shutter Speed Value : 1/160
Aperture Value : 1.0
Brightness Value : 0.62
Exposure Compensation : +0.3
Max Aperture Value : 1.0
Metering Mode : Multi-segment
Light Source : Daylight
Color Space : sRGB
Exif Image Width : 1136
Exif Image Height : 767
Scene Type : Directly photographed
Custom Rendered : Normal
Exposure Mode : Auto
White Balance : Manual
Scene Capture Type : Standard
Contrast : Normal
Saturation : High
Sharpness : Hard
Profile Description : sRGB IEC61966-2.1
Date/Time Digitized : 2010:08:01 17:27:35+07:00
Creator Tool : Adobe Photoshop CS3 Macintosh
Version : 6.1
Process Version : 5.7
Incremental Temperature : +10
Incremental Tint : 0
Exposure : 0.00
Shadows : 10
Brightness : 0
Luminance Smoothing : 0
Color Noise Reduction : 0
Chromatic Aberration R : 0
Chromatic Aberration B : 0
Vignette Amount : 0
Shadow Tint : 0
Red Hue : 0
Red Saturation : 0
Green Hue : 0
Green Saturation : 0
Blue Hue : 0
Blue Saturation : 0
Fill Light : 0
Vibrance : 0
Highlight Recovery : 15
Clarity : 0
Defringe : 1
Hue Adjustment Red : 0
Hue Adjustment Orange : 0
Hue Adjustment Yellow : 0
Hue Adjustment Green : 0
Hue Adjustment Aqua : 0
Hue Adjustment Blue : 0
Hue Adjustment Purple : 0
Hue Adjustment Magenta : 0
Saturation Adjustment Red : 0
Saturation Adjustment Orange : 0
Saturation Adjustment Yellow : 0
Saturation Adjustment Green : 0
Saturation Adjustment Aqua : 0
Saturation Adjustment Blue : 0
Saturation Adjustment Purple : 0
Saturation Adjustment Magenta : 0
Luminance Adjustment Red : 0
Luminance Adjustment Orange : 0
Luminance Adjustment Yellow : 0
Luminance Adjustment Green : 0
Luminance Adjustment Aqua : 0
Luminance Adjustment Blue : 0
Luminance Adjustment Purple : 0
Luminance Adjustment Magenta : 0
Split Toning Shadow Hue : 0
Split Toning Shadow Saturation : 0
Split Toning Highlight Hue : 0
Split Toning Highlight Saturation : 0
Split Toning Balance : 0
Parametric Shadows : 0
Parametric Darks : 0
Parametric Lights : 0
Parametric Highlights : 0
Parametric Shadow Split : 25
Parametric Midtone Split : 50
Parametric Highlight Split : 75
Sharpen Radius : +1.0
Sharpen Detail : 25
Sharpen Edge Masking : 0
Post Crop Vignette Amount : -35
Post Crop Vignette Midpoint : 50
Post Crop Vignette Feather : 50
Post Crop Vignette Roundness : 0
Post Crop Vignette Style : Highlight Priority
Post Crop Vignette Highlight Contrast : 0
Grain Amount : 0
Lens Profile Enable : 0
Lens Manual Distortion Amount : 0
Perspective Vertical : 0
Perspective Horizontal : 0
Perspective Rotate : 0.0
Perspective Scale : 100
Convert To Grayscale : False
Tone Curve Name : Linear
Camera Profile : Embedded
Lens Profile Setup : LensDefaults
Has Settings : True
Has Crop : False
Already Applied : True
Color Mode : RGB
ICC Profile Name : sRGB IEC61966-2.1
Format : image/jpeg
Flash Fired : False
Flash Return : No return detection
Flash Mode : Off
Flash Function : False
Flash Red Eye Mode : False
Tone Curve : 0, 0, 255, 255
Description : SONY DSC
Derived From :
Image Width : 300
Image Height : 203
Bits Per Sample : 8
Color Components : 3
Aperture : 1.0
Image Size : 300x203
Megapixels : 0.061
Shutter Speed : 1/160
Flash : Off, Did not fire
Light Value : 6.3