Uber Exif Photo
Keywords : Puu
Make : Canon
Camera Model Name : Canon EOS 5D Mark II
Modify Date : 2010:08:17 19:31:17
Exposure Time : 1/90
Exposure Program : Shutter speed priority AE
ISO : 3200
Date/Time Original : 2010:08:14 21:29:10
Create Date : 2010:08:14 21:29:10
Shutter Speed Value : 1/90
Exposure Compensation : 0
Metering Mode : Center-weighted average
Focal Length : 50.0 mm
Custom Rendered : Normal
Exposure Mode : Auto
White Balance : Auto
Scene Capture Type : Standard
Profile Description : sRGB IEC61966-2.1
Date/Time Digitized : 2010:08:14 21:29:10.54+02:00
Exif Image Width : 970
Exif Image Height : 1200
Label : Green
Creator Tool : Adobe Photoshop Lightroom
Serial Number : 1831108037
Image Number : 0
Flash Compensation : 0
Firmware : 2.0.7
Version : 6.1
Process Version : 5.7
Color Temperature : 4550
Tint : +25
Exposure : 0.00
Shadows : 0
Brightness : +45
Contrast : +25
Saturation : 0
Sharpness : 80
Luminance Smoothing : 37
Color Noise Reduction : 25
Chromatic Aberration R : 0
Chromatic Aberration B : 0
Vignette Amount : 0
Shadow Tint : 0
Red Hue : 0
Red Saturation : 0
Green Hue : 0
Green Saturation : 0
Blue Hue : 0
Blue Saturation : 0
Fill Light : 0
Vibrance : 0
Highlight Recovery : 0
Clarity : 0
Defringe : 2
Hue Adjustment Red : 0
Hue Adjustment Orange : 0
Hue Adjustment Yellow : 0
Hue Adjustment Green : 0
Hue Adjustment Aqua : 0
Hue Adjustment Blue : 0
Hue Adjustment Purple : 0
Hue Adjustment Magenta : 0
Saturation Adjustment Red : 0
Saturation Adjustment Orange : 0
Saturation Adjustment Yellow : 0
Saturation Adjustment Green : -81
Saturation Adjustment Aqua : 0
Saturation Adjustment Blue : 0
Saturation Adjustment Purple : -82
Saturation Adjustment Magenta : 0
Luminance Adjustment Red : 0
Luminance Adjustment Orange : 0
Luminance Adjustment Yellow : 0
Luminance Adjustment Green : 0
Luminance Adjustment Aqua : 0
Luminance Adjustment Blue : 0
Luminance Adjustment Purple : 0
Luminance Adjustment Magenta : 0
Split Toning Shadow Hue : 0
Split Toning Shadow Saturation : 0
Split Toning Highlight Hue : 0
Split Toning Highlight Saturation : 0
Split Toning Balance : 0
Parametric Shadows : -20
Parametric Darks : 0
Parametric Lights : 0
Parametric Highlights : 0
Parametric Shadow Split : 25
Parametric Midtone Split : 50
Parametric Highlight Split : 75
Sharpen Radius : +1.6
Sharpen Detail : 2
Sharpen Edge Masking : 5
Post Crop Vignette Amount : 0
Grain Amount : 0
Luminance Noise Reduction Detail : 50
Color Noise Reduction Detail : 50
Luminance Noise Reduction Contrast : 0
Lens Profile Enable : 0
Lens Manual Distortion Amount : 0
Perspective Vertical : 0
Perspective Horizontal : 0
Perspective Rotate : 0.0
Perspective Scale : 100
Convert To Grayscale : False
Tone Curve Name : Custom
Camera Profile : 5DMk2_5400K_3200ISO
Lens Profile Setup : LensDefaults
Has Settings : True
Crop Top : 0
Crop Left : 0.17506
Crop Bottom : 1
Crop Right : 1
Crop Angle : 0
Crop Constrain To Warp : 0
Crop Width : 1200
Crop Height : 970
Crop Unit : pixels
Has Crop : True
Already Applied : True
Flash Fired : False
Flash Return : No return detection
Flash Mode : Off
Flash Function : False
Flash Red Eye Mode : False
Subject : Puu
Tone Curve : 0, 0, 72, 116, 255, 255
Paint Correction What : Correction
Paint Correction Amount : 1.000000
Paint Correction Active : true
Paint Correction Exposure : 0.000000
Paint Correction Saturation : 0.000000
Paint Correction Contrast : 0.390000
Paint Correction Clarity : 0.000000
Paint Correction Sharpness : 0.000000
Paint Correction Brightness : -0.123000
Paint Correction Toning Hue : 240.000000
Paint Correction Toning Saturation : 0.000000
Paint Correction Mask What : Mask/Paint
Paint Correction Mask Value : 1.000000
Paint Correction Mask Radius : 0.014427
Paint Correction Mask Flow : 0.800000
Paint Correction Mask Center Weight : 0.477011
Image Width : 242
Image Height : 300
Bits Per Sample : 8
Color Components : 3
Image Size : 242x300
Megapixels : 0.073
Scale Factor To 35 mm Equivalent : 1.0
Shutter Speed : 1/90
Create Date : 2010:08:14 21:29:10.54
Date/Time Original : 2010:08:14 21:29:10.54
Flash : Off, Did not fire
Circle Of Confusion : 0.031 mm
Field Of View : 40.5 deg
Focal Length : 50.0 mm (35 mm equivalent: 48.8 mm)