Uber Exif Photo
By-line : Ekin Photography
Keywords : 5D Mark II, 5DMKII, C/Y, Canon, Canon 5D Mark II, Carl Zeiss, Disney, Disney World, Epcot, Family, Hollywood Studios, MF, Manual Focus, Walt Disney World
Copyright Notice : Ekin Photography
URL : www.ekinphotography.com
Photometric Interpretation : RGB
Make : Canon
Camera Model Name : Canon EOS 5D Mark II
Orientation : Horizontal (normal)
Samples Per Pixel : 3
Software : Adobe Photoshop CS5 Windows
Modify Date : 2010:08:15 23:19:55
Artist : Ekin Photography
Copyright : Ekin Photography
Exposure Time : 1/160
F Number : 2.0
Exposure Program : Aperture-priority AE
ISO : 100
Date/Time Original : 2010:08:15 14:23:27
Create Date : 2010:08:15 14:23:27
Shutter Speed Value : 1/160
Aperture Value : 2.0
Exposure Compensation : 0
Max Aperture Value : 2.0
Metering Mode : Spot
Flash : Off, Did not fire
Focal Length : 50.0 mm
Color Space : sRGB
Exif Image Width : 616
Exif Image Height : 1024
Custom Rendered : Normal
Exposure Mode : Auto
White Balance : Manual
Scene Capture Type : Standard
Profile Description : sRGB IEC61966-2.1
Creator Tool : Adobe Photoshop Lightroom
Serial Number : 320212923
Lens Info : 50mm f/?
Lens : 50-50mm
Image Number : 0
Flash Compensation : 0
Owner Name : Ekin
Firmware : 2.0.4
Web Statement : www.ekinphotography.com
Version : 6.1
Process Version : 5.7
Color Temperature : 5550
Tint : +1
Exposure : 0.00
Shadows : 5
Brightness : +50
Contrast : +25
Saturation : -20
Sharpness : 89
Luminance Smoothing : 0
Color Noise Reduction : 25
Chromatic Aberration R : 0
Chromatic Aberration B : 0
Vignette Amount : -82
Vignette Midpoint : 48
Shadow Tint : 0
Red Hue : 0
Red Saturation : 0
Green Hue : 0
Green Saturation : 0
Blue Hue : 0
Blue Saturation : 0
Fill Light : 0
Vibrance : +47
Highlight Recovery : 0
Clarity : -25
Defringe : 0
Hue Adjustment Red : 0
Hue Adjustment Orange : 0
Hue Adjustment Yellow : 0
Hue Adjustment Green : +12
Hue Adjustment Aqua : +10
Hue Adjustment Blue : 0
Hue Adjustment Purple : 0
Hue Adjustment Magenta : 0
Saturation Adjustment Red : +12
Saturation Adjustment Orange : +12
Saturation Adjustment Yellow : +21
Saturation Adjustment Green : +55
Saturation Adjustment Aqua : +32
Saturation Adjustment Blue : +25
Saturation Adjustment Purple : +29
Saturation Adjustment Magenta : +33
Luminance Adjustment Red : +7
Luminance Adjustment Orange : +10
Luminance Adjustment Yellow : +21
Luminance Adjustment Green : +43
Luminance Adjustment Aqua : +10
Luminance Adjustment Blue : +17
Luminance Adjustment Purple : +26
Luminance Adjustment Magenta : +17
Split Toning Shadow Hue : 223
Split Toning Shadow Saturation : 17
Split Toning Highlight Hue : 223
Split Toning Highlight Saturation : 17
Split Toning Balance : 0
Parametric Shadows : -31
Parametric Darks : +3
Parametric Lights : +32
Parametric Highlights : -19
Parametric Shadow Split : 25
Parametric Midtone Split : 50
Parametric Highlight Split : 76
Sharpen Radius : +0.5
Sharpen Detail : 11
Sharpen Edge Masking : 62
Post Crop Vignette Amount : 0
Grain Amount : 0
Color Noise Reduction Detail : 50
Lens Profile Enable : 0
Lens Manual Distortion Amount : 0
Perspective Vertical : 0
Perspective Horizontal : 0
Perspective Rotate : 0.0
Perspective Scale : 100
Convert To Grayscale : False
Tone Curve Name : Strong Contrast
Camera Profile : Adobe Standard
Lens Profile Setup : LensDefaults
Has Settings : True
Crop Top : 0.029626
Crop Left : 0
Crop Bottom : 0.970374
Crop Right : 0.983542
Crop Angle : -1.16601
Crop Constrain To Warp : 0
Crop Width : 5451
Crop Height : 3634
Crop Unit : pixels
Has Crop : True
Already Applied : True
Color Mode : RGB
ICC Profile Name : sRGB IEC61966-2.1
Date Created : 2010:08:15 14:23:27.075
Format : image/jpeg
Tone Curve : 0, 0, 32, 16, 64, 50, 128, 128, 192, 202, 255, 255
Paint Correction What : Correction
Paint Correction Amount : 1.000000
Paint Correction Active : true
Paint Correction Exposure : 0.112500
Paint Correction Saturation : 0.000000
Paint Correction Contrast : 0.000000
Paint Correction Clarity : 0.000000
Paint Correction Sharpness : 0.000000
Paint Correction Brightness : 0.000000
Paint Correction Toning Hue : 240.000000
Paint Correction Toning Saturation : 0.000000
Paint Correction Mask What : Mask/Paint
Paint Correction Mask Value : 1.000000
Paint Correction Mask Radius : 0.117599
Paint Correction Mask Flow : 0.900000
Paint Correction Mask Center Weight : 0.000000
Creator : Ekin Photography
Rights : Ekin Photography
Subject : 5D Mark II, 5DMKII, C/Y, Canon, Canon 5D Mark II, Carl Zeiss, Disney, Disney World, Epcot, Family, Hollywood Studios, MF, Manual Focus, Walt Disney World
Creator City : O
Creator Work URL : www.ekinphotography.com
Image Width : 180
Image Height : 300
Bits Per Sample : 8
Color Components : 3
Aperture : 2.0
Image Size : 180x300
Megapixels : 0.054
Scale Factor To 35 mm Equivalent : 1.0
Shutter Speed : 1/160
Create Date : 2010:08:15 14:23:27.75
Date/Time Original : 2010:08:15 14:23:27.75
Circle Of Confusion : 0.031 mm
Field Of View : 40.5 deg
Focal Length : 50.0 mm (35 mm equivalent: 48.8 mm)
Hyperfocal Distance : 40.60 m
Light Value : 9.3
Lens ID : Canon EF 35-80mm f/4-5.6