Uber Exif Photo
By-line : Ekin Photography
Keywords : 5DMKII, CZ VS 35-70/3.4, Canon, Canon 5D Mark II, Carl Zeiss Vario-Sonnar 35-70 f/3.4, MF, Manual Focus, Vario-Sonnar 35-70/3.4
Copyright Notice : Ekin Photography
URL : www.ekinphotography.com
Photometric Interpretation : RGB
Make : Canon
Camera Model Name : Canon EOS 5D Mark II
Orientation : Horizontal (normal)
Samples Per Pixel : 3
Software : Adobe Photoshop CS5 Windows
Modify Date : 2010:08:03 23:12:57
Artist : Ekin Photography
Copyright : Ekin Photography
Exposure Time : 1/1000
F Number : 2.0
Exposure Program : Aperture-priority AE
ISO : 200
Date/Time Original : 2010:07:31 11:03:30
Create Date : 2010:07:31 11:03:30
Shutter Speed Value : 1/1000
Aperture Value : 2.0
Exposure Compensation : 0
Max Aperture Value : 2.0
Metering Mode : Spot
Flash : Off, Did not fire
Focal Length : 50.0 mm
Color Space : sRGB
Exif Image Width : 1024
Exif Image Height : 782
Custom Rendered : Normal
Exposure Mode : Auto
White Balance : Auto
Scene Capture Type : Standard
Profile Description : sRGB IEC61966-2.1
Label : Blue
Creator Tool : Adobe Photoshop Lightroom
Serial Number : 320212923
Lens Info : 50mm f/?
Lens : 50-50mm
Image Number : 0
Flash Compensation : 0
Owner Name : Ekin
Firmware : 2.0.4
Web Statement : www.ekinphotography.com
Version : 6.1
Process Version : 5.7
Color Temperature : 5100
Tint : +1
Exposure : +0.50
Shadows : 8
Brightness : +50
Contrast : +25
Saturation : -14
Sharpness : 62
Luminance Smoothing : 44
Color Noise Reduction : 30
Chromatic Aberration R : 0
Chromatic Aberration B : 0
Vignette Amount : -43
Vignette Midpoint : 22
Shadow Tint : 0
Red Hue : 0
Red Saturation : 0
Green Hue : 0
Green Saturation : 0
Blue Hue : 0
Blue Saturation : 0
Fill Light : 32
Vibrance : +24
Highlight Recovery : 0
Clarity : -13
Defringe : 0
Hue Adjustment Red : 0
Hue Adjustment Orange : 0
Hue Adjustment Yellow : 0
Hue Adjustment Green : 0
Hue Adjustment Aqua : 0
Hue Adjustment Blue : 0
Hue Adjustment Purple : 0
Hue Adjustment Magenta : 0
Saturation Adjustment Red : -7
Saturation Adjustment Orange : -5
Saturation Adjustment Yellow : -10
Saturation Adjustment Green : 0
Saturation Adjustment Aqua : 0
Saturation Adjustment Blue : -20
Saturation Adjustment Purple : -1
Saturation Adjustment Magenta : 0
Luminance Adjustment Red : 0
Luminance Adjustment Orange : 0
Luminance Adjustment Yellow : 0
Luminance Adjustment Green : 0
Luminance Adjustment Aqua : 0
Luminance Adjustment Blue : -30
Luminance Adjustment Purple : -2
Luminance Adjustment Magenta : 0
Split Toning Shadow Hue : 0
Split Toning Shadow Saturation : 0
Split Toning Highlight Hue : 0
Split Toning Highlight Saturation : 0
Split Toning Balance : 0
Parametric Shadows : +41
Parametric Darks : -35
Parametric Lights : +2
Parametric Highlights : -10
Parametric Shadow Split : 25
Parametric Midtone Split : 50
Parametric Highlight Split : 75
Sharpen Radius : +1.0
Sharpen Detail : 25
Sharpen Edge Masking : 25
Post Crop Vignette Amount : 0
Grain Amount : 0
Luminance Noise Reduction Detail : 31
Color Noise Reduction Detail : 36
Luminance Noise Reduction Contrast : 29
Lens Profile Enable : 0
Lens Manual Distortion Amount : 0
Perspective Vertical : 0
Perspective Horizontal : 0
Perspective Rotate : 0.0
Perspective Scale : 100
Convert To Grayscale : False
Tone Curve Name : Strong Contrast
Camera Profile : Rob's 5D MkII
Lens Profile Setup : LensDefaults
Has Settings : True
Has Crop : False
Already Applied : True
Color Mode : RGB
ICC Profile Name : sRGB IEC61966-2.1
Date Created : 2010:07:31 11:03:30.06
Format : image/jpeg
Tone Curve : 0, 0, 32, 16, 64, 50, 128, 128, 192, 202, 255, 255
Creator : Ekin Photography
Rights : Ekin Photography
Subject : 5DMKII, CZ VS 35-70/3.4, Canon, Canon 5D Mark II, Carl Zeiss Vario-Sonnar 35-70 f/3.4, MF, Manual Focus, Vario-Sonnar 35-70/3.4
Creator City : O
Creator Work URL : www.ekinphotography.com
Image Width : 300
Image Height : 229
Bits Per Sample : 8
Color Components : 3
Aperture : 2.0
Image Size : 300x229
Megapixels : 0.069
Scale Factor To 35 mm Equivalent : 1.0
Shutter Speed : 1/1000
Create Date : 2010:07:31 11:03:30.60
Date/Time Original : 2010:07:31 11:03:30.60
Circle Of Confusion : 0.031 mm
Field Of View : 40.5 deg
Focal Length : 50.0 mm (35 mm equivalent: 48.8 mm)
Hyperfocal Distance : 40.60 m
Light Value : 11.0
Lens ID : Canon EF 35-80mm f/4-5.6