Uber Exif Photo
Keywords : 5D Mark II, 5DMKII, Beach, Canon, Carl Zeiss, Carl Zeiss HTF Distagon 35/1.4 Rollei, Distagon 35/1.4, Family, Florida, Fort De Soto, MF, Manual Focus, St. Pete
By-line : Ekin Photography
Copyright Notice : Ekin Photography
URL : www.ekinphotography.com
Make : Canon
Camera Model Name : Canon EOS 5D Mark II
Modify Date : 2010:06:22 22:47:19
Artist : Ekin
Copyright : Ekin Photography
Exposure Time : 1/800
Exposure Program : Aperture-priority AE
ISO : 100
Date/Time Original : 2010:06:20 11:27:57
Create Date : 2010:06:20 11:27:57
Shutter Speed Value : 1/800
Exposure Compensation : 0
Metering Mode : Multi-segment
Focal Length : 50.0 mm
Color Space : Uncalibrated
Custom Rendered : Normal
Exposure Mode : Auto
White Balance : Auto
Scene Capture Type : Standard
Profile Description : sRGB IEC61966-2.1
Creator City : O
Creator Work URL : www.ekinphotography.com
Firmware : 2.0.4
Flash Compensation : 0
Image Number : 0
Owner Name : Ekin
Serial Number : 320212923
Creator : Ekin Photography
Rights : Ekin Photography
Subject : 5D Mark II, 5DMKII, Beach, Canon, Carl Zeiss, Carl Zeiss HTF Distagon 35/1.4 Rollei, Distagon 35/1.4, Family, Florida, Fort De Soto, MF, Manual Focus, St. Pete
Contrast : High
Date/Time Digitized : 2010:06:20 11:27:57.89-04:00
Flash Fired : False
Flash Function : False
Flash Mode : Off
Flash Red Eye Mode : False
Flash Return : No return detection
Exif Image Width : 533
Exif Image Height : 800
Saturation : High
Sharpness : Hard
Creator Tool : Adobe Photoshop Lightroom
Label : Blue
Web Statement : www.ekinphotography.com
Already Applied : True
Blue Hue : 0
Blue Saturation : 0
Brightness : +50
Camera Profile : Embedded
Chromatic Aberration B : 0
Chromatic Aberration R : 0
Clarity : +14
Color Noise Reduction : 25
Convert To Grayscale : False
Crop Angle : -3.17654
Crop Bottom : 0.923151
Crop Height : 533
Crop Left : 0.028357
Crop Right : 0.98566
Crop Top : 0.076849
Crop Unit : pixels
Crop Width : 800
Defringe : 0
Exposure : -0.51
Fill Light : 12
Green Hue : 0
Green Saturation : 0
Has Crop : True
Has Settings : True
Highlight Recovery : 0
Hue Adjustment Aqua : 0
Hue Adjustment Blue : 0
Hue Adjustment Green : 0
Hue Adjustment Magenta : 0
Hue Adjustment Orange : 0
Hue Adjustment Purple : 0
Hue Adjustment Red : 0
Hue Adjustment Yellow : 0
Incremental Temperature : +2
Incremental Tint : -11
Luminance Adjustment Aqua : 0
Luminance Adjustment Blue : 0
Luminance Adjustment Green : 0
Luminance Adjustment Magenta : 0
Luminance Adjustment Orange : 0
Luminance Adjustment Purple : 0
Luminance Adjustment Red : 0
Luminance Adjustment Yellow : 0
Luminance Smoothing : 0
Parametric Darks : +18
Parametric Highlight Split : 76
Parametric Highlights : 0
Parametric Lights : +20
Parametric Midtone Split : 50
Parametric Shadow Split : 25
Parametric Shadows : +33
Post Crop Vignette Amount : 0
Red Hue : 0
Red Saturation : 0
Saturation Adjustment Aqua : 0
Saturation Adjustment Blue : 0
Saturation Adjustment Green : 0
Saturation Adjustment Magenta : 0
Saturation Adjustment Orange : 0
Saturation Adjustment Purple : 0
Saturation Adjustment Red : 0
Saturation Adjustment Yellow : 0
Shadow Tint : 0
Shadows : 0
Sharpen Detail : 25
Sharpen Edge Masking : 0
Sharpen Radius : +1.0
Split Toning Balance : 0
Split Toning Highlight Hue : 56
Split Toning Highlight Saturation : 24
Split Toning Shadow Hue : 227
Split Toning Shadow Saturation : 23
Tone Curve : 0, 8, 64, 64, 128, 138, 191, 190, 255, 247
Tone Curve Name : Custom
Version : 6.1
Vibrance : +43
Vignette Amount : -64
Vignette Midpoint : 8
Image Width : 178
Image Height : 300
Bits Per Sample : 8
Color Components : 3
Image Size : 178x300
Megapixels : 0.053
Scale Factor To 35 mm Equivalent : 6.9
Shutter Speed : 1/800
Create Date : 2010:06:20 11:27:57.89
Date/Time Original : 2010:06:20 11:27:57.89
Flash : Off, Did not fire
Circle Of Confusion : 0.004 mm
Field Of View : 6.0 deg
Focal Length : 50.0 mm (35 mm equivalent: 344.6 mm)