Uber Exif Photo
Object Name : Vancouver Convention Centre
Keywords : Canon 5D, Zeiss 28 2.8 Distagon
By-line : Carmanah
Make : Canon
Camera Model Name : Canon EOS 5D
Modify Date : 2010:08:29 11:29:34
Artist : Carmanah
Exposure Time : 1/250
Exposure Program : Aperture-priority AE
ISO : 100
Date/Time Original : 2010:07:02 15:24:40
Create Date : 2010:07:02 15:24:40
Shutter Speed Value : 1/250
Exposure Compensation : 0
Metering Mode : Unknown
Custom Rendered : Normal
Exposure Mode : Auto
White Balance : Auto
Scene Capture Type : Standard
Profile Description : sRGB IEC61966-2.1
Date/Time Digitized : 2010:07:02 15:24:40-07:00
Exif Image Width : 550
Exif Image Height : 1000
Rating : 2
Creator Tool : Adobe Photoshop Lightroom
Serial Number : 920601316
Image Number : 3
Flash Compensation : 0
Owner Name : Carmanah
Firmware : 1.1.1
Version : 6.1
Process Version : 5.7
Color Temperature : 5500
Tint : +10
Exposure : 0.00
Shadows : 5
Brightness : +53
Contrast : +22
Saturation : 0
Sharpness : 25
Luminance Smoothing : 0
Color Noise Reduction : 25
Chromatic Aberration R : 0
Chromatic Aberration B : 0
Vignette Amount : 0
Shadow Tint : 0
Red Hue : 0
Red Saturation : 0
Green Hue : 0
Green Saturation : 0
Blue Hue : 0
Blue Saturation : 0
Fill Light : 0
Vibrance : 0
Highlight Recovery : 7
Clarity : 0
Defringe : 0
Hue Adjustment Red : 0
Hue Adjustment Orange : 0
Hue Adjustment Yellow : 0
Hue Adjustment Green : 0
Hue Adjustment Aqua : 0
Hue Adjustment Blue : 0
Hue Adjustment Purple : 0
Hue Adjustment Magenta : 0
Saturation Adjustment Red : 0
Saturation Adjustment Orange : 0
Saturation Adjustment Yellow : 0
Saturation Adjustment Green : 0
Saturation Adjustment Aqua : 0
Saturation Adjustment Blue : 0
Saturation Adjustment Purple : 0
Saturation Adjustment Magenta : 0
Luminance Adjustment Red : 0
Luminance Adjustment Orange : 0
Luminance Adjustment Yellow : 0
Luminance Adjustment Green : 0
Luminance Adjustment Aqua : 0
Luminance Adjustment Blue : 0
Luminance Adjustment Purple : 0
Luminance Adjustment Magenta : 0
Split Toning Shadow Hue : 0
Split Toning Shadow Saturation : 0
Split Toning Highlight Hue : 0
Split Toning Highlight Saturation : 0
Split Toning Balance : 0
Parametric Shadows : 0
Parametric Darks : 0
Parametric Lights : 0
Parametric Highlights : 0
Parametric Shadow Split : 25
Parametric Midtone Split : 50
Parametric Highlight Split : 75
Sharpen Radius : +1.0
Sharpen Detail : 25
Sharpen Edge Masking : 0
Post Crop Vignette Amount : 0
Grain Amount : 0
Color Noise Reduction Detail : 50
Lens Profile Enable : 1
Lens Manual Distortion Amount : 0
Perspective Vertical : 0
Perspective Horizontal : +8
Perspective Rotate : 0.0
Perspective Scale : 100
Convert To Grayscale : False
Tone Curve Name : Medium Contrast
Camera Profile : Adobe Standard
Lens Profile Setup : LensDefaults
Has Settings : True
Crop Top : 0.021428
Crop Left : 0.02381
Crop Bottom : 0.816816
Crop Right : 0.988096
Crop Angle : 0
Crop Constrain To Warp : 0
Crop Width : 1000
Crop Height : 550
Crop Unit : pixels
Has Crop : True
Already Applied : True
Flash Fired : False
Flash Return : No return detection
Flash Mode : Off
Flash Function : False
Flash Red Eye Mode : False
Creator : Carmanah
Title : Vancouver Convention Centre
Subject : Canon 5D, Zeiss 28 2.8 Distagon
Tone Curve : 0, 0, 32, 22, 64, 56, 128, 128, 192, 196, 255, 255
Image Width : 165
Image Height : 300
Bits Per Sample : 8
Color Components : 3
Image Size : 165x300
Megapixels : 0.050
Scale Factor To 35 mm Equivalent : 1.0
Shutter Speed : 1/250
Flash : Off, Did not fire
Circle Of Confusion : 0.030 mm