Uber Exif Photo
By-line : Michael B. Moore
Copyright Notice : © Copyright 2010 Michael B. Moore
Copyright Flag : True
Make : Canon
Camera Model Name : Canon EOS 7D
Modify Date : 2010:10:05 21:09:26
Artist : Michael B. Moore
Copyright : (C) Copyright 2010 Michael B. Moore
Exposure Time : 1/80
F Number : 16.0
Exposure Program : Aperture-priority AE
ISO : 400
Sensitivity Type : Unknown
Date/Time Original : 2010:06:29 04:40:38
Create Date : 2010:06:29 04:40:38
Shutter Speed Value : 1/80
Aperture Value : 16.0
Exposure Compensation : 0
Max Aperture Value : 1.4
Metering Mode : Spot
Focal Length : 50.0 mm
Custom Rendered : Normal
Exposure Mode : Auto
White Balance : Manual
Scene Capture Type : Standard
Serial Number : 370408195
Lens Info : 50mm f/?
Lens Model : 50mm
Profile Description : sRGB IEC61966-2.1
Date/Time Digitized : 2010:06:29 04:40:38.00-07:00
Exif Image Width : 1333
Exif Image Height : 2000
Rating : 4
Creator Tool : Adobe Photoshop Lightroom
Lens : 50mm
Image Number : 0
Flash Compensation : 0
Firmware : 1.2.1
Marked : True
Version : 6.2
Process Version : 5.7
Color Temperature : 5250
Tint : +8
Exposure : -0.10
Shadows : 5
Brightness : +50
Contrast : +25
Saturation : 0
Sharpness : 25
Luminance Smoothing : 0
Color Noise Reduction : 25
Chromatic Aberration R : 0
Chromatic Aberration B : 0
Vignette Amount : 0
Shadow Tint : 0
Red Hue : 0
Red Saturation : 0
Green Hue : 0
Green Saturation : 0
Blue Hue : 0
Blue Saturation : 0
Fill Light : 0
Vibrance : +25
Highlight Recovery : 0
Clarity : +66
Defringe : 0
Hue Adjustment Red : 0
Hue Adjustment Orange : 0
Hue Adjustment Yellow : 0
Hue Adjustment Green : 0
Hue Adjustment Aqua : 0
Hue Adjustment Blue : 0
Hue Adjustment Purple : 0
Hue Adjustment Magenta : 0
Saturation Adjustment Red : 0
Saturation Adjustment Orange : 0
Saturation Adjustment Yellow : 0
Saturation Adjustment Green : 0
Saturation Adjustment Aqua : 0
Saturation Adjustment Blue : 0
Saturation Adjustment Purple : 0
Saturation Adjustment Magenta : 0
Luminance Adjustment Red : 0
Luminance Adjustment Orange : 0
Luminance Adjustment Yellow : 0
Luminance Adjustment Green : 0
Luminance Adjustment Aqua : 0
Luminance Adjustment Blue : -63
Luminance Adjustment Purple : 0
Luminance Adjustment Magenta : 0
Split Toning Shadow Hue : 0
Split Toning Shadow Saturation : 0
Split Toning Highlight Hue : 0
Split Toning Highlight Saturation : 0
Split Toning Balance : 0
Parametric Shadows : 0
Parametric Darks : 0
Parametric Lights : 0
Parametric Highlights : 0
Parametric Shadow Split : 25
Parametric Midtone Split : 50
Parametric Highlight Split : 75
Sharpen Radius : +1.0
Sharpen Detail : 25
Sharpen Edge Masking : 0
Post Crop Vignette Amount : 0
Grain Amount : 0
Color Noise Reduction Detail : 50
Lens Profile Enable : 0
Lens Manual Distortion Amount : 0
Perspective Vertical : 0
Perspective Horizontal : 0
Perspective Rotate : 0.0
Perspective Scale : 100
Convert To Grayscale : False
Tone Curve Name : Medium Contrast
Camera Profile : Adobe Standard
Lens Profile Setup : LensDefaults
Has Settings : True
Has Crop : False
Already Applied : True
Flash Fired : False
Flash Return : No return detection
Flash Mode : Off
Flash Function : False
Flash Red Eye Mode : False
Creator : Michael B. Moore
Rights : © Copyright 2010 Michael B. Moore
Creator Postal Code : 94941
Creator Region : CA
Creator Country : USA
Creator City : Mill Valley
Creator Work URL : www.pureinfodesign.com
Usage Terms : All rights reserved
Tone Curve : 0, 0, 32, 22, 64, 56, 128, 128, 192, 196, 255, 255
Image Width : 200
Image Height : 300
Bits Per Sample : 8
Color Components : 3
Aperture : 16.0
Image Size : 200x300
Megapixels : 0.060
Scale Factor To 35 mm Equivalent : 1.6
Shutter Speed : 1/80
Create Date : 2010:06:29 04:40:38.00
Date/Time Original : 2010:06:29 04:40:38.00
Flash : Off, Did not fire
Circle Of Confusion : 0.019 mm
Field Of View : 25.8 deg
Focal Length : 50.0 mm (35 mm equivalent: 78.5 mm)
Hyperfocal Distance : 8.17 m
Light Value : 12.3
Lens ID : Carl Zeiss Planar T* 50mm f/1.4 ZE