Uber Exif Photo
Object Name : Evening Gondolas, Venice 2010
Keywords : Venice
Make : Canon
Camera Model Name : Canon EOS-1Ds Mark III
Modify Date : 2010:10:18 19:49:32
Exposure Time : 8
F Number : 8.0
Exposure Program : Aperture-priority AE
ISO : 200
Sensitivity Type : Unknown
Date/Time Original : 2010:09:13 19:45:00
Create Date : 2010:09:13 19:45:00
Shutter Speed Value : 8
Aperture Value : 8.0
Exposure Compensation : +2/3
Max Aperture Value : 2.0
Metering Mode : Multi-segment
Focal Length : 35.0 mm
Custom Rendered : Normal
Exposure Mode : Auto
White Balance : Auto
Scene Capture Type : Standard
Serial Number : 611643
Lens Info : 35mm f/?
Lens Model : Zeiss Distagon T* 2/35 ZE
Profile Description : sRGB IEC61966-2.1
Date/Time Digitized : 2010:09:13 19:45:00.02+12:00
Exif Image Width : 800
Exif Image Height : 533
Rating : 4
Creator Tool : Adobe Photoshop Lightroom
Lens : Zeiss Distagon T* 2/35 ZE
Image Number : 0
Flash Compensation : 0
Firmware : 1.1.4
Version : 6.2
Process Version : 5.7
Color Temperature : 5750
Tint : -10
Exposure : -1.09
Shadows : 5
Brightness : +50
Contrast : +25
Saturation : +20
Sharpness : 53
Luminance Smoothing : 0
Color Noise Reduction : 0
Chromatic Aberration R : 0
Chromatic Aberration B : 0
Vignette Amount : 0
Shadow Tint : 0
Red Hue : 0
Red Saturation : 0
Green Hue : 0
Green Saturation : 0
Blue Hue : 0
Blue Saturation : 0
Fill Light : 0
Vibrance : +26
Highlight Recovery : 0
Clarity : +25
Defringe : 0
Hue Adjustment Red : 0
Hue Adjustment Orange : 0
Hue Adjustment Yellow : 0
Hue Adjustment Green : 0
Hue Adjustment Aqua : 0
Hue Adjustment Blue : 0
Hue Adjustment Purple : 0
Hue Adjustment Magenta : 0
Saturation Adjustment Red : 0
Saturation Adjustment Orange : 0
Saturation Adjustment Yellow : 0
Saturation Adjustment Green : 0
Saturation Adjustment Aqua : 0
Saturation Adjustment Blue : 0
Saturation Adjustment Purple : 0
Saturation Adjustment Magenta : 0
Luminance Adjustment Red : 0
Luminance Adjustment Orange : 0
Luminance Adjustment Yellow : 0
Luminance Adjustment Green : 0
Luminance Adjustment Aqua : 0
Luminance Adjustment Blue : 0
Luminance Adjustment Purple : 0
Luminance Adjustment Magenta : 0
Split Toning Shadow Hue : 0
Split Toning Shadow Saturation : 0
Split Toning Highlight Hue : 0
Split Toning Highlight Saturation : 0
Split Toning Balance : 0
Parametric Shadows : -15
Parametric Darks : -5
Parametric Lights : +12
Parametric Highlights : +16
Parametric Shadow Split : 25
Parametric Midtone Split : 50
Parametric Highlight Split : 75
Sharpen Radius : +0.7
Sharpen Detail : 26
Sharpen Edge Masking : 57
Post Crop Vignette Amount : 0
Grain Amount : 0
Lens Profile Enable : 0
Lens Manual Distortion Amount : 0
Perspective Vertical : 0
Perspective Horizontal : 0
Perspective Rotate : 0.0
Perspective Scale : 100
Convert To Grayscale : False
Tone Curve Name : Medium Contrast
Camera Profile : ACR 4.4
Lens Profile Setup : LensDefaults
Has Settings : True
Crop Top : 0.009996
Crop Left : 0.002777
Crop Bottom : 0.990004
Crop Right : 0.997223
Crop Angle : -0.385654
Crop Constrain To Warp : 0
Crop Width : 800
Crop Height : 533
Crop Unit : pixels
Has Crop : True
Already Applied : True
Flash Fired : False
Flash Return : No return detection
Flash Mode : Off
Flash Function : False
Flash Red Eye Mode : False
Title : Evening Gondolas, Venice 2010
Subject : Venice
Tone Curve : 0, 0, 32, 22, 64, 56, 128, 128, 192, 196, 255, 255
Gradient Based Corr What : Correction
Gradient Based Corr Amount : 1.000000
Gradient Based Corr Active : true
Gradient Based Corr Exposure : -0.362000
Gradient Based Corr Saturation : 0.034000
Gradient Based Corr Contrast : 0.000000
Gradient Based Corr Clarity : 0.000000
Gradient Based Corr Sharpness : 0.000000
Gradient Based Corr Brightness : 0.000000
Gradient Based Corr Toning Hue : 50.000000
Gradient Based Corr Toning Saturation : 0.090000
Gradient Based Corr Mask What : Mask/Gradient
Gradient Based Corr Mask Value : 1.000000
Gradient Based Corr Mask Zero X : 0.475302
Gradient Based Corr Mask Zero Y : 0.565074
Gradient Based Corr Mask Full X : 0.469813
Gradient Based Corr Mask Full Y : 0.074135
Image Width : 300
Image Height : 200
Bits Per Sample : 8
Color Components : 3
Aperture : 8.0
Image Size : 300x200
Megapixels : 0.060
Scale Factor To 35 mm Equivalent : 1.0
Shutter Speed : 8
Create Date : 2010:09:13 19:45:00.02
Date/Time Original : 2010:09:13 19:45:00.02
Flash : Off, Did not fire
Circle Of Confusion : 0.030 mm
Field Of View : 54.5 deg
Focal Length : 35.0 mm (35 mm equivalent: 35.0 mm)
Hyperfocal Distance : 5.09 m
Light Value : 2.0
Lens ID : Carl Zeiss Distagon T* 35mm f/2 ZE