Uber Exif Photo
By-line : Michael_Campbell
Copyright Notice : Michael_Campbell
Make : PENTAX
Camera Model Name : PENTAX K-7
Software : K-7 Ver 1.10
Modify Date : 2010:10:28 12:39:43
Artist : Michael_Campbell
Copyright : Michael_Campbell
Exposure Time : 1/500
F Number : 2.8
Exposure Program : Aperture-priority AE
ISO : 100
Date/Time Original : 2010:10:16 17:54:16
Create Date : 2010:10:16 17:54:16
Shutter Speed Value : 1/500
Aperture Value : 2.8
Exposure Compensation : 0
Metering Mode : Center-weighted average
Focal Length : 28.0 mm
Sensing Method : One-chip color area
Custom Rendered : Normal
Exposure Mode : Auto
White Balance : Auto
Focal Length In 35mm Format : 42 mm
Scene Capture Type : Standard
Contrast : High
Saturation : Normal
Sharpness : Hard
Subject Distance Range : Distant
Profile Description : sRGB IEC61966-2.1
Date/Time Digitized : 2010:10:16 17:54:16-05:00
Exif Image Width : 3104
Exif Image Height : 4672
Creator Tool : Adobe Photoshop Lightroom
Lens : A Series Lens
Version : 6.1
Process Version : 5.7
Color Temperature : 3786
Tint : +10
Exposure : +0.48
Shadows : 11
Brightness : +50
Luminance Smoothing : 0
Color Noise Reduction : 25
Chromatic Aberration R : 0
Chromatic Aberration B : 0
Vignette Amount : -100
Vignette Midpoint : 0
Shadow Tint : 0
Red Hue : +14
Red Saturation : +21
Green Hue : +88
Green Saturation : +10
Blue Hue : +7
Blue Saturation : +12
Fill Light : 47
Vibrance : +24
Highlight Recovery : 71
Clarity : +100
Defringe : 0
Hue Adjustment Red : +100
Hue Adjustment Orange : +48
Hue Adjustment Yellow : 0
Hue Adjustment Green : -19
Hue Adjustment Aqua : 0
Hue Adjustment Blue : 0
Hue Adjustment Purple : +2
Hue Adjustment Magenta : +5
Saturation Adjustment Red : -100
Saturation Adjustment Orange : -100
Saturation Adjustment Yellow : -100
Saturation Adjustment Green : -98
Saturation Adjustment Aqua : -100
Saturation Adjustment Blue : -100
Saturation Adjustment Purple : -100
Saturation Adjustment Magenta : -100
Luminance Adjustment Red : +2
Luminance Adjustment Orange : -64
Luminance Adjustment Yellow : -76
Luminance Adjustment Green : +95
Luminance Adjustment Aqua : -100
Luminance Adjustment Blue : +98
Luminance Adjustment Purple : +21
Luminance Adjustment Magenta : +52
Split Toning Shadow Hue : 20
Split Toning Shadow Saturation : 5
Split Toning Highlight Hue : 50
Split Toning Highlight Saturation : 29
Split Toning Balance : 0
Parametric Shadows : +45
Parametric Darks : -2
Parametric Lights : +67
Parametric Highlights : -24
Parametric Shadow Split : 25
Parametric Midtone Split : 50
Parametric Highlight Split : 75
Sharpen Radius : +2.0
Sharpen Detail : 65
Sharpen Edge Masking : 27
Post Crop Vignette Amount : -13
Post Crop Vignette Midpoint : 50
Post Crop Vignette Feather : 50
Post Crop Vignette Roundness : 0
Post Crop Vignette Style : Highlight Priority
Post Crop Vignette Highlight Contrast : 0
Grain Amount : 0
Color Noise Reduction Detail : 50
Lens Profile Enable : 0
Lens Manual Distortion Amount : 0
Perspective Vertical : 0
Perspective Horizontal : 0
Perspective Rotate : 0.0
Perspective Scale : 100
Convert To Grayscale : False
Tone Curve Name : Medium Contrast
Camera Profile : Embedded
Lens Profile Setup : LensDefaults
Has Settings : True
Has Crop : False
Already Applied : True
Flash Fired : False
Flash Return : No return detection
Flash Mode : Off
Flash Function : False
Flash Red Eye Mode : False
Creator : Michael_Campbell
Rights : Michael_Campbell
Tone Curve : 0, 0, 32, 22, 64, 56, 128, 128, 192, 196, 255, 255
Image Width : 199
Image Height : 300
Bits Per Sample : 8
Color Components : 3
Aperture : 2.8
Image Size : 199x300
Megapixels : 0.060
Scale Factor To 35 mm Equivalent : 1.5
Shutter Speed : 1/500
Flash : Off, Did not fire
Circle Of Confusion : 0.020 mm
Field Of View : 46.4 deg
Focal Length : 28.0 mm (35 mm equivalent: 42.0 mm)
Hyperfocal Distance : 13.98 m
Light Value : 11.9
Lens ID : A Series Lens