Uber Exif Photo
Make : Canon
Camera Model Name : Canon EOS 5D Mark II
Software : Digital Photo Professional
Modify Date : 2010:11:07 19:54:17
Exposure Time : 1/60
F Number : 2.8
ISO : 400
Sensitivity Type : Unknown
Date/Time Original : 2010:10:03 22:25:37
Create Date : 2010:10:03 22:25:37
Shutter Speed Value : 1/60
Aperture Value : 2.8
Exposure Compensation : -2
Max Aperture Value : 2.0
Focal Length : 35.0 mm
Custom Rendered : Normal
Exposure Mode : Auto
White Balance : Auto
Scene Capture Type : Standard
Serial Number : 1421012697
Lens Info : 35mm f/?
Lens Model : 35mm
Date/Time Digitized : 2010:10:03 22:25:37-04:00
Exif Image Width : 5474
Exif Image Height : 3649
Creator Tool : Adobe Photoshop Lightroom
Lens : 35mm
Image Number : 0
Flash Compensation : 0
Firmware : 2.0.4
Version : 6.2
Process Version : 5.7
Incremental Temperature : 0
Incremental Tint : 0
Exposure : 0.00
Shadows : 1
Brightness : 0
Contrast : 0
Sharpness : 16
Luminance Smoothing : 36
Color Noise Reduction : 0
Chromatic Aberration R : 0
Chromatic Aberration B : 0
Vignette Amount : 0
Shadow Tint : 0
Red Hue : 0
Red Saturation : 0
Green Hue : 0
Green Saturation : 0
Blue Hue : 0
Blue Saturation : 0
Fill Light : 0
Highlight Recovery : 0
Clarity : +17
Defringe : 0
Gray Mixer Red : -11
Gray Mixer Orange : -22
Gray Mixer Yellow : -23
Gray Mixer Green : -27
Gray Mixer Aqua : -17
Gray Mixer Blue : +11
Gray Mixer Purple : +16
Gray Mixer Magenta : +4
Split Toning Shadow Hue : 0
Split Toning Shadow Saturation : 0
Split Toning Highlight Hue : 0
Split Toning Highlight Saturation : 0
Split Toning Balance : 0
Parametric Shadows : 0
Parametric Darks : 0
Parametric Lights : +9
Parametric Highlights : 0
Parametric Shadow Split : 25
Parametric Midtone Split : 50
Parametric Highlight Split : 75
Sharpen Radius : +0.8
Sharpen Detail : 25
Sharpen Edge Masking : 0
Post Crop Vignette Amount : 0
Grain Amount : 0
Luminance Noise Reduction Detail : 54
Luminance Noise Reduction Contrast : 25
Lens Profile Enable : 0
Lens Manual Distortion Amount : 0
Perspective Vertical : 0
Perspective Horizontal : 0
Perspective Rotate : +0.1
Perspective Scale : 100
Convert To Grayscale : True
Tone Curve Name : Linear
Camera Profile : Embedded
Lens Profile Setup : LensDefaults
Has Settings : True
Crop Top : 0.012683
Crop Left : 0.012683
Crop Bottom : 0.987317
Crop Right : 0.987317
Crop Angle : 0
Crop Constrain To Warp : 1
Crop Width : 5474
Crop Height : 3649
Crop Unit : pixels
Has Crop : True
Already Applied : True
Flash Fired : False
Flash Return : No return detection
Flash Mode : Off
Flash Function : False
Flash Red Eye Mode : False
Tone Curve : 0, 0, 255, 255
Image Width : 300
Image Height : 200
Bits Per Sample : 8
Color Components : 1
Aperture : 2.8
Image Size : 300x200
Megapixels : 0.060
Scale Factor To 35 mm Equivalent : 1.0
Shutter Speed : 1/60
Flash : Off, Did not fire
Circle Of Confusion : 0.030 mm
Field Of View : 54.4 deg
Focal Length : 35.0 mm (35 mm equivalent: 35.0 mm)
Hyperfocal Distance : 14.58 m
Light Value : 6.9
Lens ID : 35mm