Uber Exif Photo
Keywords : 2010, Ann Kristin, Christoffer
Caption-Abstract : SONY DSC
Image Description : SONY DSC
Make : SONY
Camera Model Name : DSLR-A700
Software : DSLR-A700 v04
Modify Date : 2010:11:13 15:52:30
Exposure Time : 1/90
F Number : 11.0
Exposure Program : Manual
ISO : 200
Sensitivity Type : Unknown
Date/Time Original : 2010:10:30 13:19:28
Create Date : 2010:10:30 13:19:28
Shutter Speed Value : 1/90
Aperture Value : 11.0
Brightness Value : 2.75
Exposure Compensation : 0
Max Aperture Value : 4.0
Metering Mode : Center-weighted average
Light Source : Unknown
Focal Length : 28.0 mm
Scene Type : Directly photographed
Custom Rendered : Normal
Exposure Mode : Manual
White Balance : Auto
Digital Zoom Ratio : 0
Focal Length In 35mm Format : 42 mm
Scene Capture Type : Standard
Contrast : Normal
Saturation : Normal
Sharpness : Normal
Lens Info : 16-80mm f/3.5-4.5
Lens Model : DT 16-80mm F3.5-4.5 ZA
Date/Time Digitized : 2010:10:30 13:19:28+02:00
Exif Image Width : 2000
Exif Image Height : 866
Creator Tool : Adobe Photoshop Lightroom
Lens : DT 16-80mm F3.5-4.5 ZA
Version : 6.2
Process Version : 5.7
Color Temperature : 6550
Tint : -2
Exposure : 0.00
Shadows : 5
Brightness : +50
Luminance Smoothing : 9
Color Noise Reduction : 25
Chromatic Aberration R : 0
Chromatic Aberration B : 0
Vignette Amount : 0
Shadow Tint : 0
Red Hue : 0
Red Saturation : 0
Green Hue : 0
Green Saturation : 0
Blue Hue : 0
Blue Saturation : 0
Fill Light : 47
Highlight Recovery : 14
Clarity : +25
Defringe : 0
Gray Mixer Red : -5
Gray Mixer Orange : -13
Gray Mixer Yellow : -16
Gray Mixer Green : -23
Gray Mixer Aqua : -20
Gray Mixer Blue : +4
Gray Mixer Purple : +12
Gray Mixer Magenta : +5
Split Toning Shadow Hue : 0
Split Toning Shadow Saturation : 0
Split Toning Highlight Hue : 0
Split Toning Highlight Saturation : 0
Split Toning Balance : 0
Parametric Shadows : 0
Parametric Darks : 0
Parametric Lights : 0
Parametric Highlights : 0
Parametric Shadow Split : 25
Parametric Midtone Split : 50
Parametric Highlight Split : 75
Sharpen Radius : +1.0
Sharpen Detail : 25
Sharpen Edge Masking : 0
Post Crop Vignette Amount : 0
Grain Amount : 0
Luminance Noise Reduction Detail : 50
Color Noise Reduction Detail : 50
Luminance Noise Reduction Contrast : 0
Lens Profile Enable : 0
Lens Manual Distortion Amount : 0
Perspective Vertical : 0
Perspective Horizontal : 0
Perspective Rotate : 0.0
Perspective Scale : 100
Convert To Grayscale : True
Tone Curve Name : Custom
Camera Profile : Adobe Standard
Lens Profile Setup : Custom
Lens Profile Name : Adobe (Sony E 18-55mm F3.5-5.6 OSS)
Lens Profile Filename : Sony NEX-5 (Sony E 18-55mm F3.5-5.6 OSS) - RAW.lcp
Lens Profile Distortion Scale : 100
Lens Profile Chromatic Aberration Scale : 100
Lens Profile Vignetting Scale : 100
Has Settings : True
Crop Top : 0.266371
Crop Left : 0
Crop Bottom : 0.915649
Crop Right : 1
Crop Angle : 0
Crop Constrain To Warp : 0
Crop Width : 2000
Crop Height : 866
Crop Unit : pixels
Has Crop : True
Already Applied : True
Flash Fired : True
Flash Return : No return detection
Flash Mode : On
Flash Function : False
Flash Red Eye Mode : False
Description : SONY DSC
Subject : 2010, Ann Kristin, Christoffer
Tone Curve : 0, 0, 19, 15, 37, 29, 64, 55, 128, 128, 192, 196, 216, 200, 255, 255
Image Width : 300
Image Height : 130
Bits Per Sample : 8
Color Components : 1
Aperture : 11.0
Image Size : 300x130
Megapixels : 0.039
Scale Factor To 35 mm Equivalent : 1.5
Shutter Speed : 1/90
Flash : On, Fired
Circle Of Confusion : 0.020 mm
Field Of View : 46.4 deg
Focal Length : 28.0 mm (35 mm equivalent: 42.0 mm)
Hyperfocal Distance : 3.56 m
Light Value : 12.4
Lens ID : Carl Zeiss Vario-Sonnar T* DT 16-80mm F3.5-4.5 ZA (SAL1680Z)