Uber Exif Photo
By-line : Michael B. Moore
Copyright Notice : © Copyright 2010 Michael B. Moore
Copyright Flag : True
Make : Canon
Camera Model Name : Canon EOS 7D
Modify Date : 2010:11:13 21:16:02
Artist : Michael B Moore
Copyright : (C) Copyright 2010 Michael B. Moore
Exposure Time : 1/100
F Number : 8.0
Exposure Program : Manual
ISO : 400
Sensitivity Type : Unknown
Date/Time Original : 2010:10:30 15:49:26
Create Date : 2010:10:30 15:49:26
Shutter Speed Value : 1/100
Aperture Value : 8.0
Exposure Compensation : 0
Max Aperture Value : 1.4
Metering Mode : Multi-segment
Focal Length : 85.0 mm
Custom Rendered : Normal
Exposure Mode : Manual
White Balance : Auto
Scene Capture Type : Standard
Serial Number : 370408195
Lens Info : 85mm f/?
Lens Model : Zeiss Planar T* 1.4/85 ZE
Date/Time Digitized : 2010:10:30 15:49:26.25-07:00
Exif Image Width : 2000
Exif Image Height : 1333
Rating : 3
Creator Tool : Adobe Photoshop Lightroom
Lens : Zeiss Planar T* 1.4/85 ZE
Image Number : 0
Flash Compensation : 0
Firmware : 1.2.2
Marked : True
Version : 6.2
Process Version : 5.7
Color Temperature : 6100
Tint : +16
Exposure : -1.45
Shadows : 16
Brightness : +50
Contrast : +47
Sharpness : 25
Luminance Smoothing : 0
Color Noise Reduction : 25
Chromatic Aberration R : 0
Chromatic Aberration B : 0
Vignette Amount : 0
Shadow Tint : 0
Red Hue : 0
Red Saturation : 0
Green Hue : 0
Green Saturation : 0
Blue Hue : 0
Blue Saturation : 0
Fill Light : 8
Highlight Recovery : 0
Clarity : +66
Defringe : 0
Gray Mixer Red : +15
Gray Mixer Orange : +15
Gray Mixer Yellow : +13
Gray Mixer Green : -97
Gray Mixer Aqua : -60
Gray Mixer Blue : -46
Gray Mixer Purple : +13
Gray Mixer Magenta : +2
Split Toning Shadow Hue : 0
Split Toning Shadow Saturation : 0
Split Toning Highlight Hue : 0
Split Toning Highlight Saturation : 0
Split Toning Balance : 0
Parametric Shadows : 0
Parametric Darks : 0
Parametric Lights : 0
Parametric Highlights : 0
Parametric Shadow Split : 25
Parametric Midtone Split : 50
Parametric Highlight Split : 75
Sharpen Radius : +1.0
Sharpen Detail : 25
Sharpen Edge Masking : 0
Post Crop Vignette Amount : -16
Post Crop Vignette Midpoint : 50
Post Crop Vignette Feather : 50
Post Crop Vignette Roundness : 0
Post Crop Vignette Style : Highlight Priority
Post Crop Vignette Highlight Contrast : 0
Grain Amount : 0
Color Noise Reduction Detail : 50
Lens Profile Enable : 1
Lens Manual Distortion Amount : 0
Perspective Vertical : 0
Perspective Horizontal : 0
Perspective Rotate : 0.0
Perspective Scale : 100
Convert To Grayscale : True
Tone Curve Name : Medium Contrast
Camera Profile : Adobe Standard
Lens Profile Setup : LensDefaults
Lens Profile Name : Adobe (Zeiss Planar T* 1,4/85 ZE)
Lens Profile Filename : Canon (Zeiss Planar T 85 f14 ZE).lcp
Lens Profile Distortion Scale : 100
Lens Profile Chromatic Aberration Scale : 100
Lens Profile Vignetting Scale : 100
Has Settings : True
Crop Top : 0.006211
Crop Left : 0.001725
Crop Bottom : 0.993789
Crop Right : 0.998275
Crop Angle : -0.238731
Crop Constrain To Warp : 0
Crop Width : 2000
Crop Height : 1333
Crop Unit : pixels
Has Crop : True
Already Applied : True
Flash Fired : False
Flash Return : No return detection
Flash Mode : Off
Flash Function : False
Flash Red Eye Mode : False
Creator : Michael B. Moore
Rights : © Copyright 2010 Michael B. Moore
Creator Postal Code : 94941
Creator Region : CA
Creator Country : USA
Creator City : Mill Valley
Creator Work URL : www.pureinfodesign.com
Usage Terms : All rights reserved
Tone Curve : 0, 0, 32, 22, 64, 56, 128, 128, 192, 196, 255, 255
Gradient Based Corr What : Correction
Gradient Based Corr Amount : 1.000000
Gradient Based Corr Active : true
Gradient Based Corr Exposure : -0.176471
Gradient Based Corr Saturation : -0.011765
Gradient Based Corr Contrast : 0.000000
Gradient Based Corr Clarity : -0.011765
Gradient Based Corr Sharpness : -0.011765
Gradient Based Corr Brightness : 0.000000
Gradient Based Corr Toning Hue : 240.000000
Gradient Based Corr Toning Saturation : 0.000000
Gradient Based Corr Mask What : Mask/Gradient
Gradient Based Corr Mask Value : 1.000000
Gradient Based Corr Mask Zero X : 0.384324
Gradient Based Corr Mask Zero Y : 0.347249
Gradient Based Corr Mask Full X : 0.364096
Gradient Based Corr Mask Full Y : -0.003795
Image Width : 300
Image Height : 200
Bits Per Sample : 8
Color Components : 1
Aperture : 8.0
Image Size : 300x200
Megapixels : 0.060
Scale Factor To 35 mm Equivalent : 1.6
Shutter Speed : 1/100
Create Date : 2010:10:30 15:49:26.25
Date/Time Original : 2010:10:30 15:49:26.25
Flash : Off, Did not fire
Circle Of Confusion : 0.019 mm
Field Of View : 15.4 deg
Focal Length : 85.0 mm (35 mm equivalent: 133.5 mm)
Hyperfocal Distance : 47.20 m
Light Value : 10.6
Lens ID : Unknown (33) 85mm