Uber Exif Photo
By-line : Michael B. Moore
Copyright Notice : © Copyright 2010 Michael B. Moore
Copyright Flag : True
Make : Canon
Camera Model Name : Canon EOS 7D
Modify Date : 2010:11:13 21:15:48
Artist : Michael B Moore
Copyright : (C) Copyright 2010 Michael B. Moore
Exposure Time : 1/1000
F Number : 1.6
Exposure Program : Shutter speed priority AE
ISO : 100
Sensitivity Type : Unknown
Date/Time Original : 2010:10:19 17:29:11
Create Date : 2010:10:19 17:29:11
Shutter Speed Value : 1/1000
Aperture Value : 1.6
Exposure Compensation : 0
Max Aperture Value : 1.4
Metering Mode : Multi-segment
Focal Length : 85.0 mm
Custom Rendered : Normal
Exposure Mode : Auto
White Balance : Auto
Scene Capture Type : Standard
Serial Number : 370408195
Lens Info : 85mm f/?
Lens Model : Zeiss Planar T* 1.4/85 ZE
Profile Description : sRGB IEC61966-2.1
Date/Time Digitized : 2010:10:19 17:29:11.08-07:00
Exif Image Width : 2000
Exif Image Height : 1333
Creator Tool : Adobe Photoshop Lightroom
Lens : Zeiss Planar T* 1.4/85 ZE
Image Number : 0
Flash Compensation : 0
Firmware : 1.2.2
Marked : True
Version : 6.2
Process Version : 5.7
Color Temperature : 5000
Tint : +6
Exposure : 0.00
Shadows : 5
Brightness : +50
Contrast : +25
Saturation : 0
Sharpness : 25
Luminance Smoothing : 0
Color Noise Reduction : 25
Chromatic Aberration R : 0
Chromatic Aberration B : 0
Vignette Amount : 0
Shadow Tint : 0
Red Hue : 0
Red Saturation : 0
Green Hue : 0
Green Saturation : 0
Blue Hue : 0
Blue Saturation : 0
Fill Light : 0
Vibrance : +39
Highlight Recovery : 0
Clarity : +64
Defringe : 0
Hue Adjustment Red : 0
Hue Adjustment Orange : 0
Hue Adjustment Yellow : 0
Hue Adjustment Green : 0
Hue Adjustment Aqua : 0
Hue Adjustment Blue : 0
Hue Adjustment Purple : 0
Hue Adjustment Magenta : 0
Saturation Adjustment Red : 0
Saturation Adjustment Orange : 0
Saturation Adjustment Yellow : 0
Saturation Adjustment Green : 0
Saturation Adjustment Aqua : 0
Saturation Adjustment Blue : 0
Saturation Adjustment Purple : 0
Saturation Adjustment Magenta : 0
Luminance Adjustment Red : 0
Luminance Adjustment Orange : 0
Luminance Adjustment Yellow : 0
Luminance Adjustment Green : 0
Luminance Adjustment Aqua : 0
Luminance Adjustment Blue : 0
Luminance Adjustment Purple : 0
Luminance Adjustment Magenta : 0
Split Toning Shadow Hue : 0
Split Toning Shadow Saturation : 0
Split Toning Highlight Hue : 0
Split Toning Highlight Saturation : 0
Split Toning Balance : 0
Parametric Shadows : 0
Parametric Darks : 0
Parametric Lights : 0
Parametric Highlights : 0
Parametric Shadow Split : 25
Parametric Midtone Split : 50
Parametric Highlight Split : 75
Sharpen Radius : +1.0
Sharpen Detail : 25
Sharpen Edge Masking : 0
Post Crop Vignette Amount : 0
Grain Amount : 0
Color Noise Reduction Detail : 50
Lens Profile Enable : 1
Lens Manual Distortion Amount : 0
Perspective Vertical : 0
Perspective Horizontal : 0
Perspective Rotate : 0.0
Perspective Scale : 100
Convert To Grayscale : False
Tone Curve Name : Medium Contrast
Camera Profile : Adobe Standard
Lens Profile Setup : LensDefaults
Lens Profile Name : Adobe (Zeiss Planar T* 1,4/85 ZE)
Lens Profile Filename : Canon (Zeiss Planar T 85 f14 ZE).lcp
Lens Profile Distortion Scale : 100
Lens Profile Chromatic Aberration Scale : 100
Lens Profile Vignetting Scale : 100
Has Settings : True
Crop Top : 0
Crop Left : 0.006226
Crop Bottom : 1
Crop Right : 0.993774
Crop Angle : 0.332146
Crop Constrain To Warp : 0
Crop Width : 2000
Crop Height : 1333
Crop Unit : pixels
Has Crop : True
Already Applied : True
Flash Fired : False
Flash Return : No return detection
Flash Mode : Off
Flash Function : False
Flash Red Eye Mode : False
Creator : Michael B. Moore
Rights : © Copyright 2010 Michael B. Moore
Creator Postal Code : 94941
Creator Region : CA
Creator Country : USA
Creator City : Mill Valley
Creator Work URL : www.pureinfodesign.com
Usage Terms : All rights reserved
Tone Curve : 0, 0, 32, 22, 64, 56, 128, 128, 192, 196, 255, 255
Image Width : 300
Image Height : 200
Bits Per Sample : 8
Color Components : 3
Aperture : 1.6
Image Size : 300x200
Megapixels : 0.060
Scale Factor To 35 mm Equivalent : 1.6
Shutter Speed : 1/1000
Create Date : 2010:10:19 17:29:11.08
Date/Time Original : 2010:10:19 17:29:11.08
Flash : Off, Did not fire
Circle Of Confusion : 0.019 mm
Field Of View : 15.4 deg
Focal Length : 85.0 mm (35 mm equivalent: 133.5 mm)
Hyperfocal Distance : 236.00 m
Light Value : 11.3
Lens ID : Unknown (33) 85mm