Uber Exif Photo
Photometric Interpretation : RGB
Make : Canon
Camera Model Name : Canon EOS 5D Mark II
Orientation : Horizontal (normal)
Samples Per Pixel : 3
Planar Configuration : Chunky
Software : Adobe Photoshop CS5 Windows
Modify Date : 2010:11:28 16:02:15
Exposure Time : 1/500
F Number : 8.0
Exposure Program : Aperture-priority AE
ISO : 250
Date/Time Original : 2010:05:02 13:02:15
Create Date : 2010:05:02 13:02:15
Shutter Speed Value : 1/500
Aperture Value : 8.0
Exposure Compensation : 0
Max Aperture Value : 2.8
Metering Mode : Multi-segment
Flash : Off, Did not fire
Focal Length : 21.0 mm
Color Space : Uncalibrated
Exif Image Width : 2042
Exif Image Height : 1362
Custom Rendered : Normal
Exposure Mode : Auto
White Balance : Auto
Scene Capture Type : Standard
Profile Description : Adobe RGB (1998)
Rating : 0
Creator Tool : Adobe Photoshop CS5 Windows
Serial Number : 1831100646
Lens Info : 21mm f/?
Lens : 21mm
Image Number : 0
Flash Compensation : 0
Firmware : 2.0.4
Raw File Name : _MG_8324.CR2
Version : 5.2
Color Temperature : 5250
Tint : +5
Exposure : 0.00
Shadows : 5
Brightness : +50
Contrast : +25
Saturation : 0
Sharpness : 0
Luminance Smoothing : 0
Color Noise Reduction : 25
Chromatic Aberration R : 0
Chromatic Aberration B : 0
Vignette Amount : 0
Shadow Tint : 0
Red Hue : 0
Red Saturation : 0
Green Hue : 0
Green Saturation : 0
Blue Hue : 0
Blue Saturation : 0
Fill Light : 0
Vibrance : 0
Highlight Recovery : 14
Clarity : 0
Defringe : 0
Hue Adjustment Red : 0
Hue Adjustment Orange : 0
Hue Adjustment Yellow : 0
Hue Adjustment Green : 0
Hue Adjustment Aqua : 0
Hue Adjustment Blue : 0
Hue Adjustment Purple : 0
Hue Adjustment Magenta : 0
Saturation Adjustment Red : 0
Saturation Adjustment Orange : 0
Saturation Adjustment Yellow : 0
Saturation Adjustment Green : 0
Saturation Adjustment Aqua : 0
Saturation Adjustment Blue : 0
Saturation Adjustment Purple : 0
Saturation Adjustment Magenta : 0
Luminance Adjustment Red : 0
Luminance Adjustment Orange : 0
Luminance Adjustment Yellow : 0
Luminance Adjustment Green : 0
Luminance Adjustment Aqua : 0
Luminance Adjustment Blue : 0
Luminance Adjustment Purple : 0
Luminance Adjustment Magenta : 0
Split Toning Shadow Hue : 0
Split Toning Shadow Saturation : 0
Split Toning Highlight Hue : 0
Split Toning Highlight Saturation : 0
Split Toning Balance : 0
Parametric Shadows : 0
Parametric Darks : 0
Parametric Lights : 0
Parametric Highlights : 0
Parametric Shadow Split : 25
Parametric Midtone Split : 50
Parametric Highlight Split : 75
Sharpen Radius : +1.0
Sharpen Detail : 25
Sharpen Edge Masking : 0
Post Crop Vignette Amount : 0
Convert To Grayscale : False
Tone Curve Name : Medium Contrast
Camera Profile : Adobe Standard
Has Settings : True
Has Crop : False
Already Applied : True
Sidecar For Extension : CR2
Color Mode : RGB
ICC Profile Name : Adobe RGB (1998)
Date Created : 2010:05:02 13:02:15.008
Format : image/jpeg
Tone Curve : 0, 0, 32, 22, 64, 56, 128, 128, 192, 196, 255, 255
Image Width : 300
Image Height : 200
Bits Per Sample : 8
Color Components : 3
Aperture : 8.0
Image Size : 300x200
Megapixels : 0.060
Scale Factor To 35 mm Equivalent : 1.0
Shutter Speed : 1/500
Create Date : 2010:05:02 13:02:15.08
Date/Time Original : 2010:05:02 13:02:15.08
Modify Date : 2010:11:28 16:02:15.08
Circle Of Confusion : 0.031 mm
Field Of View : 82.6 deg
Focal Length : 21.0 mm (35 mm equivalent: 20.5 mm)
Hyperfocal Distance : 1.79 m
Light Value : 13.6
Lens ID : 21mm