Uber Exif Photo
By-line : Po Yin Ho
Make : Canon
Camera Model Name : Canon EOS 20D
Orientation : Horizontal (normal)
Software : Adobe Photoshop CS4 Macintosh
Modify Date : 2010:12:04 08:15:01
Artist : Po Yin Ho
Exposure Time : 1/1000
F Number : 2.8
Exposure Program : Aperture-priority AE
ISO : 200
Date/Time Original : 2010:12:03 22:47:15
Create Date : 2010:12:03 22:47:15
Shutter Speed Value : 1/1000
Aperture Value : 2.8
Exposure Compensation : -2
Max Aperture Value : 2.0
Metering Mode : Multi-segment
Focal Length : 85.0 mm
Color Space : Uncalibrated
Exif Image Width : 1712
Exif Image Height : 2568
Custom Rendered : Normal
Exposure Mode : Auto
White Balance : Auto
Scene Capture Type : Standard
Profile Description : Adobe RGB (1998)
Date/Time Digitized : 2010:12:03 22:47:15Z
Rating : 0
Format : image/jpeg
Serial Number : 730415708
Lens Info : 50mm f/?
Lens : 50.0 mm
Image Number : 58
Flash Compensation : 0
Owner Name : Po Yin Ho
Firmware : 2.0.3
Raw File Name : _MG_0314.CR2
Version : 5.0
Color Temperature : 5750
Tint : -7
Exposure : +0.65
Shadows : 5
Brightness : +50
Contrast : +34
Saturation : 0
Sharpness : 25
Luminance Smoothing : 0
Color Noise Reduction : 25
Chromatic Aberration R : 0
Chromatic Aberration B : 0
Vignette Amount : 0
Shadow Tint : 0
Red Hue : 0
Red Saturation : 0
Green Hue : 0
Green Saturation : 0
Blue Hue : 0
Blue Saturation : 0
Fill Light : 0
Vibrance : +58
Highlight Recovery : 47
Clarity : 0
Defringe : 0
Hue Adjustment Red : 0
Hue Adjustment Orange : 0
Hue Adjustment Yellow : 0
Hue Adjustment Green : 0
Hue Adjustment Aqua : 0
Hue Adjustment Blue : 0
Hue Adjustment Purple : 0
Hue Adjustment Magenta : 0
Saturation Adjustment Red : -100
Saturation Adjustment Orange : +6
Saturation Adjustment Yellow : +13
Saturation Adjustment Green : -99
Saturation Adjustment Aqua : -99
Saturation Adjustment Blue : -97
Saturation Adjustment Purple : 0
Saturation Adjustment Magenta : 0
Luminance Adjustment Red : 0
Luminance Adjustment Orange : 0
Luminance Adjustment Yellow : 0
Luminance Adjustment Green : 0
Luminance Adjustment Aqua : 0
Luminance Adjustment Blue : 0
Luminance Adjustment Purple : 0
Luminance Adjustment Magenta : 0
Split Toning Shadow Hue : 0
Split Toning Shadow Saturation : 0
Split Toning Highlight Hue : 0
Split Toning Highlight Saturation : 0
Split Toning Balance : 0
Parametric Shadows : 0
Parametric Darks : 0
Parametric Lights : 0
Parametric Highlights : 0
Parametric Shadow Split : 25
Parametric Midtone Split : 50
Parametric Highlight Split : 75
Sharpen Radius : +1.0
Sharpen Detail : 25
Sharpen Edge Masking : 0
Post Crop Vignette Amount : 0
Convert To Grayscale : False
Tone Curve Name : Medium Contrast
Camera Profile : ACR 4.4
Has Settings : True
Crop Top : 0.170075
Crop Left : 0.138102
Crop Bottom : 0.792888
Crop Right : 0.914808
Crop Angle : -5.562192
Crop Width : 2
Crop Height : 3
Crop Unit : Unknown (3)
Has Crop : True
Already Applied : True
Color Mode : RGB
ICC Profile Name : Adobe RGB (1998)
Flash Fired : False
Flash Return : No return detection
Flash Mode : Off
Flash Function : False
Flash Red Eye Mode : False
Creator : Po Yin Ho
Tone Curve : 0, 0, 32, 22, 64, 56, 128, 128, 192, 196, 255, 255
Image Width : 200
Image Height : 300
Bits Per Sample : 8
Color Components : 3
Aperture : 2.8
Image Size : 200x300
Megapixels : 0.060
Scale Factor To 35 mm Equivalent : 1.6
Shutter Speed : 1/1000
Flash : Off, Did not fire
Circle Of Confusion : 0.019 mm
Field Of View : 15.1 deg
Focal Length : 85.0 mm (35 mm equivalent: 136.1 mm)
Hyperfocal Distance : 137.54 m
Light Value : 11.9
Lens ID : 50.0mm