Uber Exif Photo
Make : Canon
Camera Model Name : Canon EOS 5D Mark II
Modify Date : 2010:12:09 04:28:59
Exposure Time : 1/3200
F Number : 2.0
Exposure Program : Aperture-priority AE
ISO : 100
Date/Time Original : 2010:12:05 15:11:52
Create Date : 2010:12:05 15:11:52
Shutter Speed Value : 1/3200
Aperture Value : 2.0
Exposure Compensation : 0
Max Aperture Value : 2.0
Metering Mode : Multi-segment
Focal Length : 35.0 mm
Custom Rendered : Normal
Exposure Mode : Auto bracket
White Balance : Manual
Scene Capture Type : Standard
Profile Description : sRGB IEC61966-2.1
Date/Time Digitized : 2010:12:05 15:11:52.37-08:00
Exif Image Width : 1000
Exif Image Height : 594
Creator Tool : Adobe Photoshop Lightroom
Serial Number : 230115456
Lens Info : 35mm f/?
Lens : 35mm
Image Number : 0
Flash Compensation : 0
Firmware : 1.0.6
Version : 4.6
Incremental Temperature : +12
Incremental Tint : 0
Exposure : 0.00
Shadows : 0
Brightness : +32
Contrast : +20
Saturation : +10
Sharpness : 91
Luminance Smoothing : 1
Color Noise Reduction : 1
Chromatic Aberration R : 0
Chromatic Aberration B : 0
Vignette Amount : 0
Shadow Tint : 0
Red Hue : 0
Red Saturation : 0
Green Hue : 0
Green Saturation : 0
Blue Hue : 0
Blue Saturation : 0
Fill Light : 2
Vibrance : +76
Highlight Recovery : 0
Clarity : 0
Defringe : 0
Hue Adjustment Red : 0
Hue Adjustment Orange : 0
Hue Adjustment Yellow : 0
Hue Adjustment Green : 0
Hue Adjustment Aqua : 0
Hue Adjustment Blue : 0
Hue Adjustment Purple : 0
Hue Adjustment Magenta : 0
Saturation Adjustment Red : 0
Saturation Adjustment Orange : +10
Saturation Adjustment Yellow : +10
Saturation Adjustment Green : 0
Saturation Adjustment Aqua : 0
Saturation Adjustment Blue : 0
Saturation Adjustment Purple : 0
Saturation Adjustment Magenta : 0
Luminance Adjustment Red : 0
Luminance Adjustment Orange : 0
Luminance Adjustment Yellow : 0
Luminance Adjustment Green : 0
Luminance Adjustment Aqua : 0
Luminance Adjustment Blue : 0
Luminance Adjustment Purple : 0
Luminance Adjustment Magenta : 0
Split Toning Shadow Hue : 0
Split Toning Shadow Saturation : 7
Split Toning Highlight Hue : 0
Split Toning Highlight Saturation : 10
Split Toning Balance : 0
Parametric Shadows : +12
Parametric Darks : +12
Parametric Lights : +17
Parametric Highlights : +33
Parametric Shadow Split : 25
Parametric Midtone Split : 50
Parametric Highlight Split : 75
Sharpen Radius : +1.0
Sharpen Detail : 35
Sharpen Edge Masking : 0
Post Crop Vignette Amount : 0
Convert To Grayscale : False
Tone Curve Name : Linear
Camera Profile : Embedded
Has Settings : True
Crop Top : 0.054348
Crop Left : 0
Crop Bottom : 0.945652
Crop Right : 1
Crop Angle : 0
Crop Width : 1000
Crop Height : 594
Crop Unit : pixels
Has Crop : True
Already Applied : True
Flash Fired : False
Flash Return : No return detection
Flash Mode : Off
Flash Function : False
Flash Red Eye Mode : False
Tone Curve : 0, 0, 255, 255
Image Width : 300
Image Height : 178
Bits Per Sample : 8
Color Components : 3
Aperture : 2.0
Image Size : 300x178
Megapixels : 0.053
Scale Factor To 35 mm Equivalent : 1.0
Shutter Speed : 1/3200
Create Date : 2010:12:05 15:11:52.37
Date/Time Original : 2010:12:05 15:11:52.37
Flash : Off, Did not fire
Circle Of Confusion : 0.031 mm
Field Of View : 55.6 deg
Focal Length : 35.0 mm (35 mm equivalent: 34.2 mm)
Hyperfocal Distance : 19.89 m
Light Value : 13.6
Lens ID : 35mm