Uber Exif Photo
Make : Canon
Camera Model Name : Canon EOS 5D Mark II
Modify Date : 2011:01:23 02:36:22
Exposure Time : 1/50
F Number : 2.8
Exposure Program : Aperture-priority AE
ISO : 800
Date/Time Original : 2010:12:25 21:47:28
Create Date : 2010:12:25 21:47:28
Shutter Speed Value : 1/50
Aperture Value : 2.8
Exposure Compensation : -2/3
Max Aperture Value : 2.0
Metering Mode : Multi-segment
Focal Length : 35.0 mm
Custom Rendered : Normal
Exposure Mode : Auto bracket
White Balance : Manual
Scene Capture Type : Standard
Profile Description : sRGB IEC61966-2.1
Date/Time Digitized : 2010:12:25 21:47:28.74-08:00
Exif Image Width : 1657
Exif Image Height : 1666
Creator Tool : Adobe Photoshop Lightroom
Serial Number : 230115456
Lens Info : 35mm f/?
Lens : 35mm
Image Number : 0
Flash Compensation : 0
Firmware : 1.0.6
Version : 4.6
Incremental Temperature : +29
Incremental Tint : -28
Exposure : +0.29
Shadows : 20
Brightness : +132
Contrast : +75
Sharpness : 75
Luminance Smoothing : 0
Color Noise Reduction : 4
Chromatic Aberration R : 0
Chromatic Aberration B : 0
Vignette Amount : +38
Vignette Midpoint : 50
Shadow Tint : 0
Red Hue : 0
Red Saturation : 0
Green Hue : 0
Green Saturation : 0
Blue Hue : 0
Blue Saturation : 0
Fill Light : 29
Highlight Recovery : 42
Clarity : +48
Defringe : 0
Gray Mixer Red : -9
Gray Mixer Orange : -19
Gray Mixer Yellow : -22
Gray Mixer Green : -27
Gray Mixer Aqua : -19
Gray Mixer Blue : +9
Gray Mixer Purple : +15
Gray Mixer Magenta : +4
Split Toning Shadow Hue : 46
Split Toning Shadow Saturation : 2
Split Toning Highlight Hue : 53
Split Toning Highlight Saturation : 1
Split Toning Balance : 0
Parametric Shadows : +42
Parametric Darks : -17
Parametric Lights : -26
Parametric Highlights : -24
Parametric Shadow Split : 25
Parametric Midtone Split : 50
Parametric Highlight Split : 75
Sharpen Radius : +1.0
Sharpen Detail : 26
Sharpen Edge Masking : 0
Post Crop Vignette Amount : -52
Post Crop Vignette Midpoint : 50
Post Crop Vignette Feather : 50
Post Crop Vignette Roundness : 0
Convert To Grayscale : True
Tone Curve Name : Medium Contrast
Camera Profile : ACR 4.4
Has Settings : True
Crop Top : 0.200957
Crop Left : 0.437001
Crop Bottom : 0.645933
Crop Right : 0.732057
Crop Angle : 0
Crop Width : 1657
Crop Height : 1666
Crop Unit : pixels
Has Crop : True
Already Applied : True
Flash Fired : False
Flash Return : No return detection
Flash Mode : Off
Flash Function : False
Flash Red Eye Mode : False
Tone Curve : 0, 0, 32, 22, 64, 56, 128, 128, 192, 196, 255, 255
Image Width : 298
Image Height : 300
Bits Per Sample : 8
Color Components : 3
Aperture : 2.8
Image Size : 298x300
Megapixels : 0.089
Scale Factor To 35 mm Equivalent : 1.0
Shutter Speed : 1/50
Create Date : 2010:12:25 21:47:28.74
Date/Time Original : 2010:12:25 21:47:28.74
Flash : Off, Did not fire
Circle Of Confusion : 0.031 mm
Field Of View : 55.6 deg
Focal Length : 35.0 mm (35 mm equivalent: 34.2 mm)
Hyperfocal Distance : 14.21 m
Light Value : 5.6
Lens ID : 35mm