Uber Exif Photo
Caption-Abstract : SONY DSC
Image Description : SONY DSC
Make : SONY
Camera Model Name : DSLR-A850
Software : DSLR-A850 v1.00
Modify Date : 2011:02:01 23:20:15
Exposure Time : 1/250
F Number : 5.6
Exposure Program : Manual
ISO : 100
Sensitivity Type : Unknown
Date/Time Original : 2010:12:12 17:40:55
Create Date : 2010:12:12 17:40:55
Shutter Speed Value : 1/250
Aperture Value : 5.6
Brightness Value : -2
Exposure Compensation : -0.7
Max Aperture Value : 1.4
Metering Mode : Multi-segment
Light Source : Unknown
Focal Length : 50.0 mm
Scene Type : Directly photographed
Custom Rendered : Normal
Exposure Mode : Manual
White Balance : Manual
Focal Length In 35mm Format : 50 mm
Scene Capture Type : Standard
Contrast : Normal
Saturation : Normal
Sharpness : Normal
Lens Info : 50mm f/1.4
Lens Model : 50mm F1.4
Date/Time Digitized : 2010:12:12 17:40:55+01:00
Exif Image Width : 6048
Exif Image Height : 4032
Creator Tool : Adobe Photoshop Lightroom 3.3
Lens : 50mm F1.4
Version : 6.3
Process Version : 5.7
Color Temperature : 4750
Tint : +11
Exposure : +0.55
Shadows : 19
Brightness : +50
Luminance Smoothing : 0
Color Noise Reduction : 25
Chromatic Aberration R : 0
Chromatic Aberration B : 0
Vignette Amount : -100
Vignette Midpoint : 50
Shadow Tint : 0
Red Hue : 0
Red Saturation : 0
Green Hue : 0
Green Saturation : 0
Blue Hue : 0
Blue Saturation : 0
Fill Light : 0
Highlight Recovery : 0
Clarity : +41
Defringe : 0
Gray Mixer Red : -1
Gray Mixer Orange : -13
Gray Mixer Yellow : -18
Gray Mixer Green : -25
Gray Mixer Aqua : -21
Gray Mixer Blue : +5
Gray Mixer Purple : +16
Gray Mixer Magenta : +9
Split Toning Shadow Hue : 0
Split Toning Shadow Saturation : 0
Split Toning Highlight Hue : 0
Split Toning Highlight Saturation : 0
Split Toning Balance : 0
Parametric Shadows : 0
Parametric Darks : 0
Parametric Lights : +42
Parametric Highlights : +42
Parametric Shadow Split : 25
Parametric Midtone Split : 50
Parametric Highlight Split : 75
Sharpen Radius : +1.0
Sharpen Detail : 25
Sharpen Edge Masking : 0
Post Crop Vignette Amount : 0
Grain Amount : 0
Color Noise Reduction Detail : 50
Lens Profile Enable : 0
Lens Manual Distortion Amount : 0
Perspective Vertical : 0
Perspective Horizontal : 0
Perspective Rotate : 0.0
Perspective Scale : 100
Convert To Grayscale : True
Tone Curve Name : Medium Contrast
Camera Profile : Adobe Standard
Lens Profile Setup : LensDefaults
Has Settings : True
Has Crop : False
Already Applied : True
Flash Fired : False
Flash Return : No return detection
Flash Mode : Off
Flash Function : False
Flash Red Eye Mode : False
Description : SONY DSC
Tone Curve : 0, 0, 32, 22, 64, 56, 128, 128, 192, 196, 255, 255
Paint Correction What : Correction
Paint Correction Amount : 1.000000
Paint Correction Active : true
Paint Correction Exposure : 0.000000
Paint Correction Saturation : 0.000000
Paint Correction Contrast : 0.000000
Paint Correction Clarity : -0.402062
Paint Correction Sharpness : 0.000000
Paint Correction Brightness : 0.000000
Paint Correction Toning Hue : 0.000000
Paint Correction Toning Saturation : 0.000000
Paint Correction Mask What : Mask/Paint
Paint Correction Mask Value : 0.959596
Paint Correction Mask Radius : 0.036863
Paint Correction Mask Flow : 0.920000
Paint Correction Mask Center Weight : 0.018801
Image Width : 300
Image Height : 200
Bits Per Sample : 8
Color Components : 1
Aperture : 5.6
Image Size : 300x200
Megapixels : 0.060
Scale Factor To 35 mm Equivalent : 1.0
Shutter Speed : 1/250
Flash : Off, Did not fire
Circle Of Confusion : 0.030 mm
Field Of View : 39.6 deg
Focal Length : 50.0 mm (35 mm equivalent: 50.0 mm)
Hyperfocal Distance : 14.86 m
Light Value : 12.9
Lens ID : Sony 50mm F1.4 (SAL50F14)