Uber Exif Photo
By-line : Ken Yu
Copyright Notice : Copyright: Kenyuphotography.com
Make : Canon
Camera Model Name : Canon EOS 5D Mark II
Orientation : Horizontal (normal)
Software : Adobe Photoshop CS4 Macintosh
Modify Date : 2011:02:28 16:05:44
Artist : Ken Yu
Copyright : Copyright: Kenyuphotography.com
Exposure Time : 30
Exposure Program : Manual
ISO : 100
Date/Time Original : 2011:02:25 18:26:47
Create Date : 2011:02:25 18:26:47
Shutter Speed Value : 30
Exposure Compensation : 0
Metering Mode : Center-weighted average
Focal Length : 50.0 mm
Color Space : Uncalibrated
Exif Image Width : 1124
Exif Image Height : 750
Custom Rendered : Normal
Exposure Mode : Manual
White Balance : Auto
Scene Capture Type : Standard
Profile Description : Adobe RGB (1998)
Date/Time Digitized : 2011:02:25 18:26:47.10-05:00
Rating : 0
Format : image/jpeg
Serial Number : 220105971
Image Number : 0
Flash Compensation : 0
Owner Name : Ken Yu
Firmware : 2.0.4
Raw File Name : IMG_0528.CR2
Version : 5.2
Color Temperature : 7200
Tint : -9
Exposure : -0.55
Shadows : 6
Brightness : +50
Contrast : +46
Saturation : 0
Sharpness : 25
Luminance Smoothing : 0
Color Noise Reduction : 25
Chromatic Aberration R : 0
Chromatic Aberration B : 0
Vignette Amount : 0
Shadow Tint : 0
Red Hue : 0
Red Saturation : 0
Green Hue : 0
Green Saturation : 0
Blue Hue : 0
Blue Saturation : 0
Fill Light : 0
Vibrance : 0
Highlight Recovery : 0
Clarity : 0
Defringe : 0
Hue Adjustment Red : 0
Hue Adjustment Orange : 0
Hue Adjustment Yellow : 0
Hue Adjustment Green : 0
Hue Adjustment Aqua : 0
Hue Adjustment Blue : 0
Hue Adjustment Purple : 0
Hue Adjustment Magenta : 0
Saturation Adjustment Red : +36
Saturation Adjustment Orange : +35
Saturation Adjustment Yellow : +33
Saturation Adjustment Green : 0
Saturation Adjustment Aqua : 0
Saturation Adjustment Blue : 0
Saturation Adjustment Purple : 0
Saturation Adjustment Magenta : 0
Luminance Adjustment Red : 0
Luminance Adjustment Orange : 0
Luminance Adjustment Yellow : 0
Luminance Adjustment Green : 0
Luminance Adjustment Aqua : 0
Luminance Adjustment Blue : 0
Luminance Adjustment Purple : 0
Luminance Adjustment Magenta : 0
Split Toning Shadow Hue : 0
Split Toning Shadow Saturation : 0
Split Toning Highlight Hue : 0
Split Toning Highlight Saturation : 0
Split Toning Balance : 0
Parametric Shadows : 0
Parametric Darks : -3
Parametric Lights : 0
Parametric Highlights : +23
Parametric Shadow Split : 25
Parametric Midtone Split : 50
Parametric Highlight Split : 75
Sharpen Radius : +1.0
Sharpen Detail : 25
Sharpen Edge Masking : 0
Post Crop Vignette Amount : 0
Convert To Grayscale : False
Tone Curve Name : Medium Contrast
Camera Profile : Adobe Standard
Has Settings : True
Has Crop : False
Already Applied : True
Sidecar For Extension : CR2
Color Mode : RGB
ICC Profile Name : Adobe RGB (1998)
Flash Fired : False
Flash Return : No return detection
Flash Mode : Off
Flash Function : False
Flash Red Eye Mode : False
Creator : Ken Yu
Rights : Copyright: Kenyuphotography.com
Tone Curve : 0, 0, 32, 22, 64, 56, 128, 128, 192, 196, 255, 255
Image Width : 300
Image Height : 200
Bits Per Sample : 8
Color Components : 3
Image Size : 300x200
Megapixels : 0.060
Scale Factor To 35 mm Equivalent : 1.0
Shutter Speed : 30
Create Date : 2011:02:25 18:26:47.10
Date/Time Original : 2011:02:25 18:26:47.10
Modify Date : 2011:02:28 16:05:44.10
Flash : Off, Did not fire
Circle Of Confusion : 0.031 mm
Field Of View : 40.5 deg
Focal Length : 50.0 mm (35 mm equivalent: 48.8 mm)