Uber Exif Photo
By-line : Alice Vincent 0663164511
Make : Canon
Camera Model Name : Canon EOS 5D
Modify Date : 2011:03:01 20:45:09
Artist : Alice Vincent 0663164511
Exposure Time : 1/45
F Number : 3.5
Exposure Program : Program AE
ISO : 200
Sensitivity Type : Unknown
Date/Time Original : 2011:02:27 17:57:02
Create Date : 2011:02:27 17:57:02
Shutter Speed Value : 1/45
Aperture Value : 3.5
Exposure Compensation : 0
Max Aperture Value : 2.8
Metering Mode : Multi-segment
Focal Length : 21.0 mm
Custom Rendered : Normal
Exposure Mode : Auto
White Balance : Auto
Scene Capture Type : Standard
Owner Name : Alice Vincent 0663164511
Serial Number : 1230801660
Lens Info : 21mm f/?
Lens Model : 21.0 mm
Profile Description : sRGB IEC61966-2.1
Date/Time Digitized : 2011:02:27 17:57:02+01:00
Exif Image Width : 1600
Exif Image Height : 900
Creator Tool : Adobe Photoshop Lightroom 3.3
Lens : 21.0 mm
Image Number : 5
Flash Compensation : 0
Firmware : 1.1.0
Version : 6.3
Process Version : 5.7
Color Temperature : 5250
Tint : +10
Exposure : 0.00
Shadows : 5
Brightness : +21
Contrast : +60
Saturation : +19
Sharpness : 25
Luminance Smoothing : 0
Color Noise Reduction : 25
Chromatic Aberration R : 0
Chromatic Aberration B : 0
Vignette Amount : 0
Shadow Tint : -1
Red Hue : -16
Red Saturation : +30
Green Hue : -8
Green Saturation : -7
Blue Hue : +4
Blue Saturation : +14
Fill Light : 0
Vibrance : +27
Highlight Recovery : 0
Clarity : 0
Defringe : 0
Hue Adjustment Red : 0
Hue Adjustment Orange : 0
Hue Adjustment Yellow : 0
Hue Adjustment Green : 0
Hue Adjustment Aqua : 0
Hue Adjustment Blue : 0
Hue Adjustment Purple : 0
Hue Adjustment Magenta : 0
Saturation Adjustment Red : 0
Saturation Adjustment Orange : 0
Saturation Adjustment Yellow : 0
Saturation Adjustment Green : 0
Saturation Adjustment Aqua : 0
Saturation Adjustment Blue : 0
Saturation Adjustment Purple : 0
Saturation Adjustment Magenta : 0
Luminance Adjustment Red : 0
Luminance Adjustment Orange : 0
Luminance Adjustment Yellow : 0
Luminance Adjustment Green : 0
Luminance Adjustment Aqua : 0
Luminance Adjustment Blue : 0
Luminance Adjustment Purple : 0
Luminance Adjustment Magenta : 0
Split Toning Shadow Hue : 0
Split Toning Shadow Saturation : 0
Split Toning Highlight Hue : 0
Split Toning Highlight Saturation : 0
Split Toning Balance : 0
Parametric Shadows : 0
Parametric Darks : 0
Parametric Lights : 0
Parametric Highlights : 0
Parametric Shadow Split : 25
Parametric Midtone Split : 50
Parametric Highlight Split : 75
Sharpen Radius : +1.0
Sharpen Detail : 25
Sharpen Edge Masking : 0
Post Crop Vignette Amount : 0
Grain Amount : 0
Color Noise Reduction Detail : 50
Lens Profile Enable : 0
Lens Manual Distortion Amount : 0
Perspective Vertical : 0
Perspective Horizontal : 0
Perspective Rotate : 0.0
Perspective Scale : 100
Convert To Grayscale : False
Tone Curve Name : Medium Contrast
Camera Profile : ACR 4.4
Lens Profile Setup : LensDefaults
Has Settings : True
Crop Top : 0.078125
Crop Left : 0
Crop Bottom : 0.921875
Crop Right : 1
Crop Angle : 0
Crop Constrain To Warp : 0
Crop Width : 1600
Crop Height : 900
Crop Unit : pixels
Has Crop : True
Already Applied : True
Flash Fired : False
Flash Return : No return detection
Flash Mode : Off
Flash Function : False
Flash Red Eye Mode : False
Creator : Alice Vincent 0663164511
Tone Curve : 0, 0, 32, 22, 64, 56, 128, 128, 192, 196, 255, 255
Image Width : 300
Image Height : 169
Bits Per Sample : 8
Color Components : 3
Aperture : 3.5
Image Size : 300x169
Megapixels : 0.051
Scale Factor To 35 mm Equivalent : 1.0
Shutter Speed : 1/45
Flash : Off, Did not fire
Circle Of Confusion : 0.030 mm
Field Of View : 81.1 deg
Focal Length : 21.0 mm (35 mm equivalent: 21.0 mm)
Hyperfocal Distance : 4.20 m
Light Value : 8.1
Lens ID : Carl Zeiss Distagon T* 21mm f/2.8 ZE