Uber Exif Photo
Keywords : Pre Lachaise, Zeiss Distagon T*25 f2.8 ZF2
By-line : Nicolas TARDIEU
Country-Primary Location Name : France
Copyright Notice : Nicolas TARDIEU
Make : NIKON CORPORATION
Camera Model Name : NIKON D7000
Software : Ver.1.01
Modify Date : 2011:03:24 09:30:39
Artist : Nicolas TARDIEU
Copyright : Nicolas TARDIEU
Exposure Time : 1/125
F Number : 2.8
Exposure Program : Manual
ISO : 800
Date/Time Original : 2011:03:23 13:01:19
Create Date : 2011:03:23 13:01:19
Shutter Speed Value : 1/125
Aperture Value : 2.8
Exposure Compensation : 0
Max Aperture Value : 2.8
Metering Mode : Multi-segment
Light Source : Unknown
Focal Length : 25.0 mm
Color Space : Uncalibrated
Sensing Method : One-chip color area
Scene Type : Directly photographed
CFA Pattern : [Red,Green][Green,Blue]
Custom Rendered : Normal
Exposure Mode : Manual
White Balance : Auto
Digital Zoom Ratio : 1
Focal Length In 35mm Format : 37 mm
Scene Capture Type : Standard
Gain Control : Low gain up
Contrast : Normal
Saturation : Normal
Sharpness : Normal
Subject Distance Range : Unknown
GPS Version ID : 2.3.0.0
GPS Time Stamp : 12:01:19
GPS Speed : 0.4423076923
GPS Date Stamp : 2011:03:23
Profile Description : sRGB IEC61966-2.1
Image Number : 1143
Lens : Unknown (00 48 38 38 24 24 00 00)
Lens Info : 25mm f/2.8
Serial Number : 6059164
Creator : Nicolas TARDIEU
Rights : Nicolas TARDIEU
Subject : Père Lachaise, Zeiss Distagon T*25 f2.8 ZF2
Date/Time Digitized : 2011:03:23 13:01:19.60+01:00
Flash Fired : False
Flash Function : False
Flash Mode : Off
Flash Red Eye Mode : False
Flash Return : No return detection
GPS Altitude : 32.4461523588554 m
Exif Image Width : 1325
Exif Image Height : 2000
City : Paris
Country : France
Date Created : 2011:03:23 13:01:19.60
Reference Black White : 0, 255, 0, 255, 0, 255
Creator Tool : Adobe Photoshop Lightroom 3.3
Already Applied : True
Blue Hue : 0
Blue Saturation : 0
Brightness : +50
Camera Profile : Adobe Standard
Chromatic Aberration B : 0
Chromatic Aberration R : 0
Clarity : +50
Color Noise Reduction : 25
Convert To Grayscale : False
Crop Angle : 2.53521
Crop Bottom : 1
Crop Height : 1325
Crop Left : 0.045074
Crop Right : 0.954926
Crop Top : 0
Crop Unit : pixels
Crop Width : 2000
Defringe : 0
Exposure : 0.00
Fill Light : 0
Green Hue : 0
Green Saturation : 0
Has Crop : True
Has Settings : True
Highlight Recovery : 0
Hue Adjustment Aqua : 0
Hue Adjustment Blue : 0
Hue Adjustment Green : 0
Hue Adjustment Magenta : 0
Hue Adjustment Orange : 0
Hue Adjustment Purple : 0
Hue Adjustment Red : 0
Hue Adjustment Yellow : 0
Luminance Adjustment Aqua : 0
Luminance Adjustment Blue : 0
Luminance Adjustment Green : 0
Luminance Adjustment Magenta : 0
Luminance Adjustment Orange : 0
Luminance Adjustment Purple : 0
Luminance Adjustment Red : 0
Luminance Adjustment Yellow : 0
Luminance Smoothing : 0
Parametric Darks : -21
Parametric Highlight Split : 75
Parametric Highlights : +12
Parametric Lights : +15
Parametric Midtone Split : 50
Parametric Shadow Split : 25
Parametric Shadows : -12
Post Crop Vignette Amount : -35
Post Crop Vignette Feather : 50
Post Crop Vignette Midpoint : 50
Post Crop Vignette Roundness : 0
Red Hue : 0
Red Saturation : 0
Saturation Adjustment Aqua : 0
Saturation Adjustment Blue : 0
Saturation Adjustment Green : 0
Saturation Adjustment Magenta : 0
Saturation Adjustment Orange : 0
Saturation Adjustment Purple : 0
Saturation Adjustment Red : 0
Saturation Adjustment Yellow : 0
Shadow Tint : 0
Shadows : 5
Sharpen Detail : 25
Sharpen Edge Masking : 0
Sharpen Radius : +1.0
Split Toning Balance : +32
Split Toning Highlight Hue : 52
Split Toning Highlight Saturation : 18
Split Toning Shadow Hue : 215
Split Toning Shadow Saturation : 21
Color Temperature : 6100
Tint : +12
Tone Curve : 0, 0, 32, 16, 64, 50, 128, 128, 192, 202, 255, 255
Tone Curve Name : Strong Contrast
Version : 6.3
Vibrance : +25
Vignette Amount : 0
Image Width : 212
Image Height : 300
Bits Per Sample : 8
Color Components : 3
Aperture : 2.8
Image Size : 212x300
Megapixels : 0.064
Scale Factor To 35 mm Equivalent : 1.5
Shutter Speed : 1/125
Create Date : 2011:03:23 13:01:19.60
GPS Date/Time : 2011:03:23 12:01:19Z
GPS Latitude : 48 deg 51' 39.55" N
GPS Longitude : 2 deg 23' 51.10" E
Flash : Off, Did not fire
GPS Latitude Ref : North
GPS Longitude Ref : East
Circle Of Confusion : 0.020 mm
Field Of View : 51.9 deg
Focal Length : 25.0 mm (35 mm equivalent: 37.0 mm)
GPS Position : 48 deg 51' 39.55" N, 2 deg 23' 51.10" E
Hyperfocal Distance : 10.99 m
Light Value : 6.9