Uber Exif Photo
Make : Canon
Camera Model Name : Canon EOS-1D Mark II N
Orientation : Horizontal (normal)
Software : Adobe Photoshop CS4 Macintosh
Modify Date : 2011:04:20 15:53:47
Exposure Time : 1/800
F Number : 1.4
Exposure Program : Aperture-priority AE
ISO : 125
Date/Time Original : 2011:03:31 23:43:47
Create Date : 2011:03:31 23:43:47
Shutter Speed Value : 1/800
Aperture Value : 1.4
Exposure Compensation : -1
Max Aperture Value : 1.4
Metering Mode : Multi-segment
Focal Length : 50.0 mm
Color Space : Uncalibrated
Exif Image Width : 800
Exif Image Height : 1200
Custom Rendered : Normal
Exposure Mode : Auto
White Balance : Manual
Scene Capture Type : Standard
Profile Description : Adobe RGB (1998)
Date/Time Digitized : 2011:03:31 23:43:47+01:00
Rating : 0
Creator Tool : Adobe Photoshop CS4 Macintosh
Serial Number : 420213
Image Number : 25039
Flash Compensation : 0
Firmware : 1.1.2
Format : image/jpeg
Raw File Name : _PY_0254.jpg
Version : 5.0
Incremental Temperature : 0
Incremental Tint : 0
Exposure : +0.70
Shadows : 0
Brightness : 0
Contrast : +28
Saturation : 0
Sharpness : 0
Luminance Smoothing : 0
Color Noise Reduction : 0
Chromatic Aberration R : 0
Chromatic Aberration B : 0
Vignette Amount : 0
Shadow Tint : 0
Red Hue : 0
Red Saturation : 0
Green Hue : 0
Green Saturation : 0
Blue Hue : 0
Blue Saturation : 0
Fill Light : 0
Vibrance : -54
Highlight Recovery : 0
Clarity : +38
Defringe : 0
Hue Adjustment Red : 0
Hue Adjustment Orange : 0
Hue Adjustment Yellow : 0
Hue Adjustment Green : 0
Hue Adjustment Aqua : 0
Hue Adjustment Blue : 0
Hue Adjustment Purple : 0
Hue Adjustment Magenta : 0
Saturation Adjustment Red : 0
Saturation Adjustment Orange : 0
Saturation Adjustment Yellow : 0
Saturation Adjustment Green : 0
Saturation Adjustment Aqua : 0
Saturation Adjustment Blue : 0
Saturation Adjustment Purple : 0
Saturation Adjustment Magenta : 0
Luminance Adjustment Red : 0
Luminance Adjustment Orange : 0
Luminance Adjustment Yellow : 0
Luminance Adjustment Green : 0
Luminance Adjustment Aqua : 0
Luminance Adjustment Blue : 0
Luminance Adjustment Purple : 0
Luminance Adjustment Magenta : 0
Split Toning Shadow Hue : 0
Split Toning Shadow Saturation : 0
Split Toning Highlight Hue : 0
Split Toning Highlight Saturation : 0
Split Toning Balance : 0
Parametric Shadows : 0
Parametric Darks : 0
Parametric Lights : 0
Parametric Highlights : 0
Parametric Shadow Split : 25
Parametric Midtone Split : 50
Parametric Highlight Split : 75
Sharpen Radius : +1.0
Sharpen Detail : 25
Sharpen Edge Masking : 0
Post Crop Vignette Amount : 0
Convert To Grayscale : False
Tone Curve Name : Linear
Camera Profile : Embedded
Has Settings : True
Has Crop : False
Already Applied : True
Color Mode : RGB
ICC Profile Name : Adobe RGB (1998)
Flash Fired : False
Flash Return : No return detection
Flash Mode : Off
Flash Function : False
Flash Red Eye Mode : False
Tone Curve : 0, 0, 255, 255
Image Width : 200
Image Height : 300
Bits Per Sample : 8
Color Components : 3
Aperture : 1.4
Image Size : 200x300
Megapixels : 0.060
Scale Factor To 35 mm Equivalent : 1.3
Shutter Speed : 1/800
Flash : Off, Did not fire
Circle Of Confusion : 0.024 mm
Field Of View : 32.1 deg
Focal Length : 50.0 mm (35 mm equivalent: 62.7 mm)
Hyperfocal Distance : 74.48 m
Light Value : 10.3