Uber Exif Photo
Make : Canon
Camera Model Name : Canon EOS 7D
Modify Date : 2011:05:09 20:51:31
Exposure Time : 1/8000
F Number : 2.2
Exposure Program : Aperture-priority AE
ISO : 640
Sensitivity Type : Unknown
Date/Time Original : 2011:05:09 08:36:21
Create Date : 2011:05:09 08:36:21
Shutter Speed Value : 1/8000
Aperture Value : 2.2
Exposure Compensation : -1/3
Max Aperture Value : 2.0
Metering Mode : Multi-segment
Focal Length : 35.0 mm
Custom Rendered : Normal
Exposure Mode : Auto
White Balance : Auto
Scene Capture Type : Standard
Serial Number : 1170706630
Lens Info : 35mm f/?
Lens Model : Zeiss Distagon T* 2/35 ZE
Profile Description : sRGB IEC61966-2.1
Date/Time Digitized : 2011:05:09 08:36:21.00-05:00
Exif Image Width : 2474
Exif Image Height : 1648
Creator Tool : Adobe Photoshop Lightroom
Lens : Zeiss Distagon T* 2/35 ZE
Image Number : 0
Flash Compensation : 0
Firmware : 1.2.1
Version : 6.2
Process Version : 5.7
Incremental Temperature : 0
Incremental Tint : 0
Exposure : +0.05
Shadows : 0
Brightness : 0
Contrast : 0
Saturation : 0
Sharpness : 0
Luminance Smoothing : 0
Color Noise Reduction : 0
Chromatic Aberration R : 0
Chromatic Aberration B : 0
Vignette Amount : 0
Shadow Tint : 0
Red Hue : 0
Red Saturation : 0
Green Hue : 0
Green Saturation : 0
Blue Hue : 0
Blue Saturation : 0
Fill Light : 0
Vibrance : +25
Highlight Recovery : 0
Clarity : +50
Defringe : 0
Hue Adjustment Red : 0
Hue Adjustment Orange : 0
Hue Adjustment Yellow : 0
Hue Adjustment Green : 0
Hue Adjustment Aqua : 0
Hue Adjustment Blue : 0
Hue Adjustment Purple : 0
Hue Adjustment Magenta : 0
Saturation Adjustment Red : 0
Saturation Adjustment Orange : 0
Saturation Adjustment Yellow : 0
Saturation Adjustment Green : 0
Saturation Adjustment Aqua : 0
Saturation Adjustment Blue : 0
Saturation Adjustment Purple : 0
Saturation Adjustment Magenta : 0
Luminance Adjustment Red : 0
Luminance Adjustment Orange : 0
Luminance Adjustment Yellow : 0
Luminance Adjustment Green : 0
Luminance Adjustment Aqua : 0
Luminance Adjustment Blue : 0
Luminance Adjustment Purple : 0
Luminance Adjustment Magenta : 0
Split Toning Shadow Hue : 0
Split Toning Shadow Saturation : 0
Split Toning Highlight Hue : 0
Split Toning Highlight Saturation : 0
Split Toning Balance : 0
Parametric Shadows : 0
Parametric Darks : 0
Parametric Lights : 0
Parametric Highlights : 0
Parametric Shadow Split : 25
Parametric Midtone Split : 50
Parametric Highlight Split : 75
Sharpen Radius : +1.0
Sharpen Detail : 25
Sharpen Edge Masking : 0
Post Crop Vignette Amount : 0
Grain Amount : 0
Lens Profile Enable : 0
Lens Manual Distortion Amount : 0
Perspective Vertical : 0
Perspective Horizontal : 0
Perspective Rotate : 0.0
Perspective Scale : 100
Convert To Grayscale : False
Tone Curve Name : Linear
Camera Profile : Embedded
Lens Profile Setup : LensDefaults
Has Settings : True
Crop Top : 0.292129
Crop Left : 0
Crop Bottom : 0.846156
Crop Right : 0.776914
Crop Angle : -8.23564
Crop Constrain To Warp : 0
Crop Width : 2474
Crop Height : 1648
Crop Unit : pixels
Has Crop : True
Already Applied : True
Flash Fired : False
Flash Return : No return detection
Flash Mode : Off
Flash Function : False
Flash Red Eye Mode : False
Tone Curve : 0, 0, 255, 255
Image Width : 300
Image Height : 200
Bits Per Sample : 8
Color Components : 3
Aperture : 2.2
Image Size : 300x200
Megapixels : 0.060
Scale Factor To 35 mm Equivalent : 1.6
Shutter Speed : 1/8000
Create Date : 2011:05:09 08:36:21.00
Date/Time Original : 2011:05:09 08:36:21.00
Flash : Off, Did not fire
Circle Of Confusion : 0.019 mm
Field Of View : 36.3 deg
Focal Length : 35.0 mm (35 mm equivalent: 55.0 mm)
Hyperfocal Distance : 29.10 m
Light Value : 12.6
Lens ID : Carl Zeiss Distagon T* 35mm f/2 ZE