Uber Exif Photo
Caption-Abstract : ModusOperandi
Image Description : ModusOperandi
Make : SONY
Camera Model Name : DSLR-A700
Orientation : Horizontal (normal)
Software : ACD Systems Digital Imaging
Modify Date : 2011:05:24 18:07:27
Exif Image Width : 2000
Exif Image Height : 1400
Web Statement :
Usage Terms :
Creator Tool : Adobe Photoshop Lightroom 3.3
Version : 6.3
Process Version : 5.7
White Balance : As Shot
Incremental Temperature : 0
Incremental Tint : 0
Exposure : 0.00
Shadows : 0
Brightness : 0
Contrast : -10
Sharpness : 0
Luminance Smoothing : 0
Color Noise Reduction : 0
Chromatic Aberration R : 0
Chromatic Aberration B : 0
Vignette Amount : 0
Shadow Tint : 0
Red Hue : 0
Red Saturation : 0
Green Hue : 0
Green Saturation : 0
Blue Hue : 0
Blue Saturation : 0
Fill Light : 0
Highlight Recovery : 0
Clarity : 0
Defringe : 0
Gray Mixer Red : -10
Gray Mixer Orange : -19
Gray Mixer Yellow : +11
Gray Mixer Green : +25
Gray Mixer Aqua : +32
Gray Mixer Blue : +45
Gray Mixer Purple : +15
Gray Mixer Magenta : +3
Split Toning Shadow Hue : 0
Split Toning Shadow Saturation : 0
Split Toning Highlight Hue : 0
Split Toning Highlight Saturation : 0
Split Toning Balance : 0
Parametric Shadows : +3
Parametric Darks : -12
Parametric Lights : +5
Parametric Highlights : 0
Parametric Shadow Split : 25
Parametric Midtone Split : 50
Parametric Highlight Split : 75
Sharpen Radius : +1.0
Sharpen Detail : 25
Sharpen Edge Masking : 0
Post Crop Vignette Amount : 0
Grain Amount : 0
Lens Profile Enable : 0
Lens Manual Distortion Amount : 0
Perspective Vertical : 0
Perspective Horizontal : 0
Perspective Rotate : 0.0
Perspective Scale : 100
Convert To Grayscale : True
Tone Curve Name : Linear
Camera Profile : Embedded
Lens Profile Setup : LensDefaults
Has Settings : True
Has Crop : False
Already Applied : True
Tone Curve : 0, 0, 255, 255
Description : ModusOperandi
Image Width : 300
Image Height : 210
Bits Per Sample : 8
Color Components : 1
Image Size : 300x210
Megapixels : 0.063
Modify Date : 2011:05:24 18:07:27.421