Uber Exif Photo
Object Name : Rye India Black Ale
Keywords : 5D Mark II, Planar 85/1.4 ZE, Rye India Black Ale, beer, craft beer, hangar 24, hangar 24 brewery, zeiss 85mm 1.4
By-line : Photographer: Danny Ta (JudgeDan
Copyright Notice : Copyright: Danny Ta
Caption-Abstract : I made it a point to remember to bring my growler to my parent's house, so I figure I'd make it a point to get it filled. While I was there, I grabbed a pint :) Not too shabby...Info on this beer located here.....http://www.hangar24brewery.com/co_rye_india.htm
Image Description : I made it a point to remember to bring my growler to my parent's house, so I figure I'd make it a point to get it filled. While I was there, I grabbed a pint :) Not too shabby...Info on this beer located here.....http://www.hangar24brewery.com/co_rye_india.htm
Make : Canon
Camera Model Name : Canon EOS 5D Mark II
Software : Adobe Photoshop Lightroom 3.4
Modify Date : 2011:05:31 01:05:09
Artist : Photographer: Danny Ta (JudgeDanny)
Copyright : Copyright: Danny Ta
Exposure Time : 1/1000
F Number : 1.4
Exposure Program : Manual
ISO : 100
Date/Time Original : 2011:05:30 14:10:23
Create Date : 2011:05:30 14:10:23
Shutter Speed Value : 1/1000
Aperture Value : 1.4
Exposure Compensation : 0
Max Aperture Value : 1.4
Metering Mode : Multi-segment
Flash : Off, Did not fire
Focal Length : 85.0 mm
Custom Rendered : Normal
Exposure Mode : Manual
White Balance : Auto
Scene Capture Type : Standard
Owner Name : Danny Ta
Serial Number : 1320811625
Lens Info : 85mm f/?
Lens Model : Zeiss Planar T* 1.4/85 ZE
Profile Description : sRGB IEC61966-2.1
Lens : Zeiss Planar T* 1.4/85 ZE
Image Number : 0
Flash Compensation : 0
Firmware : 2.0.8
Creator Tool : Adobe Photoshop Lightroom 3.4
Date Created : 2011:05:30 14:10:23.01
Version : 6.4
Process Version : 5.7
Color Temperature : 5700
Tint : -2
Exposure : 0.00
Shadows : 5
Brightness : +50
Contrast : +25
Sharpness : 25
Luminance Smoothing : 0
Color Noise Reduction : 25
Chromatic Aberration R : 0
Chromatic Aberration B : 0
Vignette Amount : 0
Shadow Tint : 0
Red Hue : 0
Red Saturation : 0
Green Hue : 0
Green Saturation : 0
Blue Hue : 0
Blue Saturation : 0
Fill Light : 0
Highlight Recovery : 0
Clarity : 0
Defringe : 0
Gray Mixer Red : +16
Gray Mixer Orange : +40
Gray Mixer Yellow : -9
Gray Mixer Green : -12
Gray Mixer Aqua : -35
Gray Mixer Blue : -25
Gray Mixer Purple : +16
Gray Mixer Magenta : +3
Split Toning Shadow Hue : 50
Split Toning Shadow Saturation : 17
Split Toning Highlight Hue : 0
Split Toning Highlight Saturation : 0
Split Toning Balance : +57
Parametric Shadows : 0
Parametric Darks : 0
Parametric Lights : +2
Parametric Highlights : 0
Parametric Shadow Split : 25
Parametric Midtone Split : 48
Parametric Highlight Split : 75
Sharpen Radius : +1.0
Sharpen Detail : 25
Sharpen Edge Masking : 0
Post Crop Vignette Amount : 0
Grain Amount : 0
Color Noise Reduction Detail : 50
Lens Profile Enable : 0
Lens Manual Distortion Amount : 0
Perspective Vertical : 0
Perspective Horizontal : 0
Perspective Rotate : 0.0
Perspective Scale : 100
Convert To Grayscale : True
Tone Curve Name : Medium Contrast
Camera Profile : ACR 4.4
Lens Profile Setup : LensDefaults
Has Settings : True
Crop Top : 0
Crop Left : 0.11617
Crop Bottom : 0.959953
Crop Right : 1
Crop Angle : 0
Crop Constrain To Warp : 0
Crop Width : 4964
Crop Height : 3594
Crop Unit : pixels
Has Crop : True
Already Applied : True
Creator : Photographer: Danny Ta (JudgeDanny).
Title : Rye India Black Ale
Rights : Copyright: Danny Ta
Subject : 5D Mark II, Planar 85/1.4 ZE, Rye India Black Ale, beer, craft beer, hangar 24, hangar 24 brewery, zeiss 85mm 1.4
Description : I made it a point to remember to bring my growler to my parent's house, so I figure I'd make it a point to get it filled. While I was there, I grabbed a pint :) Not too shabby...Info on this beer located here.....http://www.hangar24brewery.com/co_rye_india.htm
Tone Curve : 0, 0, 32, 22, 64, 56, 128, 128, 192, 196, 255, 255
Image Width : 300
Image Height : 217
Bits Per Sample : 8
Color Components : 3
Aperture : 1.4
Image Size : 300x217
Megapixels : 0.065
Scale Factor To 35 mm Equivalent : 1.0
Shutter Speed : 1/1000
Create Date : 2011:05:30 14:10:23.01
Date/Time Original : 2011:05:30 14:10:23.01
Circle Of Confusion : 0.031 mm
Field Of View : 24.5 deg
Focal Length : 85.0 mm (35 mm equivalent: 83.0 mm)
Hyperfocal Distance : 167.63 m
Light Value : 10.9
Lens ID : Unknown (33) 85mm