Uber Exif Photo
Make : Canon
Camera Model Name : Canon EOS 5D Mark II
Orientation : Horizontal (normal)
Software : Adobe Photoshop CS5 Windows
Modify Date : 2011:06:27 15:43:18
Exposure Time : 1/640
F Number : 8.0
Exposure Program : Aperture-priority AE
ISO : 200
Date/Time Original : 2011:06:12 10:25:08
Create Date : 2011:06:12 10:25:08
Shutter Speed Value : 1/640
Aperture Value : 8.0
Exposure Compensation : 0
Max Aperture Value : 4.0
Subject Distance : 3.39 m
Metering Mode : Partial
Flash : Off, Did not fire
Focal Length : 96.0 mm
Color Space : Uncalibrated
Exif Image Width : 1920
Exif Image Height : 1280
Custom Rendered : Normal
Exposure Mode : Auto
White Balance : Auto
Scene Capture Type : Standard
Serial Number : 220106067
Lens Info : 24-105mm f/?
Lens Model : EF24-105mm f/4L IS USM
Profile Description : Adobe RGB (1998)
Lens : EF24-105mm f/4L IS USM
Image Number : 0
Approximate Focus Distance : 3.39
Flash Compensation : 0
Firmware : 2.0.8
Rating : 0
Creator Tool : Adobe Photoshop CS5 Windows
Date Created : 2011:06:12 10:25:08.072
Color Mode : RGB
ICC Profile Name : Adobe RGB (1998)
Format : image/jpeg
Raw File Name : _MG_5601.CR2
Version : 6.4
Process Version : 5.7
Color Temperature : 4750
Tint : +7
Exposure : 0.00
Shadows : 5
Brightness : +75
Contrast : +25
Saturation : 0
Sharpness : 35
Luminance Smoothing : 43
Color Noise Reduction : 59
Chromatic Aberration R : 0
Chromatic Aberration B : 0
Vignette Amount : 0
Shadow Tint : 0
Red Hue : 0
Red Saturation : 0
Green Hue : 0
Green Saturation : 0
Blue Hue : 0
Blue Saturation : 0
Fill Light : 53
Vibrance : 0
Highlight Recovery : 0
Clarity : 0
Defringe : 0
Hue Adjustment Red : 0
Hue Adjustment Orange : 0
Hue Adjustment Yellow : 0
Hue Adjustment Green : 0
Hue Adjustment Aqua : 0
Hue Adjustment Blue : 0
Hue Adjustment Purple : 0
Hue Adjustment Magenta : 0
Saturation Adjustment Red : 0
Saturation Adjustment Orange : 0
Saturation Adjustment Yellow : 0
Saturation Adjustment Green : 0
Saturation Adjustment Aqua : 0
Saturation Adjustment Blue : 0
Saturation Adjustment Purple : 0
Saturation Adjustment Magenta : 0
Luminance Adjustment Red : 0
Luminance Adjustment Orange : 0
Luminance Adjustment Yellow : 0
Luminance Adjustment Green : 0
Luminance Adjustment Aqua : 0
Luminance Adjustment Blue : 0
Luminance Adjustment Purple : 0
Luminance Adjustment Magenta : 0
Split Toning Shadow Hue : 0
Split Toning Shadow Saturation : 0
Split Toning Highlight Hue : 0
Split Toning Highlight Saturation : 0
Split Toning Balance : 0
Parametric Shadows : 0
Parametric Darks : 0
Parametric Lights : 0
Parametric Highlights : 0
Parametric Shadow Split : 25
Parametric Midtone Split : 50
Parametric Highlight Split : 75
Sharpen Radius : +1.0
Sharpen Detail : 25
Sharpen Edge Masking : 20
Post Crop Vignette Amount : +13
Post Crop Vignette Midpoint : 50
Post Crop Vignette Feather : 50
Post Crop Vignette Roundness : 0
Post Crop Vignette Style : Highlight Priority
Grain Amount : 8
Grain Size : 25
Grain Frequency : 50
Luminance Noise Reduction Detail : 50
Color Noise Reduction Detail : 50
Luminance Noise Reduction Contrast : 34
Lens Profile Enable : 0
Lens Manual Distortion Amount : 0
Perspective Vertical : 0
Perspective Horizontal : 0
Perspective Rotate : 0.0
Perspective Scale : 100
Convert To Grayscale : False
Tone Curve Name : Medium Contrast
Camera Profile : Adobe Standard
Lens Profile Setup : LensDefaults
Has Settings : True
Has Crop : False
Already Applied : True
Tone Curve : 0, 0, 32, 22, 64, 56, 128, 128, 192, 196, 255, 255
Image Width : 300
Image Height : 200
Bits Per Sample : 8
Color Components : 3
Aperture : 8.0
Image Size : 300x200
Megapixels : 0.060
Scale Factor To 35 mm Equivalent : 1.0
Shutter Speed : 1/640
Create Date : 2011:06:12 10:25:08.72
Date/Time Original : 2011:06:12 10:25:08.72
Modify Date : 2011:06:27 15:43:18.72
Circle Of Confusion : 0.031 mm
Depth Of Field : 0.60 m (3.12 - 3.72 m)
Field Of View : 21.8 deg
Focal Length : 96.0 mm (35 mm equivalent: 93.7 mm)
Hyperfocal Distance : 37.42 m
Light Value : 14.3
Lens ID : Canon EF 24-105mm f/4L IS USM