Uber Exif Photo
By-line : Victor Pires
Make : Canon
Camera Model Name : Canon EOS 5D Mark II
Orientation : Horizontal (normal)
Software : Adobe Photoshop CS5 Macintosh
Modify Date : 2011:07:05 19:59:25
Artist : Victor Pires
Exposure Time : 1/2500
F Number : 3.2
Exposure Program : Aperture-priority AE
ISO : 100
Date/Time Original : 2011:06:29 16:36:03
Create Date : 2011:06:29 16:36:03
Shutter Speed Value : 1/2500
Aperture Value : 3.2
Exposure Compensation : 0
Max Aperture Value : 2.0
Metering Mode : Multi-segment
Flash : Off, Did not fire
Focal Length : 50.0 mm
Color Space : sRGB
Exif Image Width : 900
Exif Image Height : 600
Custom Rendered : Normal
Exposure Mode : Auto
White Balance : Auto
Scene Capture Type : Standard
Owner Name : Victor Pires
Serial Number : 1430911440
Lens Info : 50mm f/?
Lens Model : Zeiss Makro-Planar T* 2/50 ZE
Profile Description : sRGB IEC61966-2.1
Rating : 1
Label :
Creator Tool : Adobe Photoshop CS5 Macintosh
Format : image/jpeg
Lens : Zeiss Makro-Planar T* 2/50 ZE
Image Number : 0
Flash Compensation : 0
Firmware : 2.0.7
Date Created : 2011:06:29 16:36:03.059
Color Mode : RGB
ICC Profile Name : sRGB IEC61966-2.1
Raw File Name : 20110629-IMG_0071.dng
Version : 6.4.1
Process Version : 5.7
Color Temperature : 4600
Tint : 0
Exposure : 0.00
Shadows : 5
Brightness : +60
Contrast : +70
Saturation : 0
Sharpness : 30
Luminance Smoothing : 15
Color Noise Reduction : 35
Chromatic Aberration R : 0
Chromatic Aberration B : 0
Vignette Amount : 0
Shadow Tint : 0
Red Hue : 0
Red Saturation : 0
Green Hue : 0
Green Saturation : 0
Blue Hue : 0
Blue Saturation : 0
Fill Light : 0
Vibrance : +30
Highlight Recovery : 30
Clarity : +19
Defringe : 0
Hue Adjustment Red : 0
Hue Adjustment Orange : 0
Hue Adjustment Yellow : 0
Hue Adjustment Green : 0
Hue Adjustment Aqua : 0
Hue Adjustment Blue : 0
Hue Adjustment Purple : 0
Hue Adjustment Magenta : 0
Saturation Adjustment Red : -5
Saturation Adjustment Orange : -5
Saturation Adjustment Yellow : 0
Saturation Adjustment Green : +10
Saturation Adjustment Aqua : +10
Saturation Adjustment Blue : +10
Saturation Adjustment Purple : 0
Saturation Adjustment Magenta : 0
Luminance Adjustment Red : +5
Luminance Adjustment Orange : +5
Luminance Adjustment Yellow : -5
Luminance Adjustment Green : -5
Luminance Adjustment Aqua : 0
Luminance Adjustment Blue : -5
Luminance Adjustment Purple : 0
Luminance Adjustment Magenta : 0
Split Toning Shadow Hue : 0
Split Toning Shadow Saturation : 20
Split Toning Highlight Hue : 60
Split Toning Highlight Saturation : 28
Split Toning Balance : 0
Parametric Shadows : -15
Parametric Darks : -5
Parametric Lights : 0
Parametric Highlights : -10
Parametric Shadow Split : 25
Parametric Midtone Split : 50
Parametric Highlight Split : 75
Sharpen Radius : +1.0
Sharpen Detail : 25
Sharpen Edge Masking : 0
Post Crop Vignette Amount : -37
Post Crop Vignette Midpoint : 65
Post Crop Vignette Feather : 85
Post Crop Vignette Roundness : +60
Post Crop Vignette Style : Highlight Priority
Post Crop Vignette Highlight Contrast : 0
Grain Amount : 0
Luminance Noise Reduction Detail : 50
Color Noise Reduction Detail : 50
Luminance Noise Reduction Contrast : 0
Lens Profile Enable : 1
Lens Manual Distortion Amount : 0
Perspective Vertical : 0
Perspective Horizontal : 0
Perspective Rotate : 0.0
Perspective Scale : 100
Convert To Grayscale : False
Tone Curve Name : Linear
Camera Profile : Adobe Standard
Lens Profile Setup : LensDefaults
Lens Profile Name : Adobe (Zeiss Makro-Planar T* 2/50 ZE)
Lens Profile Filename : Canon (Zeiss Makro-Planar T 50 f2 ZE).lcp
Lens Profile Distortion Scale : 100
Lens Profile Chromatic Aberration Scale : 100
Lens Profile Vignetting Scale : 100
Has Settings : True
Crop Top : 0.05851
Crop Left : 0
Crop Bottom : 0.909055
Crop Right : 0.905258
Crop Angle : -1.62812
Crop Constrain To Warp : 0
Has Crop : True
Already Applied : True
Creator : Victor Pires
Tone Curve : 0, 0, 255, 255
Image Width : 300
Image Height : 200
Bits Per Sample : 8
Color Components : 3
Aperture : 3.2
Image Size : 300x200
Megapixels : 0.060
Scale Factor To 35 mm Equivalent : 1.0
Shutter Speed : 1/2500
Create Date : 2011:06:29 16:36:03.59
Date/Time Original : 2011:06:29 16:36:03.59
Circle Of Confusion : 0.031 mm
Field Of View : 40.5 deg
Focal Length : 50.0 mm (35 mm equivalent: 48.8 mm)
Hyperfocal Distance : 25.38 m
Light Value : 14.6
Lens ID : Carl Zeiss Makro-Planar T* 50mm f/2 ZE