Uber Exif Photo
Object Name : Svatba hrdlièek
Keywords : Contax/Yashica, People, Zeiss Planar 50mm F1.4, wedding
By-line : Jakub Mach
Copyright Notice : Jakub Mach 2011
Caption-Abstract : Hrdlièky svatba, Vlènov (Moravia).
Copyright Flag : True
Image Description : Hrdli?ky svatba, Vl?nov (Moravia).
Make : Canon
Camera Model Name : Canon EOS-1D Mark III
Modify Date : 2011:07:07 11:43:20
Artist : Jakub Mach 2011
Copyright : Jakub Mach 2011
Exposure Time : 1/160
F Number : 1.4
Exposure Program : Aperture-priority AE
ISO : 800
Sensitivity Type : Unknown
Date/Time Original : 2011:07:02 11:17:52
Create Date : 2011:07:02 11:17:52
Shutter Speed Value : 1/160
Aperture Value : 1.4
Exposure Compensation : 0
Max Aperture Value : 1.4
Metering Mode : Center-weighted average
Focal Length : 50.0 mm
Custom Rendered : Normal
Exposure Mode : Auto
White Balance : Manual
Scene Capture Type : Standard
Serial Number : 544291
Lens Info : 50mm f/?
Lens Model : 50-50mm
Profile Description : sRGB IEC61966-2.1
Date/Time Digitized : 2011:07:02 11:17:52.00+02:00
Exif Image Width : 1200
Exif Image Height : 800
Creator Tool : Adobe Photoshop Lightroom 3.3
Lens : 50-50mm
Image Number : 0
Flash Compensation : 0
Firmware : 1.2.5
Marked : True
Digital Source Type : http://cv.iptc.org/newscodes/digitalsourcetype/digitalCapture
Version : 6.3
Process Version : 5.7
Color Temperature : 3700
Tint : +16
Exposure : 0.00
Shadows : 5
Brightness : +60
Contrast : +57
Saturation : 0
Sharpness : 25
Luminance Smoothing : 0
Color Noise Reduction : 25
Chromatic Aberration R : 0
Chromatic Aberration B : 0
Vignette Amount : 0
Shadow Tint : 0
Red Hue : 0
Red Saturation : 0
Green Hue : 0
Green Saturation : 0
Blue Hue : 0
Blue Saturation : 0
Fill Light : 0
Vibrance : 0
Highlight Recovery : 9
Clarity : 0
Defringe : 0
Hue Adjustment Red : -5
Hue Adjustment Orange : -5
Hue Adjustment Yellow : 0
Hue Adjustment Green : 0
Hue Adjustment Aqua : 0
Hue Adjustment Blue : 0
Hue Adjustment Purple : 0
Hue Adjustment Magenta : 0
Saturation Adjustment Red : 0
Saturation Adjustment Orange : 0
Saturation Adjustment Yellow : 0
Saturation Adjustment Green : 0
Saturation Adjustment Aqua : 0
Saturation Adjustment Blue : 0
Saturation Adjustment Purple : 0
Saturation Adjustment Magenta : 0
Luminance Adjustment Red : 0
Luminance Adjustment Orange : 0
Luminance Adjustment Yellow : 0
Luminance Adjustment Green : 0
Luminance Adjustment Aqua : 0
Luminance Adjustment Blue : 0
Luminance Adjustment Purple : 0
Luminance Adjustment Magenta : 0
Split Toning Shadow Hue : 0
Split Toning Shadow Saturation : 0
Split Toning Highlight Hue : 0
Split Toning Highlight Saturation : 0
Split Toning Balance : 0
Parametric Shadows : 0
Parametric Darks : -18
Parametric Lights : 0
Parametric Highlights : 0
Parametric Shadow Split : 25
Parametric Midtone Split : 50
Parametric Highlight Split : 75
Sharpen Radius : +1.0
Sharpen Detail : 25
Sharpen Edge Masking : 0
Post Crop Vignette Amount : 0
Grain Amount : 0
Color Noise Reduction Detail : 50
Lens Profile Enable : 0
Lens Manual Distortion Amount : 0
Perspective Vertical : 0
Perspective Horizontal : 0
Perspective Rotate : 0.0
Perspective Scale : 100
Convert To Grayscale : False
Tone Curve Name : Medium Contrast
Camera Profile : Camera Neutral
Lens Profile Setup : LensDefaults
Has Settings : True
Crop Top : 0.071161
Crop Left : 0.151686
Crop Bottom : 0.825843
Crop Right : 0.906367
Crop Angle : 0
Crop Constrain To Warp : 0
Crop Width : 1200
Crop Height : 800
Crop Unit : pixels
Has Crop : True
Already Applied : True
Creator : Jakub Mach
Title : Svatba hrdliček
Rights : Jakub Mach 2011
Subject : Contax/Yashica, People, Zeiss Planar 50mm F1.4, wedding
Description : Hrdličky svatba, Vlčnov (Moravia).
Flash Fired : False
Flash Return : No return detection
Flash Mode : Off
Flash Function : False
Flash Red Eye Mode : False
Creator Country : Czech republic
Creator Work Email : machjakub@seznam.cz
Creator Work URL : machjakub.smugmug.com
Tone Curve : 0, 0, 32, 22, 64, 56, 128, 128, 192, 196, 255, 255
Gradient Based Corr What : Correction
Gradient Based Corr Amount : 1.000000
Gradient Based Corr Active : true
Gradient Based Corr Exposure : 0.000000
Gradient Based Corr Saturation : 0.000000
Gradient Based Corr Contrast : 0.439000
Gradient Based Corr Clarity : 0.000000
Gradient Based Corr Sharpness : 0.000000
Gradient Based Corr Brightness : 0.000000
Gradient Based Corr Toning Hue : 240.000000
Gradient Based Corr Toning Saturation : 0.000000
Gradient Based Corr Mask What : Mask/Gradient
Gradient Based Corr Mask Value : 1.000000
Gradient Based Corr Mask Zero X : 0.424706
Gradient Based Corr Mask Zero Y : 0.320251
Gradient Based Corr Mask Full X : 0.423788
Gradient Based Corr Mask Full Y : 0.476700
Image Width : 300
Image Height : 200
Bits Per Sample : 8
Color Components : 3
Aperture : 1.4
Image Size : 300x200
Megapixels : 0.060
Scale Factor To 35 mm Equivalent : 1.3
Shutter Speed : 1/160
Create Date : 2011:07:02 11:17:52.00
Date/Time Original : 2011:07:02 11:17:52.00
Flash : Off, Did not fire
Circle Of Confusion : 0.023 mm
Field Of View : 31.4 deg
Focal Length : 50.0 mm (35 mm equivalent: 64.1 mm)
Hyperfocal Distance : 76.16 m
Light Value : 5.3
Lens ID : Canon EF 35-80mm f/4-5.6