Uber Exif Photo
Object Name : www.slamahlina.ic.cz
Keywords : Rodina stará
By-line : Jakub Mach
Copyright Notice : Jakub Mach 2011
Caption-Abstract : Stavba ekodomu - sláma, hlína, døevo, minimum betonu. Jivina, 2011.
Copyright Flag : True
Image Description : Stavba ekodomu - slama, hlina, d?evo, minimum betonu. Jivina, 2011.
Make : Canon
Camera Model Name : Canon EOS-1D Mark III
Modify Date : 2011:07:29 06:37:35
Artist : Jakub Mach 2011
Copyright : Jakub Mach 2011
Exposure Time : 1/60
F Number : 1.4
Exposure Program : Aperture-priority AE
ISO : 200
Sensitivity Type : Unknown
Date/Time Original : 2011:05:29 09:48:10
Create Date : 2011:05:29 09:48:10
Shutter Speed Value : 1/60
Aperture Value : 1.4
Exposure Compensation : 0
Max Aperture Value : 1.4
Metering Mode : Center-weighted average
Focal Length : 50.0 mm
Custom Rendered : Normal
Exposure Mode : Auto
White Balance : Manual
Scene Capture Type : Standard
Serial Number : 544291
Lens Info : 50mm f/?
Lens Model : 50-50mm
Profile Description : sRGB IEC61966-2.1
Date/Time Digitized : 2011:05:29 09:48:10.22+02:00
Exif Image Width : 1100
Exif Image Height : 733
Label : Red
Creator Tool : Adobe Photoshop Lightroom 3.3
Lens : 50-50mm
Image Number : 0
Flash Compensation : 0
Firmware : 1.2.5
Marked : True
Digital Source Type : http://cv.iptc.org/newscodes/digitalsourcetype/digitalCapture
Version : 6.3
Process Version : 5.7
Color Temperature : 5050
Tint : +1
Exposure : +0.32
Shadows : 6
Brightness : +13
Contrast : +9
Saturation : -12
Sharpness : 76
Luminance Smoothing : 0
Color Noise Reduction : 25
Chromatic Aberration R : 0
Chromatic Aberration B : 0
Vignette Amount : 0
Shadow Tint : 0
Red Hue : 0
Red Saturation : 0
Green Hue : 0
Green Saturation : 0
Blue Hue : 0
Blue Saturation : 0
Fill Light : 0
Vibrance : +33
Highlight Recovery : 10
Clarity : +10
Defringe : 0
Hue Adjustment Red : 0
Hue Adjustment Orange : 0
Hue Adjustment Yellow : 0
Hue Adjustment Green : 0
Hue Adjustment Aqua : 0
Hue Adjustment Blue : 0
Hue Adjustment Purple : 0
Hue Adjustment Magenta : 0
Saturation Adjustment Red : -7
Saturation Adjustment Orange : +26
Saturation Adjustment Yellow : +13
Saturation Adjustment Green : +21
Saturation Adjustment Aqua : +50
Saturation Adjustment Blue : +58
Saturation Adjustment Purple : +23
Saturation Adjustment Magenta : 0
Luminance Adjustment Red : 0
Luminance Adjustment Orange : 0
Luminance Adjustment Yellow : 0
Luminance Adjustment Green : 0
Luminance Adjustment Aqua : -3
Luminance Adjustment Blue : -22
Luminance Adjustment Purple : 0
Luminance Adjustment Magenta : 0
Split Toning Shadow Hue : 0
Split Toning Shadow Saturation : 0
Split Toning Highlight Hue : 0
Split Toning Highlight Saturation : 0
Split Toning Balance : 0
Parametric Shadows : -20
Parametric Darks : -20
Parametric Lights : +12
Parametric Highlights : 0
Parametric Shadow Split : 25
Parametric Midtone Split : 50
Parametric Highlight Split : 75
Sharpen Radius : +0.8
Sharpen Detail : 14
Sharpen Edge Masking : 53
Post Crop Vignette Amount : 0
Grain Amount : 0
Color Noise Reduction Detail : 50
Lens Profile Enable : 0
Lens Manual Distortion Amount : 0
Perspective Vertical : 0
Perspective Horizontal : 0
Perspective Rotate : 0.0
Perspective Scale : 100
Convert To Grayscale : False
Tone Curve Name : Linear
Camera Profile : Camera Neutral
Lens Profile Setup : LensDefaults
Has Settings : True
Has Crop : False
Already Applied : True
Creator : Jakub Mach
Title : www.slamahlina.ic.cz
Rights : Jakub Mach 2011
Subject : Rodina stará
Description : Stavba ekodomu - sláma, hlína, dřevo, minimum betonu. Jivina, 2011.
Flash Fired : False
Flash Return : No return detection
Flash Mode : Off
Flash Function : False
Flash Red Eye Mode : False
Creator Country : Czech republic
Creator Work Email : machjakub@seznam.cz
Creator Work URL : machjakub.smugmug.com
Tone Curve : 0, 0, 255, 255
Image Width : 300
Image Height : 200
Bits Per Sample : 8
Color Components : 3
Aperture : 1.4
Image Size : 300x200
Megapixels : 0.060
Scale Factor To 35 mm Equivalent : 1.3
Shutter Speed : 1/60
Create Date : 2011:05:29 09:48:10.22
Date/Time Original : 2011:05:29 09:48:10.22
Flash : Off, Did not fire
Circle Of Confusion : 0.023 mm
Field Of View : 31.4 deg
Focal Length : 50.0 mm (35 mm equivalent: 64.1 mm)
Hyperfocal Distance : 76.16 m
Light Value : 5.9
Lens ID : Canon EF 35-80mm f/4-5.6