Uber Exif Photo
Make : Canon
Camera Model Name : Canon EOS 5D Mark II
Software : GIMP 2.6.11
Modify Date : 2011:08:03 12:28:38
Artist : Photographe : Olivier DREAN.olivier@drean.info.www.drean.info
Copyright : Copyright : Olivier DREAN
Exposure Time : 1/400
F Number : 11.0
Exposure Program : Manual
ISO : 100
Date/Time Original : 2011:07:23 20:07:45
Create Date : 2011:07:23 20:07:45
Shutter Speed Value : 1/400
Aperture Value : 11.0
Exposure Compensation : 0
Max Aperture Value : 1.4
Metering Mode : Multi-segment
Flash : On, Did not fire
Focal Length : 35.0 mm
Color Space : Uncalibrated
Exposure Mode : Manual
White Balance : Auto
Scene Capture Type : Standard
Firmware : 2.0.9
Flash Compensation : 0
Image Number : 0
Lens : 35mm
Lens Info : 35mm f/?
Owner Name : Olivier DREAN
Serial Number : 730305237
Creator Tool : Adobe Photoshop Lightroom 3.4.1
Date Created : 2011:07:23 20:07:45.74
Creator : Photographe : Olivier DREAN.olivier@drean.info.www.drean.info
Rights : Copyright : Olivier DREAN
Subject : Canon 5D Mark II, Distagon T* 1.4/35, ISO 100, Pointe Saint Mathieu, ZE, Zeiss, f/11.0, noiretblanc
Version : 6.4.1
Process Version : 5.7
Incremental Temperature : 0
Incremental Tint : 0
Exposure : +0.20
Shadows : 3
Brightness : 0
Contrast : 0
Saturation : 0
Sharpness : 0
Luminance Smoothing : 0
Color Noise Reduction : 0
Chromatic Aberration R : 0
Chromatic Aberration B : 0
Vignette Amount : 0
Shadow Tint : 0
Red Hue : 0
Red Saturation : 0
Green Hue : 0
Green Saturation : 0
Blue Hue : 0
Blue Saturation : 0
Fill Light : 0
Vibrance : 0
Highlight Recovery : 0
Clarity : 0
Defringe : 0
Hue Adjustment Red : 0
Hue Adjustment Orange : 0
Hue Adjustment Yellow : 0
Hue Adjustment Green : 0
Hue Adjustment Aqua : 0
Hue Adjustment Blue : 0
Hue Adjustment Purple : 0
Hue Adjustment Magenta : 0
Saturation Adjustment Red : 0
Saturation Adjustment Orange : 0
Saturation Adjustment Yellow : 0
Saturation Adjustment Green : 0
Saturation Adjustment Aqua : 0
Saturation Adjustment Blue : 0
Saturation Adjustment Purple : 0
Saturation Adjustment Magenta : 0
Luminance Adjustment Red : 0
Luminance Adjustment Orange : 0
Luminance Adjustment Yellow : 0
Luminance Adjustment Green : 0
Luminance Adjustment Aqua : 0
Luminance Adjustment Blue : 0
Luminance Adjustment Purple : 0
Luminance Adjustment Magenta : 0
Split Toning Shadow Hue : 0
Split Toning Shadow Saturation : 0
Split Toning Highlight Hue : 0
Split Toning Highlight Saturation : 0
Split Toning Balance : 0
Parametric Shadows : 0
Parametric Darks : -15
Parametric Lights : 0
Parametric Highlights : 0
Parametric Shadow Split : 25
Parametric Midtone Split : 50
Parametric Highlight Split : 75
Sharpen Radius : +1.0
Sharpen Detail : 25
Sharpen Edge Masking : 0
Post Crop Vignette Amount : 0
Grain Amount : 0
Lens Profile Enable : 0
Lens Manual Distortion Amount : 0
Perspective Vertical : 0
Perspective Horizontal : 0
Perspective Rotate : 0.0
Perspective Scale : 100
Convert To Grayscale : False
Tone Curve Name : Linear
Camera Profile : Embedded
Lens Profile Setup : LensDefaults
Has Settings : True
Has Crop : False
Already Applied : True
Tone Curve : 0, 0, 255, 255
Image Width : 300
Image Height : 200
Bits Per Sample : 8
Color Components : 1
Aperture : 11.0
Image Size : 300x200
Megapixels : 0.060
Scale Factor To 35 mm Equivalent : 1.0
Shutter Speed : 1/400
Create Date : 2011:07:23 20:07:45.74
Circle Of Confusion : 0.031 mm
Field Of View : 55.6 deg
Focal Length : 35.0 mm (35 mm equivalent: 34.2 mm)
Hyperfocal Distance : 3.62 m
Light Value : 15.6
Lens ID : Carl Zeiss Distagon T* 35mm f/1.4 ZE